CHI v0.07 Perl 5 v5.6.2 x86_64-linux
- Status
- Pass
- From
- David Cantrell (DCANTRELL)
- Dist
-
CHI v0.07
- Platform
- Perl 5 v5.6.2 x86_64-linux
- Date
- 2010-09-02 11:12:37
- ID
- fe7d6ca2-b682-11df-84d1-301924310e15
This distribution has been tested as part of the CPAN Testers
project, supporting the Perl programming language. See
http://wiki.cpantesters.org/ for more information or email
questions to cpan-testers-discuss@perl.org
--
Dear Jonathan Swartz,
This is a computer-generated report for CHI-0.07
on perl 5.6.2, created by CPAN-Reporter-1.18.
Thank you for uploading your work to CPAN. Congratulations!
All tests were successful.
Sections of this report:
* Tester comments
* Program output
* Prerequisites
* Environment and other context
------------------------------
TESTER COMMENTS
------------------------------
Additional comments from tester:
this report is from an automated smoke testing program
and was not reviewed by a human for accuracy
------------------------------
PROGRAM OUTPUT
------------------------------
Output from '/usr/bin/make test':
/home/david/cpantesting/perl-5.6.2/bin/perl "-Iinc" Makefile.PL --config= --installdeps=Date::Parse,0,Test::Class,0,Digest::JHash,0,Hash::MoreUtils,0,Module::Find,0.05,Time::Duration::Parse,0.03
PERL_DL_NONLAZY=1 /home/david/cpantesting/perl-5.6.2/bin/perl "-MExtUtils::Command::MM" "-e" "test_harness(0, 'inc', 'blib/lib', 'blib/arch')" t/00-load.t t/critic.t t/Driver-CacheCache.t t/Driver-FastMmap.t t/Driver-File.t t/Driver-Memcached.t t/Driver-Memory.t t/Driver-Multilevel-Single.t t/Driver-Multilevel.t t/GetError.t t/Initialize.t t/pod.t t/RequiredModules.t t/Sanity.t t/SetError.t t/tidy.t t/Util.t
# Testing CHI 0.07, Perl 5.006002, /home/david/cpantesting/perl-5.6.2/bin/perl
t/00-load.t ................... ok
t/critic.t .................... skipped: internal test only
t/Driver-CacheCache.t ......... skipped: one of required modules not installed: {Cache::Cache => undef}
t/Driver-FastMmap.t ........... skipped: one of required modules not installed: {Cache::FastMmap => undef}
t/Driver-File.t ............... ok
t/Driver-Memcached.t .......... skipped: internal test only
t/Driver-Memory.t ............. ok
t/Driver-Multilevel-Single.t .. ok
t/Driver-Multilevel.t ......... ok
t/GetError.t .................. ok
t/Initialize.t ................ ok
t/pod.t ....................... skipped: internal test only
t/RequiredModules.t ........... skipped: internal test only
t/Sanity.t .................... ok
t/SetError.t .................. ok
t/tidy.t ...................... skipped: internal test only
t/Util.t ...................... ok
All tests successful.
Files=17, Tests=1153, 13 wallclock secs ( 0.15 usr 0.08 sys + 4.55 cusr 0.86 csys = 5.64 CPU)
Result: PASS
------------------------------
PREREQUISITES
------------------------------
Prerequisite modules loaded:
requires:
Module Need Have
------------------------- ---- -------
Data::UUID 0 1.215
Date::Parse 0 2.30
Digest::JHash 0 0.05
File::Slurp 0 9999.13
File::Spec 0.80 3.31
Hash::MoreUtils 0 0.02
List::MoreUtils 0.13 0.22
Module::Find 0.05 0.10
Module::Load::Conditional 0 0.38
Moose 0.33 0.40
Storable 0 2.21
Test::Class 0 0.36
Test::Deep 0 0.106
Test::More 0 0.96
Time::Duration::Parse 0.03 0.06
------------------------------
ENVIRONMENT AND OTHER CONTEXT
------------------------------
Environment variables:
AUTOMATED_TESTING = 1
PATH = /usr/local/bin:/usr/bin:/bin:/usr/games
PERL5LIB =
PERL5OPT =
PERL5_CPANPLUS_IS_RUNNING = 24144
PERL5_CPAN_IS_RUNNING = 24144
PERLVER = 5.6.2
PERL_INLINE_DIRECTORY = /home/david/.Inline-5.6.2
SHELL = /bin/bash
TERM = screen
Perl special variables (and OS-specific diagnostics, for MSWin32):
$^X = /home/david/cpantesting/perl-5.6.2/bin/perl
$UID/$EUID = 1000 / 1000
$GID = 1000 1000
$EGID = 1000 1000
Perl module toolchain versions installed:
Module Have
------------------- -------
CPAN 1.9402
Cwd 3.31
ExtUtils::CBuilder 0.27_05
ExtUtils::Command 1.16
ExtUtils::Install 1.54
ExtUtils::MakeMaker 6.56
ExtUtils::Manifest 1.56
ExtUtils::ParseXS 2.2206
File::Spec 3.31
Module::Build 0.3607
Module::Signature n/a
Test::Harness 3.22
Test::More 0.96
YAML n/a
YAML::Syck n/a
version 0.82
--
Summary of my perl5 (revision 5.0 version 6 subversion 2) configuration:
Platform:
osname=linux, osvers=2.6.18-4-xen-amd64, archname=x86_64-linux
uname='linux pigsty.barnyard.co.uk 2.6.18-4-xen-amd64 #1 smp fri may 4 02:40:51 utc 2007 x86_64 gnulinux '
config_args='-de -Dprefix=/home/david/cpantesting/perl-5.6.2'
hint=recommended, useposix=true, d_sigaction=define
usethreads=undef use5005threads=undef useithreads=undef usemultiplicity=undef
useperlio=undef d_sfio=undef uselargefiles=define usesocks=undef
use64bitint=define use64bitall=define uselongdouble=undef
Compiler:
cc='cc', ccflags ='-fno-strict-aliasing -I/usr/local/include -D_LARGEFILE_SOURCE -D_FILE_OFFSET_BITS=64',
optimize='-O2',
cppflags='-fno-strict-aliasing -I/usr/local/include'
ccversion='', gccversion='4.1.2 20061115 (prerelease) (Debian 4.1.1-21)', gccosandvers=''
intsize=4, longsize=8, ptrsize=8, doublesize=8, byteorder=12345678
d_longlong=define, longlongsize=8, d_longdbl=define, longdblsize=16
ivtype='long', ivsize=8, nvtype='double', nvsize=8, Off_t='off_t', lseeksize=8
alignbytes=8, usemymalloc=n, prototype=define
Linker and Libraries:
ld='cc', ldflags =' -L/usr/local/lib'
libpth=/usr/local/lib /lib /usr/lib
libs=-lnsl -lgdbm -ldb -ldl -lm -lc -lcrypt -lutil
perllibs=-lnsl -ldl -lm -lc -lcrypt -lutil
libc=/lib/libc-2.3.6.so, so=so, useshrplib=false, libperl=libperl.a
Dynamic Linking:
dlsrc=dl_dlopen.xs, dlext=so, d_dlsymun=undef, ccdlflags='-rdynamic'
cccdlflags='-fpic', lddlflags='-shared -L/usr/local/lib'
Characteristics of this binary (from libperl):
Compile-time options: USE_64_BIT_INT USE_64_BIT_ALL USE_LARGE_FILES
Built under linux
Compiled at Aug 25 2010 13:58:18
%ENV:
PERL5LIB=""
PERL5OPT=""
PERL5_CPANPLUS_IS_RUNNING="24144"
PERL5_CPAN_IS_RUNNING="24144"
PERLVER="5.6.2"
PERL_INLINE_DIRECTORY="/home/david/.Inline-5.6.2"
@INC:
/home/david/cpantesting/perl-5.6.2/lib/5.6.2/x86_64-linux
/home/david/cpantesting/perl-5.6.2/lib/5.6.2
/home/david/cpantesting/perl-5.6.2/lib/site_perl/5.6.2/x86_64-linux
/home/david/cpantesting/perl-5.6.2/lib/site_perl/5.6.2
/home/david/cpantesting/perl-5.6.2/lib/site_perl
.