FFI-Platypus v2.08 Perl 5 v5.36.0 darwin-thread-multi-2level
- Status
- Pass
- From
- Gintautas Grigelionis
- Dist
-
FFI-Platypus v2.08
- Platform
- Perl 5 v5.36.0 darwin-thread-multi-2level
- Date
- 2023-05-08 06:10:11
- ID
- fd698dcc-ed66-11ed-9cb0-d3d909af384d
This distribution has been tested as part of the CPAN Testers
project, supporting the Perl programming language. See
http://wiki.cpantesters.org/ for more information or email
questions to cpan-testers-discuss@perl.org
--
Dear Graham Ollis,
This is a computer-generated report for FFI-Platypus-2.08
on perl 5.36.0, created by CPAN-Reporter-1.2019.
Thank you for uploading your work to CPAN. Congratulations!
All tests were successful.
Sections of this report:
* Tester comments
* Program output
* Prerequisites
* Environment and other context
------------------------------
TESTER COMMENTS
------------------------------
Additional comments from tester:
none provided
------------------------------
PROGRAM OUTPUT
------------------------------
Output from '/usr/bin/make test':
"/usr/local/Cellar/perl/5.36.0/bin/perl" -MExtUtils::Command::MM -e 'cp_nonempty' -- lib/FFI/Platypus.bs blib/arch/auto/FFI/Platypus/Platypus.bs 644
CC t/ffi/align.c
CC t/ffi/align_array.c
CC t/ffi/align_fixed.c
CC t/ffi/align_string.c
CC t/ffi/basic.c
CC t/ffi/closure.c
CC t/ffi/color.c
CC t/ffi/complex_double.c
CC t/ffi/complex_float.c
CC t/ffi/double.c
CC t/ffi/float.c
CC t/ffi/gh117.c
CC t/ffi/gh174.c
CC t/ffi/longdouble.c
CC t/ffi/memcmp4.c
CC t/ffi/meta.c
CC t/ffi/pointer.c
CC t/ffi/record.c
CC t/ffi/sint16.c
CC t/ffi/sint32.c
CC t/ffi/sint64.c
CC t/ffi/sint8.c
CC t/ffi/string.c
CC t/ffi/string_array.c
CC t/ffi/uint16.c
CC t/ffi/uint32.c
CC t/ffi/uint64.c
CC t/ffi/uint8.c
CC t/ffi/variadic.c
LD t/ffi/libtest.dylib
PERL_DL_NONLAZY=1 "/usr/local/Cellar/perl/5.36.0/bin/perl" "-MExtUtils::Command::MM" "-MTest::Harness" "-e" "undef *Test::Harness::Switches; test_harness(0, 'blib/lib', 'blib/arch')" t/*.t
#
#
#
# HARNESS_ACTIVE=1
# HARNESS_VERSION=3.44
# LC_CTYPE=UTF-8
# PERL5LIB=/Users/gintas/.cpan/build/FFI-Platypus-2.08-0/blib/lib:/Users/gintas/.cpan/build/FFI-Platypus-2.08-0/blib/arch:/Users/gintas/Projects/perl5/lib/perl5/5.36.0/darwin-thread-multi-2level:/Users/gintas/Projects/perl5/lib/perl5/5.36.0:/Users/gintas/Projects/perl5/lib/perl5/darwin-thread-multi-2level:/Users/gintas/Projects/perl5/lib/perl5:/Users/gintas/Projects/perl5/lib/perl5
# PERL5OPT=
# PERL5_CPANPLUS_IS_RUNNING=64411
# PERL5_CPAN_IS_RUNNING=64411
# PERL_DL_NONLAZY=1
# PERL_LOCAL_LIB_ROOT=/Users/gintas/Projects/perl5
# PERL_MB_OPT=--install_base "/Users/gintas/Projects/perl5"
# PERL_MM_OPT=INSTALL_BASE=/Users/gintas/Projects/perl5
# PERL_USE_UNSAFE_INC=1
# SHELL=/bin/bash
#
#
#
# PERL5LIB path
# /Users/gintas/.cpan/build/FFI-Platypus-2.08-0/blib/lib
# /Users/gintas/.cpan/build/FFI-Platypus-2.08-0/blib/arch
# /Users/gintas/Projects/perl5/lib/perl5/5.36.0/darwin-thread-multi-2level
# /Users/gintas/Projects/perl5/lib/perl5/5.36.0
# /Users/gintas/Projects/perl5/lib/perl5/darwin-thread-multi-2level
# /Users/gintas/Projects/perl5/lib/perl5
# /Users/gintas/Projects/perl5/lib/perl5
#
#
#
# perl 5.036000 darwin darwin-thread-multi-2level
# Alien::Base 2.79
# Alien::FFI 0.27
# Capture::Tiny 0.48
# Devel::Hide 0.0015
# ExtUtils::CBuilder 0.280236
# ExtUtils::MakeMaker 7.70
# ExtUtils::ParseXS 3.44
# FFI::CheckLib 0.31
# File::Spec::Functions 3.84
# IPC::Cmd 1.04
# JSON::PP 4.16
# List::Util 1.63
# Math::LongDouble 0.23
# PkgConfig 0.25026
# Test2::API 1.302195
# Test2::V0 0.000155
# autodie 2.36
# constant 1.33
# forks 0.36
# parent 0.241
#
#
#
# mode : already-installed
# Alien::FFI->VERSION = 0.27
# Alien::FFI->install_type = share
# Alien::FFI->cflags = -I/Users/gintas/Projects/perl5/lib/perl5/darwin-thread-multi-2level/auto/share/dist/Alien-FFI/include
# Alien::FFI->libs = -L/Users/gintas/Projects/perl5/lib/perl5/darwin-thread-multi-2level/auto/share/dist/Alien-FFI/lib -lffi
# Alien::FFI->version = 3.4.4
# my_configure = %{configure} --disable-shared --enable-static --disable-builddir
#
#
#
# ffi.platypus.memory.strdup_impl =libc
# ffi.platypus.memory.strndup_impl=libc
#
#
#
# Types:
# double : double, float complex
# float : float
# longdouble : double complex, long double, long double complex
# sint16 : int16_t, short, signed short
# sint32 : blksize_t, dev_t, int, int32_t, senum, signed int, wchar_t, wint_t
# sint64 : blkcnt_t, int64_t, intmax_t, intptr_t, long, long long, off_t, ptrdiff_t, signed long, signed long long, ssize_t, time_t
# sint8 : char, int8_t, signed char
# uint16 : mode_t, nlink_t, uint16_t, unsigned short, ushort
# uint32 : enum, gid_t, uid_t, uint, uint32_t, unsigned int
# uint64 : ino_t, size_t, uint64_t, uintmax_t, uintptr_t, ulong, unsigned long, unsigned long long
# uint8 : bool, uchar, uint8_t, unsigned char
#
#
#
# ABIs:
# default_abi 2
# efi64 3
# gnuw64 4
# unix64 2
# win64 3
#
#
#
# Probes:
# recordvalue 1
# strnlen 1
# abi 1
# bigendian 0
# alloca 1
# variadic 1
# bigendian64 0
# longdouble 1
# complex 1
#
#
#
# [PLATFORM]
# osname : darwin
# cc : cc
# cxx : c++
# cxxld : c++
# for : gfortran
# ld : cc
# ccflags : -fno-common -DPERL_DARWIN -mmacosx-version-min=12.6 -fno-strict-aliasing -pipe -fstack-protector-strong -I/usr/local/include -DPERL_USE_SAFE_PUTENV -O3 -I/Users/gintas/.cpan/build/FFI-Platypus-2.08-0/blib/lib/auto/share/dist/FFI-Platypus/include
# ldflags : -mmacosx-version-min=12.6 -dynamiclib -undefined dynamic_lookup -L/usr/local/lib -fstack-protector-strong
# object suffix : .o
# library prefix : lib
# library suffix : .dylib,.bundle
# cc mm works : -MM
#
#
#
t/00_diag.t .............................. ok
t/ffi_build.t ............................ ok
t/ffi_build_file_base.t .................. ok
t/ffi_build_file_c.t ..................... ok
t/ffi_build_file_cxx.t ................... ok
t/ffi_build_file_library.t ............... ok
t/ffi_build_file_object.t ................ ok
t/ffi_build_mm.t ......................... ok
t/ffi_build_platform.t ................... ok
t/ffi_build_plugin.t ..................... ok
t/ffi_build_plugindata.t ................. ok
t/ffi_platypus.t ......................... ok
t/ffi_platypus_api.t ..................... ok
t/ffi_platypus_buffer.t .................. ok
t/ffi_platypus_bundle.t .................. ok
t/ffi_platypus_closure.t ................. ok
t/ffi_platypus_constant.t ................ ok
t/ffi_platypus_dl.t ...................... ok
t/ffi_platypus_function.t ................ ok
t/ffi_platypus_function_wrapper.t ........ ok
t/ffi_platypus_internal.t ................ ok
t/ffi_platypus_lang.t .................... ok
t/ffi_platypus_lang_asm.t ................ ok
t/ffi_platypus_lang_c.t .................. ok
t/ffi_platypus_lang_win32.t .............. ok
t/ffi_platypus_legacy.t .................. ok
t/ffi_platypus_memory.t .................. ok
t/ffi_platypus_record.t .................. ok
t/ffi_platypus_record_meta.t ............. ok
t/ffi_platypus_record_tiearray.t ......... ok
t/ffi_platypus_shareconfig.t ............. ok
t/ffi_platypus_type.t .................... ok
t/ffi_platypus_type_pointersizebuffer.t .. ok
t/ffi_platypus_type_stringarray.t ........ ok
t/ffi_platypus_type_stringpointer.t ...... ok
t/ffi_platypus_type_widestring.t ......... ok
t/ffi_platypus_typeparser.t .............. ok
t/ffi_platypus_typeparser_version0.t ..... ok
t/ffi_platypus_typeparser_version1.t ..... ok
t/ffi_platypus_typeparser_version2.t ..... ok
t/ffi_probe.t ............................ ok
t/ffi_probe_runner.t ..................... ok
t/ffi_probe_runner_builder.t ............. ok
t/ffi_probe_runner_result.t .............. ok
t/ffi_temp.t ............................. ok
t/forks.t ................................ ok
t/gh117.t ................................ ok
t/gh129.t ................................ ok
t/gh323.t ................................ ok
t/memory.t ............................... skipped: tested only in CI
t/threads.t .............................. ok
t/type_complex_double.t .................. ok
t/type_complex_float.t ................... ok
t/type_custom.t .......................... ok
t/type_double.t .......................... ok
t/type_float.t ........................... ok
t/type_longdouble.t ...................... ok
t/type_longdouble__array.t ............... ok
t/type_longdouble__hide.t ................ ok
t/type_longdouble__ptr.t ................. ok
t/type_opaque.t .......................... ok
t/type_record.t .......................... ok
t/type_record_value.t .................... ok
t/type_sint16.t .......................... ok
t/type_sint32.t .......................... ok
t/type_sint64.t .......................... ok
t/type_sint8.t ........................... ok
t/type_string.t .......................... ok
t/type_uint16.t .......................... ok
t/type_uint32.t .......................... ok
t/type_uint64.t .......................... ok
t/type_uint8.t ........................... ok
All tests successful.
Files=72, Tests=325, 56 wallclock secs ( 0.40 usr 0.16 sys + 19.34 cusr 7.73 csys = 27.63 CPU)
Result: PASS
------------------------------
PREREQUISITES
------------------------------
Prerequisite modules loaded:
requires:
Module Need Have
--------------------- -------- --------
autodie 0 2.36
Capture::Tiny 0 0.48
constant 1.32 1.33
ExtUtils::MakeMaker 7.12 7.70
FFI::CheckLib 0.05 0.31
File::Spec::Functions 0 3.84
IPC::Cmd 0 1.04
JSON::PP 0 4.16
List::Util 1.45 1.63
parent 0 0.241
perl 5.008004 5.036000
build_requires:
Module Need Have
--------------------- -------- --------
Alien::FFI 0.20 0.27
Capture::Tiny 0 0.48
ExtUtils::CBuilder 0 0.280236
Test2::API 1.302015 1.302195
Test2::V0 0.000121 0.000155
configure_requires:
Module Need Have
--------------------- -------- --------
Capture::Tiny 0 0.48
ExtUtils::MakeMaker 7.12 7.70
ExtUtils::ParseXS 3.30 3.44
IPC::Cmd 0 1.04
JSON::PP 0 4.16
parent 0 0.241
perl 5.006 5.036000
------------------------------
ENVIRONMENT AND OTHER CONTEXT
------------------------------
Environment variables:
LC_CTYPE = UTF-8
PATH = /Users/gintas/Projects/perl5/bin:/usr/local/bin:/usr/bin:/bin:/usr/sbin:/sbin:/usr/local/MacGPG2/bin:/opt/X11/bin:/Library/Apple/usr/bin
PERL5LIB = /Users/gintas/Projects/perl5/lib/perl5
PERL5OPT =
PERL5_CPANPLUS_IS_RUNNING = 64411
PERL5_CPAN_IS_RUNNING = 64411
PERL_LOCAL_LIB_ROOT = /Users/gintas/Projects/perl5
PERL_MB_OPT = --install_base "/Users/gintas/Projects/perl5"
PERL_MM_OPT = INSTALL_BASE=/Users/gintas/Projects/perl5
PERL_USE_UNSAFE_INC = 1
SHELL = /bin/bash
TERM = xterm-256color
TMPDIR = /var/folders/7j/gsygg6dj3yg5vj5ph2nk1x880000gn/T/
Perl special variables (and OS-specific diagnostics, for MSWin32):
$^X = /usr/local/Cellar/perl/5.36.0/bin/perl
$UID/$EUID = 501 / 501
$GID = 20 20 701 12 61 79 80 81 98 703 702 704 33 100 204 250 395
$EGID = 20 20 701 12 61 79 80 81 98 703 702 704 33 100 204 250 395
Perl module toolchain versions installed:
Module Have
------------------- --------
CPAN 2.35
CPAN::Meta 2.150010
Cwd 3.84
ExtUtils::CBuilder 0.280236
ExtUtils::Command 7.70
ExtUtils::Install 2.22
ExtUtils::MakeMaker 7.70
ExtUtils::Manifest 1.75
ExtUtils::ParseXS 3.44
File::Spec 3.84
JSON 4.10
JSON::PP 4.16
Module::Build 0.4234
Module::Signature 0.88
Parse::CPAN::Meta 2.150010
Test2 1.302195
Test::Harness 3.44
Test::More 1.302195
YAML 1.30
YAML::Syck 1.34
version 0.9929
--
Summary of my perl5 (revision 5 version 36 subversion 0) configuration:
Platform:
osname=darwin
osvers=21.6.0
archname=darwin-thread-multi-2level
uname='darwin monterey 21.6.0 darwin kernel version 21.6.0: mon aug 22 20:17:10 pdt 2022; root:xnu-8020.140.49~2release_x86_64 x86_64 '
config_args='-des -Dinstallstyle=lib/perl5 -Dinstallprefix=/usr/local/Cellar/perl/5.36.0 -Dprefix=/usr/local/opt/perl -Dprivlib=/usr/local/opt/perl/lib/perl5/5.36 -Dsitelib=/usr/local/opt/perl/lib/perl5/site_perl/5.36 -Dotherlibdirs=/usr/local/lib/perl5/site_perl/5.36 -Dperlpath=/usr/local/opt/perl/bin/perl -Dstartperl=#!/usr/local/opt/perl/bin/perl -Dman1dir=/usr/local/opt/perl/share/man/man1 -Dman3dir=/usr/local/opt/perl/share/man/man3 -Duseshrplib -Duselargefiles -Dusethreads'
hint=recommended
useposix=true
d_sigaction=define
useithreads=define
usemultiplicity=define
use64bitint=define
use64bitall=define
uselongdouble=undef
usemymalloc=n
default_inc_excludes_dot=define
Compiler:
cc='cc'
ccflags ='-fno-common -DPERL_DARWIN -mmacosx-version-min=12.6 -fno-strict-aliasing -pipe -fstack-protector-strong -I/usr/local/include -DPERL_USE_SAFE_PUTENV'
optimize='-O3'
cppflags='-fno-common -DPERL_DARWIN -mmacosx-version-min=12.6 -fno-strict-aliasing -pipe -fstack-protector-strong -I/usr/local/include'
ccversion=''
gccversion='Apple LLVM 14.0.0 (clang-1400.0.29.102)'
gccosandvers=''
intsize=4
longsize=8
ptrsize=8
doublesize=8
byteorder=12345678
doublekind=3
d_longlong=define
longlongsize=8
d_longdbl=define
longdblsize=16
longdblkind=3
ivtype='long'
ivsize=8
nvtype='double'
nvsize=8
Off_t='off_t'
lseeksize=8
alignbytes=8
prototype=define
Linker and Libraries:
ld='cc'
ldflags =' -mmacosx-version-min=12.6 -fstack-protector-strong -L/usr/local/lib'
libpth=/usr/local/opt/openssl@1.1/lib /usr/local/opt/berkeley-db/lib /usr/local/lib /Applications/Xcode.app/Contents/Developer/Toolchains/XcodeDefault.xctoolchain/usr/lib/clang/14.0.0/lib /Library/Developer/CommandLineTools/SDKs/MacOSX12.sdk/usr/lib /Applications/Xcode.app/Contents/Developer/Toolchains/XcodeDefault.xctoolchain/usr/lib /usr/lib
libs=-lgdbm -ldb
perllibs=
libc=
so=dylib
useshrplib=true
libperl=libperl.dylib
gnulibc_version=''
Dynamic Linking:
dlsrc=dl_dlopen.xs
dlext=bundle
d_dlsymun=undef
ccdlflags=' '
cccdlflags=' '
lddlflags=' -mmacosx-version-min=12.6 -bundle -undefined dynamic_lookup -L/usr/local/lib -fstack-protector-strong'
Characteristics of this binary (from libperl):
Compile-time options:
HAS_TIMES
MULTIPLICITY
PERLIO_LAYERS
PERL_COPY_ON_WRITE
PERL_DONT_CREATE_GVSV
PERL_MALLOC_WRAP
PERL_OP_PARENT
PERL_PRESERVE_IVUV
PERL_USE_SAFE_PUTENV
USE_64_BIT_ALL
USE_64_BIT_INT
USE_ITHREADS
USE_LARGE_FILES
USE_LOCALE
USE_LOCALE_COLLATE
USE_LOCALE_CTYPE
USE_LOCALE_NUMERIC
USE_LOCALE_TIME
USE_PERLIO
USE_PERL_ATOF
USE_REENTRANT_API
USE_THREAD_SAFE_LOCALE
Built under darwin
Compiled at Oct 3 2022 21:04:43
%ENV:
PERL5LIB="/Users/gintas/Projects/perl5/lib/perl5"
PERL5OPT=""
PERL5_CPANPLUS_IS_RUNNING="64411"
PERL5_CPAN_IS_RUNNING="64411"
PERL_LOCAL_LIB_ROOT="/Users/gintas/Projects/perl5"
PERL_MB_OPT="--install_base "/Users/gintas/Projects/perl5""
PERL_MM_OPT="INSTALL_BASE=/Users/gintas/Projects/perl5"
PERL_USE_UNSAFE_INC="1"
@INC:
/Users/gintas/Projects/perl5/lib/perl5/5.36.0/darwin-thread-multi-2level
/Users/gintas/Projects/perl5/lib/perl5/5.36.0
/Users/gintas/Projects/perl5/lib/perl5/darwin-thread-multi-2level
/Users/gintas/Projects/perl5/lib/perl5
/usr/local/opt/perl/lib/perl5/site_perl/5.36/darwin-thread-multi-2level
/usr/local/opt/perl/lib/perl5/site_perl/5.36
/usr/local/opt/perl/lib/perl5/5.36/darwin-thread-multi-2level
/usr/local/opt/perl/lib/perl5/5.36
/usr/local/lib/perl5/site_perl/5.36
.