FunctionalPerl v0.72.76 Perl 5 v5.36.0 armv6l-linux

Status
Pass
From
gregor herrmann
Dist
FunctionalPerl v0.72.76
Platform
Perl 5 v5.36.0 armv6l-linux
Date
2023-01-23 04:32:48
ID
fd4ebfac-9ad6-11ed-99dc-766032c55eda
This distribution has been tested as part of the CPAN Testers
project, supporting the Perl programming language.  See
http://wiki.cpantesters.org/ for more information or email
questions to cpan-testers-discuss@perl.org


--
Dear Christian Jaeger,

This is a computer-generated report for FunctionalPerl-0.72.76
on perl 5.36.0, created by CPAN-Reporter-1.2018.

Thank you for uploading your work to CPAN.  Congratulations!
All tests were successful.

Sections of this report:

    * Tester comments
    * Program output
    * Prerequisites
    * Environment and other context

------------------------------
TESTER COMMENTS
------------------------------

Additional comments from tester:

this report is from an automated smoke testing program
and was not reviewed by a human for accuracy

------------------------------
PROGRAM OUTPUT
------------------------------

Output from '/usr/bin/make test':

PERL_DL_NONLAZY=1 "/srv/smoker/perl5/perlbrew/perls/perl-5.36.0/bin/perl" "-MExtUtils::Command::MM" "-MTest::Harness" "-e" "undef *Test::Harness::Switches; test_harness(0, 'blib/lib', 'blib/arch')" t/*.t
t/csv_to_xml.t ........................... ok
t/dbi.t .................................. ok
t/examples-csv-to-json.t ................. ok
times for fib: user = 5.57, system = 0.02, cuser = 0, csystem = 0
times for fibonacci: user = 4.45, system = 0, cuser = 0, csystem = 0
t/examples-fibs.t ........................ ok
t/examples-functional-classes.t .......... ok
not activating since running in test mode at examples//../lib/FP/Repl/Trap.pm line 47.
t/examples-hiring-without-whiteboards.t .. ok
not activating since running in test mode at examples//../lib/FP/Repl/Trap.pm line 47.
t/examples-logic.t ....................... ok
t/examples-perlweekly-111-1.t ............ ok
times: user = 0.83, system = 0.02, cuser = 0, csystem = 0
times: user = 1.62, system = 0.01, cuser = 0, csystem = 0
times: user = 1.64, system = 0, cuser = 0, csystem = 0
t/examples-perlweekly-113-1.t ............ ok
t/examples-perlweekly-113-2.t ............ ok
t/examples-primes.t ...................... skipped: could not use Method::Signatures
t/functional_XML-t-div.t ................. ok
t/functional_XML-test.t .................. ok
Use of @_ in list assignment with signatured subroutine is experimental at ../.htmlgen/FunctionalPerl/Htmlgen/PathTranslate.pm line 77.
Implicit use of @_ in goto with signatured subroutine is experimental at ../.htmlgen/FunctionalPerl/Htmlgen/PathTranslate.pm line 77.
Use of @_ in list assignment with signatured subroutine is experimental at ../.htmlgen/FunctionalPerl/Htmlgen/PathTranslate.pm line 81.
Implicit use of @_ in goto with signatured subroutine is experimental at ../.htmlgen/FunctionalPerl/Htmlgen/PathTranslate.pm line 81.
Use of @_ in list assignment with signatured subroutine is experimental at ../.htmlgen/FunctionalPerl/Htmlgen/PathTranslate.pm line 83.
Implicit use of @_ in goto with signatured subroutine is experimental at ../.htmlgen/FunctionalPerl/Htmlgen/PathTranslate.pm line 83.
t/htmlgen.t .............................. ok
not activating since running in test mode at intro//../lib/FP/Repl/AutoTrap.pm line 64.
t/intro-basics.t ......................... ok
t/perl-goto-leak.t ....................... ok
t/perl-weaken-coderef-correctness.t ...... ok
t/perl-weaken-coderef.t .................. ok
Exception: Label not found for "last T2_SUBTEST_WRAPPER" at /srv/smoker/perl5/perlbrew/perls/perl-5.36.0/lib/site_perl/5.36.0/Test2/Hub/Subtest.pm line 67.
 at /srv/smoker/perl5/perlbrew/perls/perl-5.36.0/lib/site_perl/5.36.0/Test2/Hub/Subtest.pm line 67.
	Test2::Hub::Subtest::terminate(Test2::Hub::Subtest=HASH(0x32fd5c0), 0, Test2::Event::Plan=HASH(0x3306380), HASH(0x3306de0)) called at /srv/smoker/perl5/perlbrew/perls/perl-5.36.0/lib/site_perl/5.36.0/Test2/Hub.pm line 386
	Test2::Hub::process(Test2::Hub::Subtest=HASH(0x32fd5c0), Test2::Event::Plan=HASH(0x3306380)) called at /srv/smoker/perl5/perlbrew/perls/perl-5.36.0/lib/site_perl/5.36.0/Test2/Hub.pm line 306
	Test2::Hub::send(Test2::Hub::Subtest=HASH(0x32fd5c0), Test2::Event::Plan=HASH(0x3306380)) called at /srv/smoker/perl5/perlbrew/perls/perl-5.36.0/lib/site_perl/5.36.0/Test2/Hub/Subtest.pm line 34
	Test2::Hub::Subtest::send(Test2::Hub::Subtest=HASH(0x32fd5c0), Test2::Event::Plan=HASH(0x3306380)) called at /srv/smoker/perl5/perlbrew/perls/perl-5.36.0/lib/site_perl/5.36.0/Test2/API/Context.pm line 272
	Test2::API::Context::send_event(Test2::API::Context=HASH(0x3306ca0), "Plan", "max", 0, "directive", "SKIP", "reason", "FunctionalPerl::Dependencies::ChjBin import: these programs a"...) called at /srv/smoker/perl5/perlbrew/perls/perl-5.36.0/lib/site_perl/5.36.0/Test2/API/Context.pm line 448
	Test2::API::Context::plan(Test2::API::Context=HASH(0x3306ca0), 0, "SKIP", "FunctionalPerl::Dependencies::ChjBin import: these programs a"...) called at /srv/smoker/perl5/perlbrew/perls/perl-5.36.0/lib/site_perl/5.36.0/Test/Builder.pm line 660
	Test::Builder::skip_all(Test::Builder=HASH(0xb31ec0), "FunctionalPerl::Dependencies::ChjBin import: these programs a"...) called at /srv/smoker/perl5/perlbrew/perls/perl-5.36.0/lib/site_perl/5.36.0/Test/Requires.pm line 44
	Test::Requires::__ANON__("FunctionalPerl::Dependencies::ChjBin import: these programs a"...) called at /srv/smoker/perl5/perlbrew/perls/perl-5.36.0/lib/site_perl/5.36.0/Test/Requires.pm line 71
	Test::Requires::test_requires("FunctionalPerl::Dependencies::ChjBin", "\"trigger-listen\"", "t_pod_snippets_112") called at /srv/smoker/perl5/perlbrew/perls/perl-5.36.0/lib/site_perl/5.36.0/Test/Requires.pm line 21
	Test::Requires::import("Test::Requires", HASH(0x32fd950)) called at meta/FunctionalPerl/Dependencies/ChjBin.pm line 19
	t_pod_snippets_112::BEGIN() called at meta/FunctionalPerl/Dependencies/ChjBin.pm line 19
	eval {...} called at meta/FunctionalPerl/Dependencies/ChjBin.pm line 19
	eval 'package main; package t_pod_snippets_112; use Test::More ;
{
no warnings;
use strict;    # things are likely to be sloppy

ok 1 => \'the tests compile\';   


#line 16 meta/FunctionalPerl/Dependencies/ChjBin.pm
use Chj::TEST use => \'FunctionalPerl::Dependencies::ChjBin\';
# or
use Test::Requires +{
    \'FunctionalPerl::Dependencies::ChjBin\' => \'"trigger-listen"\' };
# or
#  list in FunctionalPerl::Dependencies\'s %dependencies

;


ok 1 => \'we reached the end!\';

}
; 
1' called at lib/FP/Repl/WithRepl.pm line 75
	FP::Repl::WithRepl::WithRepl_eval("package t_pod_snippets_112; use Test::More ;\x{a}{\x{a}no warnings;\x{a}u"...) called at t/pod_snippets.t line 37
	main::myeval("package t_pod_snippets_112; use Test::More ;\x{a}{\x{a}no warnings;\x{a}u"...) called at t/pod_snippets.t line 158
	main::__ANON__() called at /srv/smoker/perl5/perlbrew/perls/perl-5.36.0/lib/site_perl/5.36.0/Test/Builder.pm line 374
	eval {...} called at /srv/smoker/perl5/perlbrew/perls/perl-5.36.0/lib/site_perl/5.36.0/Test/Builder.pm line 374
	Test::Builder::subtest(Test::Builder=HASH(0xb31ec0), "pod snippets in FunctionalPerl::Dependencies::ChjBin", CODE(0x1535520)) called at /srv/smoker/perl5/perlbrew/perls/perl-5.36.0/lib/site_perl/5.36.0/Test/More.pm line 809
	Test::More::subtest("pod snippets in FunctionalPerl::Dependencies::ChjBin", CODE(0x1535520)) called at t/pod_snippets.t line 183
BEGIN failed--compilation aborted at meta/FunctionalPerl/Dependencies/ChjBin.pm line 19.
 at meta/FunctionalPerl/Dependencies/ChjBin.pm line 19.
	eval 'package main; package t_pod_snippets_112; use Test::More ;
{
no warnings;
use strict;    # things are likely to be sloppy

ok 1 => \'the tests compile\';   


#line 16 meta/FunctionalPerl/Dependencies/ChjBin.pm
use Chj::TEST use => \'FunctionalPerl::Dependencies::ChjBin\';
# or
use Test::Requires +{
    \'FunctionalPerl::Dependencies::ChjBin\' => \'"trigger-listen"\' };
# or
#  list in FunctionalPerl::Dependencies\'s %dependencies

;


ok 1 => \'we reached the end!\';

}
; 
1' called at lib/FP/Repl/WithRepl.pm line 75
	FP::Repl::WithRepl::WithRepl_eval("package t_pod_snippets_112; use Test::More ;\x{a}{\x{a}no warnings;\x{a}u"...) called at t/pod_snippets.t line 37
	main::myeval("package t_pod_snippets_112; use Test::More ;\x{a}{\x{a}no warnings;\x{a}u"...) called at t/pod_snippets.t line 158
	main::__ANON__() called at /srv/smoker/perl5/perlbrew/perls/perl-5.36.0/lib/site_perl/5.36.0/Test/Builder.pm line 374
	eval {...} called at /srv/smoker/perl5/perlbrew/perls/perl-5.36.0/lib/site_perl/5.36.0/Test/Builder.pm line 374
	Test::Builder::subtest(Test::Builder=HASH(0xb31ec0), "pod snippets in FunctionalPerl::Dependencies::ChjBin", CODE(0x1535520)) called at /srv/smoker/perl5/perlbrew/perls/perl-5.36.0/lib/site_perl/5.36.0/Test/More.pm line 809
	Test::More::subtest("pod snippets in FunctionalPerl::Dependencies::ChjBin", CODE(0x1535520)) called at t/pod_snippets.t line 183


    #   Failed test 'pod snippets in FunctionalPerl::Dependencies::ChjBin'
    #   at t/pod_snippets.t line 177.
    # Looks like you failed 1 test of 1.
t/pod_snippets.t ......................... ok
t/predicates.t ........................... ok
t/repl.t ................................. ok
Use of @_ in list assignment with signatured subroutine is experimental at .htmlgen/FunctionalPerl/Htmlgen/PathTranslate.pm line 77.
Implicit use of @_ in goto with signatured subroutine is experimental at .htmlgen/FunctionalPerl/Htmlgen/PathTranslate.pm line 77.
Use of @_ in list assignment with signatured subroutine is experimental at .htmlgen/FunctionalPerl/Htmlgen/PathTranslate.pm line 81.
Implicit use of @_ in goto with signatured subroutine is experimental at .htmlgen/FunctionalPerl/Htmlgen/PathTranslate.pm line 81.
Use of @_ in list assignment with signatured subroutine is experimental at .htmlgen/FunctionalPerl/Htmlgen/PathTranslate.pm line 83.
Implicit use of @_ in goto with signatured subroutine is experimental at .htmlgen/FunctionalPerl/Htmlgen/PathTranslate.pm line 83.
not activating since running in test mode at lib/FP/Repl/AutoTrap.pm line 64.
not activating since running in test mode at lib/FP/Repl/Trap.pm line 47.
Reference is already weak at lib/FP/Stream.pm line 770.
t/require_and_run_tests.t ................ ok
t/skip-internal.t ........................ ok
t/skip-leak.t ............................ ok
t/skip.t ................................. ok
t/testlazy.t ............................. ok
t/testlazy10.t ........................... ok
t/trampoline-fix.t ....................... skipped: Test requires module 'Method::Signatures' but it's not found
All tests successful.
Files=28, Tests=182, 730 wallclock secs ( 4.68 usr  0.73 sys + 597.41 cusr 28.24 csys = 631.06 CPU)
Result: PASS

------------------------------
PREREQUISITES
------------------------------

Prerequisite modules loaded:

requires:

    Module              Need     Have    
    ------------------- -------- --------
    autobox             0        v3.0.1  
    base                0        2.27    
    Digest              0        1.20    
    File::Path          0        2.18    
    Getopt::Long        0        2.54    
    Import::Into        0        1.002005
    Math::BigInt        0        1.999837
    NEXT                0        0.69    
    perl                5.016004 5.036000
    PerlIO::utf8_strict 0        0.010   
    Safe::Isa           0        1.000010
    Scalar::Util        0        1.63    
    Symbol              0        1.09    
    Test::More          0.96     1.302191
    utf8                0        1.24    

build_requires:

    Module              Need     Have    
    ------------------- -------- --------
    BSD::Resource       0        1.2911  
    Capture::Tiny       0        0.48    
    DBD::CSV            0        0.60    
    DBI                 0        1.643   
    ExtUtils::MakeMaker 0        7.66    
    File::chdir         0        0.1010  
    Sub::Util           0        1.63    
    Test::Pod::Snippets 0        0.07    
    Test::Requires      0        0.11    
    Text::CSV           0        2.02    
    URI                 0        5.17    

configure_requires:

    Module              Need     Have    
    ------------------- -------- --------
    ExtUtils::MakeMaker 0        7.66    


------------------------------
ENVIRONMENT AND OTHER CONTEXT
------------------------------

Environment variables:

    AUTOMATED_TESTING = 1
    LC_CTYPE = de_AT.utf8
    LD_LIBRARY_PATH = /usr/lib/libeatmydata
    NONINTERACTIVE_TESTING = 1
    PATH = /srv/smoker/bin:/usr/lib/ccache:/srv/smoker/perl5/perlbrew/bin:/srv/smoker/perl5/perlbrew/perls/perl-5.36.0/bin:/usr/local/bin:/usr/bin:/bin:/usr/local/games:/usr/games
    PERL5LIB = 
    PERL5OPT = 
    PERL5_CPANPLUS_IS_RUNNING = 30711
    PERL5_CPAN_IS_RUNNING = 30711
    PERL5_CPAN_IS_RUNNING_IN_RECURSION = 8105,30711
    PERLBREW_HOME = /srv/smoker/.perlbrew
    PERLBREW_MANPATH = /srv/smoker/perl5/perlbrew/perls/perl-5.36.0/man
    PERLBREW_PATH = /srv/smoker/perl5/perlbrew/bin:/srv/smoker/perl5/perlbrew/perls/perl-5.36.0/bin
    PERLBREW_PERL = perl-5.36.0
    PERLBREW_ROOT = /srv/smoker/perl5/perlbrew
    PERLBREW_SHELLRC_VERSION = 0.96
    PERLBREW_VERSION = 0.96
    PERL_CPANM_OPT = --prompt  --configure-timeout 300 --build-timeout 18000 --test-timeout 18000 --from https://www.cpan.org
    PERL_CR_SMOKER_CURRENT = FunctionalPerl-0.72.76
    PERL_EXTUTILS_AUTOINSTALL = --defaultdeps
    PERL_MM_USE_DEFAULT = 1
    PERL_TEST_TIME_OUT_FACTOR = 3
    PERL_TEST_TIME_OUT_FACTOR = 3
    PERL_USE_UNSAFE_INC = 1
    SHELL = /bin/bash
    TERM = screen-256color

Perl special variables (and OS-specific diagnostics, for MSWin32):

    $^X = /srv/smoker/perl5/perlbrew/perls/perl-5.36.0/bin/perl
    $UID/$EUID = 1111 / 1111
    $GID = 65534 65534
    $EGID = 65534 65534

Perl module toolchain versions installed:

    Module              Have    
    ------------------- --------
    CPAN                2.34    
    CPAN::Meta          2.150010
    Cwd                 3.84    
    ExtUtils::CBuilder  0.280236
    ExtUtils::Command   7.66    
    ExtUtils::Install   2.22    
    ExtUtils::MakeMaker 7.66    
    ExtUtils::Manifest  1.73    
    ExtUtils::ParseXS   3.45    
    File::Spec          3.84    
    JSON                4.10    
    JSON::PP            4.16    
    Module::Build       0.4232  
    Module::Signature   n/a     
    Parse::CPAN::Meta   2.150010
    Test::Harness       3.44    
    Test::More          1.302191
    YAML                1.30    
    YAML::Syck          1.34    
    version             0.9929  


--

Summary of my perl5 (revision 5 version 36 subversion 0) configuration:
   
  Platform:
    osname=linux
    osvers=5.15.32+
    archname=armv6l-linux
    uname='linux smoker 5.15.32+ #1538 thu mar 31 19:37:58 bst 2022 armv6l gnulinux '
    config_args='-de -Dprefix=/srv/smoker/perl5/perlbrew/perls/perl-5.36.0 -Aeval:scriptdir=/srv/smoker/perl5/perlbrew/perls/perl-5.36.0/bin'
    hint=recommended
    useposix=true
    d_sigaction=define
    useithreads=undef
    usemultiplicity=undef
    use64bitint=undef
    use64bitall=undef
    uselongdouble=undef
    usemymalloc=n
    default_inc_excludes_dot=define
  Compiler:
    cc='cc'
    ccflags ='-fwrapv -fno-strict-aliasing -pipe -fstack-protector-strong -I/usr/local/include -D_LARGEFILE_SOURCE -D_FILE_OFFSET_BITS=64 -D_FORTIFY_SOURCE=2'
    optimize='-O2'
    cppflags='-fwrapv -fno-strict-aliasing -pipe -fstack-protector-strong -I/usr/local/include'
    ccversion=''
    gccversion='11.3.0'
    gccosandvers=''
    intsize=4
    longsize=4
    ptrsize=4
    doublesize=8
    byteorder=1234
    doublekind=3
    d_longlong=define
    longlongsize=8
    d_longdbl=define
    longdblsize=8
    longdblkind=0
    ivtype='long'
    ivsize=4
    nvtype='double'
    nvsize=8
    Off_t='off_t'
    lseeksize=8
    alignbytes=8
    prototype=define
  Linker and Libraries:
    ld='cc'
    ldflags =' -fstack-protector-strong -L/usr/local/lib'
    libpth=/usr/local/lib /usr/lib/arm-linux-gnueabihf /usr/lib /lib/arm-linux-gnueabihf /lib
    libs=-lpthread -lnsl -ldb -ldl -lm -lcrypt -lutil -lc
    perllibs=-lpthread -lnsl -ldl -lm -lcrypt -lutil -lc
    libc=libc-2.33.so
    so=so
    useshrplib=false
    libperl=libperl.a
    gnulibc_version='2.33'
  Dynamic Linking:
    dlsrc=dl_dlopen.xs
    dlext=so
    d_dlsymun=undef
    ccdlflags='-Wl,-E'
    cccdlflags='-fPIC'
    lddlflags='-shared -O2 -L/usr/local/lib -fstack-protector-strong'


Characteristics of this binary (from libperl): 
  Compile-time options:
    HAS_TIMES
    PERLIO_LAYERS
    PERL_COPY_ON_WRITE
    PERL_DONT_CREATE_GVSV
    PERL_MALLOC_WRAP
    PERL_OP_PARENT
    PERL_PRESERVE_IVUV
    USE_LARGE_FILES
    USE_LOCALE
    USE_LOCALE_COLLATE
    USE_LOCALE_CTYPE
    USE_LOCALE_NUMERIC
    USE_LOCALE_TIME
    USE_PERLIO
    USE_PERL_ATOF
  Built under linux
  Compiled at May 28 2022 12:25:14
  %ENV:
    PERL5LIB=""
    PERL5OPT=""
    PERL5_CPANPLUS_IS_RUNNING="30711"
    PERL5_CPAN_IS_RUNNING="30711"
    PERL5_CPAN_IS_RUNNING_IN_RECURSION="8105,30711"
    PERLBREW_HOME="/srv/smoker/.perlbrew"
    PERLBREW_MANPATH="/srv/smoker/perl5/perlbrew/perls/perl-5.36.0/man"
    PERLBREW_PATH="/srv/smoker/perl5/perlbrew/bin:/srv/smoker/perl5/perlbrew/perls/perl-5.36.0/bin"
    PERLBREW_PERL="perl-5.36.0"
    PERLBREW_ROOT="/srv/smoker/perl5/perlbrew"
    PERLBREW_SHELLRC_VERSION="0.96"
    PERLBREW_VERSION="0.96"
    PERL_CPANM_OPT="--prompt  --configure-timeout 300 --build-timeout 18000 --test-timeout 18000 --from https://www.cpan.org"
    PERL_CR_SMOKER_CURRENT="FunctionalPerl-0.72.76"
    PERL_EXTUTILS_AUTOINSTALL="--defaultdeps"
    PERL_MM_USE_DEFAULT="1"
    PERL_TEST_TIME_OUT_FACTOR="3"
    PERL_USE_UNSAFE_INC="1"
  @INC:
    /srv/smoker/perl5/perlbrew/perls/perl-5.36.0/lib/site_perl/5.36.0/armv6l-linux
    /srv/smoker/perl5/perlbrew/perls/perl-5.36.0/lib/site_perl/5.36.0
    /srv/smoker/perl5/perlbrew/perls/perl-5.36.0/lib/5.36.0/armv6l-linux
    /srv/smoker/perl5/perlbrew/perls/perl-5.36.0/lib/5.36.0
    .