Task-BeLike-GEEKRUTH v1.0301 Perl 5 v5.18.4 x86_64-linux

Status
Pass
From
Andreas J. König (ANDK)
Dist
Task-BeLike-GEEKRUTH v1.0301
Platform
Perl 5 v5.18.4 x86_64-linux
Date
2022-11-14 09:16:13
ID
fc9a4dbc-63fc-11ed-9a3b-46497ecb5e2f
This distribution has been tested as part of the CPAN Testers
project, supporting the Perl programming language.  See
http://wiki.cpantesters.org/ for more information or email
questions to cpan-testers-discuss@perl.org


--
Dear D Ruth Holloway,

This is a computer-generated report for Task-BeLike-GEEKRUTH-1.0301
on perl 5.18.4, created by CPAN-Reporter-1.2018.

Thank you for uploading your work to CPAN.  Congratulations!
All tests were successful.

Sections of this report:

    * Tester comments
    * Program output
    * Prerequisites
    * Environment and other context

------------------------------
TESTER COMMENTS
------------------------------

Additional comments from tester:

this report is from an automated smoke testing program
and was not reviewed by a human for accuracy

------------------------------
PROGRAM OUTPUT
------------------------------

Output from '/usr/bin/make test':

PERL_DL_NONLAZY=1 "/home/sand/src/perl/repoperls/installed-perls/host/k93msid/v5.18.4/da1c/bin/perl" "-MExtUtils::Command::MM" "-MTest::Harness" "-e" "undef *Test::Harness::Switches; test_harness(0, 'blib/lib', 'blib/arch')" t/*.t
t/00-compile.t ......... ok
t/00-placeholder.t ..... ok
# 
# Versions for all modules listed in MYMETA.json (including optional ones):
# 
# === Configure Requires ===
# 
#     Module              Want    Have
#     ------------------- ---- -------
#     ExtUtils::MakeMaker  any 7.65_02
# 
# === Build Requires ===
# 
#     Module              Want    Have
#     ------------------- ---- -------
#     ExtUtils::MakeMaker  any 7.65_02
# 
# === Test Requires ===
# 
#     Module              Want     Have
#     ------------------- ---- --------
#     ExtUtils::MakeMaker  any  7.65_02
#     File::Spec           any     3.75
#     IO::Handle           any     1.48
#     IPC::Open3           any     1.13
#     Test2::V0            any 0.000145
#     Test::More           any 1.302191
#     strict               any     1.07
#     warnings             any     1.18
# 
# === Test Recommends ===
# 
#     Module         Want     Have
#     ---------- -------- --------
#     CPAN::Meta 2.120900 2.150010
# 
# === Runtime Requires ===
# 
#     Module                                                 Want        Have
#     ------------------------------------------------------ ---- -----------
#     App::cpanminus                                          any      1.7046
#     App::perlbrew                                           any        0.96
#     Carp                                                    any        1.50
#     Code::TidyAll                                           any        0.82
#     Code::TidyAll::Plugin::Test::Vars                       any        0.04
#     Cpanel::JSON::XS                                        any        4.28
#     DBD::Pg                                                 any      3.15.1
#     DBIx::Class                                             any 0.082842_01
#     DBIx::Class::Helpers                                    any    2.036000
#     DBIx::Class::Schema::Loader                             any     0.07049
#     DBIx::Class::Schema::ResultSetNames                     any        1.03
#     DBIx::Class::TemporalRelations                          any      0.9000
#     Dancer2                                                 any    0.400000
#     Dancer2::Plugin::Ajax                                   any    0.400000
#     Dancer2::Plugin::Auth::Extensible                       any       0.710
#     Dancer2::Plugin::Auth::Extensible::Provider::DBIxClass  any      0.0901
#     Dancer2::Plugin::Cache::CHI                             any       2.0.0
#     Dancer2::Plugin::DBIx::Class                            any        1.06
#     Dancer2::Plugin::Growler                                any        0.03
#     Dancer2::Plugin::Minify                                 any       0.002
#     Dancer2::Plugin::REST                                   any        1.02
#     Dancer2::Session::DBIC                                  any       0.120
#     Dancer2::Template::Handlebars                           any        1.00
#     Devel::Local                                            any        0.22
#     Dist::Zilla                                             any     missing
#     Dist::Zilla::App::Command::cover                        any     missing
#     Dist::Zilla::App::Command::critic                       any     missing
#     Dist::Zilla::App::Command::dumpphases                   any     missing
#     Dist::Zilla::App::Command::lsplugins                    any     missing
#     Dist::Zilla::Plugin::Git::PushInitial                   any     missing
#     Dist::Zilla::Plugin::INI::Baked                         any     missing
#     Dist::Zilla::Plugin::MetaData::BuiltWith                any     missing
#     Dist::Zilla::Plugin::TaskWeaver                         any     missing
#     Dist::Zilla::PluginBundle::GEEKRUTH                     any     missing
#     Dist::Zilla::PluginBundle::GitLab                       any     missing
#     File::Path                                              any        2.18
#     Modern::Perl                                            any  1.20220515
#     Moo                                                     any    2.005004
#     OrePAN2                                                 any        0.49
#     Perl::Critic                                            any       1.140
#     Perl::Critic::Bangs                                     any        1.12
#     Perl::Critic::Community                                 any      v1.0.3
#     Perl::Critic::StricterSubs                              any        0.06
#     Perl::Critic::TooMuchCode                               any        0.18
#     Perl::Tidy                                              any    20221112
#     Plack::Handler::Starman                                 any       undef
#     Pod::Coverage::TrustPod                                 any    0.100005
#     Template::Plugin::JSON::Escape                          any        0.02
#     Try::Tiny                                               any        0.31
#     YAML::Tiny                                              any        1.73
#     autodie                                                 any        2.34
# 
# 
# *** WARNING WARNING WARNING WARNING WARNING WARNING WARNING WARNING ***
# 
# The following REQUIRED prerequisites were not satisfied:
# 
# Dist::Zilla is not installed (any version required)
# Dist::Zilla::App::Command::cover is not installed (any version required)
# Dist::Zilla::App::Command::critic is not installed (any version required)
# Dist::Zilla::App::Command::dumpphases is not installed (any version required)
# Dist::Zilla::App::Command::lsplugins is not installed (any version required)
# Dist::Zilla::Plugin::Git::PushInitial is not installed (any version required)
# Dist::Zilla::Plugin::INI::Baked is not installed (any version required)
# Dist::Zilla::Plugin::MetaData::BuiltWith is not installed (any version required)
# Dist::Zilla::Plugin::TaskWeaver is not installed (any version required)
# Dist::Zilla::PluginBundle::GEEKRUTH is not installed (any version required)
# Dist::Zilla::PluginBundle::GitLab is not installed (any version required)
# 
t/00-report-prereqs.t .. ok
t/placeholder.t ........ ok
All tests successful.
Files=4, Tests=4,  1 wallclock secs ( 0.02 usr  0.02 sys +  0.54 cusr  0.32 csys =  0.90 CPU)
Result: PASS

------------------------------
PREREQUISITES
------------------------------

Prerequisite modules loaded:

requires:

    Module                                                 Need  Have       
    ------------------------------------------------------ ----- -----------
    App::cpanminus                                         0     1.7046     
    App::perlbrew                                          0     0.96       
    autodie                                                0     2.34       
    Carp                                                   0     1.50       
    Code::TidyAll                                          0     0.82       
    Code::TidyAll::Plugin::Test::Vars                      0     0.04       
    Cpanel::JSON::XS                                       0     4.28       
    Dancer2                                                0     0.400000   
    Dancer2::Plugin::Ajax                                  0     0.400000   
    Dancer2::Plugin::Auth::Extensible                      0     0.710      
    Dancer2::Plugin::Auth::Extensible::Provider::DBIxClass 0     0.0901     
    Dancer2::Plugin::Cache::CHI                            0     2.0.0      
    Dancer2::Plugin::DBIx::Class                           0     1.06       
    Dancer2::Plugin::Growler                               0     0.03       
    Dancer2::Plugin::Minify                                0     0.002      
    Dancer2::Plugin::REST                                  0     1.02       
    Dancer2::Session::DBIC                                 0     0.120      
    Dancer2::Template::Handlebars                          0     1.00       
    DBD::Pg                                                0     3.15.1     
    DBIx::Class                                            0     0.082842_01
    DBIx::Class::Helpers                                   0     2.036000   
    DBIx::Class::Schema::Loader                            0     0.07049    
    DBIx::Class::Schema::ResultSetNames                    0     1.03       
    DBIx::Class::TemporalRelations                         0     0.9000     
    Devel::Local                                           0     0.22       
  ! Dist::Zilla                                            0     n/a        
  ! Dist::Zilla::App::Command::cover                       0     n/a        
  ! Dist::Zilla::App::Command::critic                      0     n/a        
  ! Dist::Zilla::App::Command::dumpphases                  0     n/a        
  ! Dist::Zilla::App::Command::lsplugins                   0     n/a        
  ! Dist::Zilla::Plugin::Git::PushInitial                  0     n/a        
  ! Dist::Zilla::Plugin::INI::Baked                        0     n/a        
  ! Dist::Zilla::Plugin::MetaData::BuiltWith               0     n/a        
  ! Dist::Zilla::Plugin::TaskWeaver                        0     n/a        
  ! Dist::Zilla::PluginBundle::GEEKRUTH                    0     n/a        
  ! Dist::Zilla::PluginBundle::GitLab                      0     n/a        
    File::Path                                             0     2.18       
    Modern::Perl                                           0     1.20220515 
    Moo                                                    0     2.005004   
    OrePAN2                                                0     0.49       
    perl                                                   5.006 5.018004   
    Perl::Critic                                           0     1.140      
    Perl::Critic::Bangs                                    0     1.12       
    Perl::Critic::Community                                0     v1.0.3     
    Perl::Critic::StricterSubs                             0     0.06       
    Perl::Critic::TooMuchCode                              0     0.18       
    Perl::Tidy                                             0     20221112   
    Plack::Handler::Starman                                0     0          
    Pod::Coverage::TrustPod                                0     0.100005   
    Template::Plugin::JSON::Escape                         0     0.02       
    Try::Tiny                                              0     0.31       
    YAML::Tiny                                             0     1.73       

build_requires:

    Module                                                 Need  Have       
    ------------------------------------------------------ ----- -----------
    ExtUtils::MakeMaker                                    0     7.65_02    
    File::Spec                                             0     3.75       
    IO::Handle                                             0     1.48       
    IPC::Open3                                             0     1.13       
    strict                                                 0     1.07       
    Test2::V0                                              0     0.000145   
    Test::More                                             0     1.302191   
    warnings                                               0     1.18       

configure_requires:

    Module                                                 Need  Have       
    ------------------------------------------------------ ----- -----------
    ExtUtils::MakeMaker                                    0     7.65_02    
    perl                                                   5.006 5.018004   


------------------------------
ENVIRONMENT AND OTHER CONTEXT
------------------------------

Environment variables:

    AUTOMATED_TESTING = 1
    LANG = en_US.UTF-8
    LANGUAGE = en_US:en
    PATH = /home/sand/bin:/usr/local/bin:/usr/bin:/bin:/usr/games:/usr/local/perl/bin:/usr/X11/bin:/sbin:/usr/sbin
    PERL5LIB = 
    PERL5OPT = 
    PERL5_CPANPLUS_IS_RUNNING = 960629
    PERL5_CPAN_IS_RUNNING = 960629
    PERL_CANARY_STABILITY_NOPROMPT = 1
    PERL_MM_USE_DEFAULT = 1
    PERL_USE_UNSAFE_INC = 1
    SHELL = /usr/bin/zsh
    TERM = screen

Perl special variables (and OS-specific diagnostics, for MSWin32):

    $^X = /home/sand/src/perl/repoperls/installed-perls/host/k93msid/v5.18.4/da1c/bin/perl
    $UID/$EUID = 1005 / 1005
    $GID = 1005 1005
    $EGID = 1005 1005

Perl module toolchain versions installed:

    Module              Have    
    ------------------- --------
    CPAN                2.34    
    CPAN::Meta          2.150010
    Cwd                 3.75    
    ExtUtils::CBuilder  0.280236
    ExtUtils::Command   7.65_02 
    ExtUtils::Install   2.20    
    ExtUtils::MakeMaker 7.65_02 
    ExtUtils::Manifest  1.70    
    ExtUtils::ParseXS   3.44    
    File::Spec          3.75    
    JSON                4.08    
    JSON::PP            4.12    
    Module::Build       0.4231  
    Module::Signature   0.88    
    Parse::CPAN::Meta   2.150010
    Test::Harness       3.44    
    Test::More          1.302191
    YAML                1.30    
    YAML::Syck          1.34    
    version             0.9929  


--

Summary of my perl5 (revision 5 version 18 subversion 4) configuration:
  Derived from: 51202371ba68f3f52f13124a3ea1bc3c171e0ee2
  Platform:
    osname=linux, osvers=5.16.0-5-amd64, archname=x86_64-linux
    uname='linux k93msid 5.16.0-5-amd64 #1 smp preempt debian 5.16.14-1 (2022-03-15) x86_64 gnulinux '
    config_args='-Dprefix=/home/sand/src/perl/repoperls/installed-perls/host/k93msid/v5.18.4/da1c -Dmyhostname=k93msid -Dinstallusrbinperl=n -Uversiononly -Dusedevel -des -Ui_db -Dlibswanted=cl pthread socket inet nsl gdbm dbm malloc dl ld sun m crypt sec util c cposix posix ucb BSD gdbm_compat -Uuseithreads -Uuselongdouble -DEBUGGING=-g'
    hint=recommended, useposix=true, d_sigaction=define
    useithreads=undef, usemultiplicity=undef
    useperlio=define, d_sfio=undef, uselargefiles=define, usesocks=undef
    use64bitint=define, use64bitall=define, uselongdouble=undef
    usemymalloc=n, bincompat5005=undef
  Compiler:
    cc='cc', ccflags ='-fwrapv -fno-strict-aliasing -pipe -fstack-protector -I/usr/local/include -D_LARGEFILE_SOURCE -D_FILE_OFFSET_BITS=64',
    optimize='-O2 -g',
    cppflags='-fwrapv -fno-strict-aliasing -pipe -fstack-protector -I/usr/local/include'
    ccversion='', gccversion='11.2.0', gccosandvers=''
    intsize=4, longsize=8, ptrsize=8, doublesize=8, byteorder=12345678
    d_longlong=define, longlongsize=8, d_longdbl=define, longdblsize=16
    ivtype='long', ivsize=8, nvtype='double', nvsize=8, Off_t='off_t', lseeksize=8
    alignbytes=8, prototype=define
  Linker and Libraries:
    ld='cc', ldflags =' -fstack-protector -L/usr/local/lib'
    libpth=/usr/local/lib /lib/x86_64-linux-gnu /lib/../lib /usr/lib/x86_64-linux-gnu /usr/lib/../lib /lib /usr/lib
    libs=-lpthread -lnsl -ldl -lm -lcrypt -lutil -lc
    perllibs=-lpthread -lnsl -ldl -lm -lcrypt -lutil -lc
    libc=libc-2.33.so, so=so, useshrplib=false, libperl=libperl.a
    gnulibc_version='2.33'
  Dynamic Linking:
    dlsrc=dl_dlopen.xs, dlext=so, d_dlsymun=undef, ccdlflags='-Wl,-E'
    cccdlflags='-fPIC', lddlflags='-shared -O2 -g -L/usr/local/lib -fstack-protector'


Characteristics of this binary (from libperl): 
  Compile-time options: HAS_TIMES PERLIO_LAYERS PERL_DONT_CREATE_GVSV
                        PERL_HASH_FUNC_ONE_AT_A_TIME_HARD PERL_MALLOC_WRAP
                        PERL_PRESERVE_IVUV PERL_SAWAMPERSAND PERL_USE_DEVEL
                        USE_64_BIT_ALL USE_64_BIT_INT USE_LARGE_FILES
                        USE_LOCALE USE_LOCALE_COLLATE USE_LOCALE_CTYPE
                        USE_LOCALE_NUMERIC USE_PERLIO USE_PERL_ATOF
  Locally applied patches:
	uncommitted-changes
  Built under linux
  Compiled at Mar 20 2022 03:51:25
  %ENV:
    PERL5LIB=""
    PERL5OPT=""
    PERL5_CPANPLUS_IS_RUNNING="960629"
    PERL5_CPAN_IS_RUNNING="960629"
    PERL_CANARY_STABILITY_NOPROMPT="1"
    PERL_MM_USE_DEFAULT="1"
    PERL_USE_UNSAFE_INC="1"
  @INC:
    /home/sand/src/perl/repoperls/installed-perls/host/k93msid/v5.18.4/da1c/lib/site_perl/5.18.4/x86_64-linux
    /home/sand/src/perl/repoperls/installed-perls/host/k93msid/v5.18.4/da1c/lib/site_perl/5.18.4
    /home/sand/src/perl/repoperls/installed-perls/host/k93msid/v5.18.4/da1c/lib/5.18.4/x86_64-linux
    /home/sand/src/perl/repoperls/installed-perls/host/k93msid/v5.18.4/da1c/lib/5.18.4
    .