HTTP-OAI v4.10 Perl 5 v5.26.3 amd64-freebsd

Status
Pass
From
Nigel Horne
Dist
HTTP-OAI v4.10
Platform
Perl 5 v5.26.3 amd64-freebsd
Date
2019-10-16 16:35:38
ID
fc90a0d2-f032-11e9-a65e-fe3acca03743
This distribution has been tested as part of the CPAN Testers
project, supporting the Perl programming language.  See
http://wiki.cpantesters.org/ for more information or email
questions to cpan-testers-discuss@perl.org


--
Dear Patrick Hochstenbach,

This is a computer-generated report for HTTP-OAI-4.10
on perl 5.26.3, created by CPAN-Reporter-1.2018.

Thank you for uploading your work to CPAN.  Congratulations!
All tests were successful.

Sections of this report:

    * Tester comments
    * Program output
    * Prerequisites
    * Environment and other context

------------------------------
TESTER COMMENTS
------------------------------

Additional comments from tester:

this report is from an automated smoke testing program
and was not reviewed by a human for accuracy

------------------------------
PROGRAM OUTPUT
------------------------------

Output from './Build test':

t/000xml_sax.t ........... ok
t/00static.t ............. ok
t/01parse.t .............. ok
t/02token.t .............. ok
t/03badbytes.t ........... ok
t/50mets.t ............... ok
t/author-pod-syntax.t .... skipped: these tests are for testing by the author
t/80network.t ............ ok
t/error.t ................ ok
t/identify.t ............. ok
t/getrecord.t ............ ok
t/listmetadataformats.t .. ok
t/listidentifiers.t ...... ok
All tests successful.
Files=13, Tests=79,  8 wallclock secs ( 0.20 usr  0.12 sys +  9.67 cusr  2.34 csys = 12.34 CPU)
Result: PASS

------------------------------
PREREQUISITES
------------------------------

Prerequisite modules loaded:

requires:

    Module                Need   Have    
    --------------------- ------ --------
    Encode                2.12   2.88    
    HTTP::Request         0      6.18    
    HTTP::Response        0      6.18    
    LWP::UserAgent        0      6.39    
    Module::Build         0.4229 0.4229  
    URI                   0      1.74    
    XML::LibXML           1.60   2.0201  
    XML::LibXML::SAX      0      2.0201  
    XML::NamespaceSupport 0      1.12    
    XML::SAX              0      1.00    
    XML::SAX::Base        1.04   1.09    

build_requires:

    Module                Need   Have    
    --------------------- ------ --------
    Test::Deep            0.112  1.128   
    Test::LWP::UserAgent  0      0.033   
    Test::More            0.99   1.302162
    Test::Pod             0      1.52    

configure_requires:

    Module                Need   Have    
    --------------------- ------ --------
    Module::Build::Tiny   0.034  0.039   


------------------------------
ENVIRONMENT AND OTHER CONTEXT
------------------------------

Environment variables:

    AUTOMATED_TESTING = 1
    HARNESS_OPTIONS = j2
    NONINTERACTIVE_TESTING = 1
    PATH = /home/njh/perl5/perlbrew/bin:/home/njh/perl5/perlbrew/perls/perl-5.26.3/bin:/home/njh/src/njh/smoker/bin:/sbin:/bin:/usr/sbin:/usr/bin:/usr/local/sbin:/usr/local/bin
    PERL5LIB = /var/tmp/build/XML-LibXML-2.0201-1/blib/arch:/var/tmp/build/XML-LibXML-2.0201-1/blib/lib:/var/tmp/build/Alien-Libxml2-0.09-1/blib/arch:/var/tmp/build/Alien-Libxml2-0.09-1/blib/lib:/var/tmp/build/Alien-Build-1.89-1/blib/arch:/var/tmp/build/Alien-Build-1.89-1/blib/lib:/var/tmp/build/FFI-CheckLib-0.25-1/blib/arch:/var/tmp/build/FFI-CheckLib-0.25-1/blib/lib:/var/tmp/build/Test-LWP-UserAgent-0.033-2/blib/arch:/var/tmp/build/Test-LWP-UserAgent-0.033-2/blib/lib:/var/tmp/build/Safe-Isa-1.000010-2/blib/arch:/var/tmp/build/Safe-Isa-1.000010-2/blib/lib:/var/tmp/build/Module-Build-0.4229-0/blib/arch:/var/tmp/build/Module-Build-0.4229-0/blib/lib
    PERL5OPT = 
    PERL5_CPANPLUS_IS_RUNNING = 63077
    PERL5_CPAN_IS_RUNNING = 63077
    PERL5_CPAN_IS_RUNNING_IN_RECURSION = 62120,63077
    PERLBREW_HOME = /home/njh/.perlbrew
    PERLBREW_MANPATH = /home/njh/perl5/perlbrew/perls/perl-5.26.3/man
    PERLBREW_PATH = /home/njh/perl5/perlbrew/bin:/home/njh/perl5/perlbrew/perls/perl-5.26.3/bin
    PERLBREW_PERL = perl-5.26.3
    PERLBREW_ROOT = /home/njh/perl5/perlbrew
    PERLBREW_SHELLRC_VERSION = 0.84
    PERLBREW_VERSION = 0.84
    PERL_MM_USE_DEFAULT = 1
    PERL_USE_UNSAFE_INC = 1
    SHELL = /bin/sh
    TMPDIR = /tmp/testwrapper.62305

Perl special variables (and OS-specific diagnostics, for MSWin32):

    $^X = /mnt/nas/home/netgate3/njh/perl5/perlbrew/perls/perl-5.26.3/bin/perl5.26.3
    $UID/$EUID = 1000 / 1000
    $GID = 1000 1000 0
    $EGID = 1000 1000 0

Perl module toolchain versions installed:

    Module              Have    
    ------------------- --------
    CPAN                2.26    
    CPAN::Meta          2.150010
    Cwd                 3.75    
    ExtUtils::CBuilder  0.280225
    ExtUtils::Command   7.34    
    ExtUtils::Install   2.06    
    ExtUtils::MakeMaker 7.34    
    ExtUtils::Manifest  1.70    
    ExtUtils::ParseXS   3.34    
    File::Spec          3.75    
    JSON                4.02    
    JSON::PP            4.03    
    Module::Build       0.4229  
    Module::Signature   n/a     
    Parse::CPAN::Meta   2.150010
    Test::Harness       3.38    
    Test::More          1.302162
    YAML                1.29    
    YAML::Syck          1.31    
    version             0.9917  


--

Summary of my perl5 (revision 5 version 26 subversion 3) configuration:
   
  Platform:
    osname=freebsd
    osvers=11.2-release-p3
    archname=amd64-freebsd
    uname='freebsd netgate3 11.2-release-p3 freebsd 11.2-release-p3 #0: thu sep 6 07:14:16 utc 2018 root@amd64-builder.daemonology.net:usrobjusrsrcsysgeneric amd64 '
    config_args='-de -Dprefix=/home/njh/perl5/perlbrew/perls/perl-5.26.3 -Dusedevel -Accflags= -Aeval:scriptdir=/home/njh/perl5/perlbrew/perls/perl-5.26.3/bin'
    hint=recommended
    useposix=true
    d_sigaction=define
    useithreads=undef
    usemultiplicity=undef
    use64bitint=define
    use64bitall=define
    uselongdouble=undef
    usemymalloc=n
    default_inc_excludes_dot=define
    bincompat5005=undef
  Compiler:
    cc='cc'
    ccflags ='-DHAS_FPSETMASK -DHAS_FLOATINGPOINT_H -fno-strict-aliasing -pipe -fstack-protector-strong -I/usr/local/include -D_FORTIFY_SOURCE=2'
    optimize='-O2'
    cppflags='-DHAS_FPSETMASK -DHAS_FLOATINGPOINT_H -fno-strict-aliasing -pipe -fstack-protector-strong -I/usr/local/include'
    ccversion=''
    gccversion='4.2.1 Compatible FreeBSD Clang 6.0.0 (tags/RELEASE_600/final 326565)'
    gccosandvers=''
    intsize=4
    longsize=8
    ptrsize=8
    doublesize=8
    byteorder=12345678
    doublekind=3
    d_longlong=define
    longlongsize=8
    d_longdbl=define
    longdblsize=16
    longdblkind=3
    ivtype='long'
    ivsize=8
    nvtype='double'
    nvsize=8
    Off_t='off_t'
    lseeksize=8
    alignbytes=8
    prototype=define
  Linker and Libraries:
    ld='cc'
    ldflags ='-Wl,-E  -fstack-protector-strong -L/usr/local/lib'
    libpth=/usr/lib /usr/local/lib /usr/lib/clang/6.0.0/lib /usr/lib
    libs=-lpthread -ldl -lm -lcrypt -lutil -lc
    perllibs=-lpthread -ldl -lm -lcrypt -lutil -lc
    libc=
    so=so
    useshrplib=false
    libperl=libperl.a
    gnulibc_version=''
  Dynamic Linking:
    dlsrc=dl_dlopen.xs
    dlext=so
    d_dlsymun=undef
    ccdlflags=' '
    cccdlflags='-DPIC -fPIC'
    lddlflags='-shared  -L/usr/local/lib -fstack-protector-strong'


Characteristics of this binary (from libperl): 
  Compile-time options:
    HAS_TIMES
    PERLIO_LAYERS
    PERL_COPY_ON_WRITE
    PERL_DONT_CREATE_GVSV
    PERL_MALLOC_WRAP
    PERL_OP_PARENT
    PERL_PRESERVE_IVUV
    PERL_USE_DEVEL
    USE_64_BIT_ALL
    USE_64_BIT_INT
    USE_LARGE_FILES
    USE_LOCALE
    USE_LOCALE_COLLATE
    USE_LOCALE_CTYPE
    USE_LOCALE_NUMERIC
    USE_LOCALE_TIME
    USE_PERLIO
    USE_PERL_ATOF
  Locally applied patches:
    Devel::PatchPerl 1.52
  Built under freebsd
  Compiled at Dec 12 2018 02:49:23
  %ENV:
    PERL5LIB="/var/tmp/build/XML-LibXML-2.0201-1/blib/arch:/var/tmp/build/XML-LibXML-2.0201-1/blib/lib:/var/tmp/build/Alien-Libxml2-0.09-1/blib/arch:/var/tmp/build/Alien-Libxml2-0.09-1/blib/lib:/var/tmp/build/Alien-Build-1.89-1/blib/arch:/var/tmp/build/Alien-Build-1.89-1/blib/lib:/var/tmp/build/FFI-CheckLib-0.25-1/blib/arch:/var/tmp/build/FFI-CheckLib-0.25-1/blib/lib:/var/tmp/build/Test-LWP-UserAgent-0.033-2/blib/arch:/var/tmp/build/Test-LWP-UserAgent-0.033-2/blib/lib:/var/tmp/build/Safe-Isa-1.000010-2/blib/arch:/var/tmp/build/Safe-Isa-1.000010-2/blib/lib:/var/tmp/build/Module-Build-0.4229-0/blib/arch:/var/tmp/build/Module-Build-0.4229-0/blib/lib"
    PERL5OPT=""
    PERL5_CPANPLUS_IS_RUNNING="63077"
    PERL5_CPAN_IS_RUNNING="63077"
    PERL5_CPAN_IS_RUNNING_IN_RECURSION="62120,63077"
    PERLBREW_HOME="/home/njh/.perlbrew"
    PERLBREW_MANPATH="/home/njh/perl5/perlbrew/perls/perl-5.26.3/man"
    PERLBREW_PATH="/home/njh/perl5/perlbrew/bin:/home/njh/perl5/perlbrew/perls/perl-5.26.3/bin"
    PERLBREW_PERL="perl-5.26.3"
    PERLBREW_ROOT="/home/njh/perl5/perlbrew"
    PERLBREW_SHELLRC_VERSION="0.84"
    PERLBREW_VERSION="0.84"
    PERL_MM_USE_DEFAULT="1"
    PERL_USE_UNSAFE_INC="1"
  @INC:
    /var/tmp/build/XML-LibXML-2.0201-1/blib/arch
    /var/tmp/build/XML-LibXML-2.0201-1/blib/lib
    /var/tmp/build/Alien-Libxml2-0.09-1/blib/arch
    /var/tmp/build/Alien-Libxml2-0.09-1/blib/lib
    /var/tmp/build/Alien-Build-1.89-1/blib/arch
    /var/tmp/build/Alien-Build-1.89-1/blib/lib
    /var/tmp/build/FFI-CheckLib-0.25-1/blib/arch
    /var/tmp/build/FFI-CheckLib-0.25-1/blib/lib
    /var/tmp/build/Test-LWP-UserAgent-0.033-2/blib/arch
    /var/tmp/build/Test-LWP-UserAgent-0.033-2/blib/lib
    /var/tmp/build/Safe-Isa-1.000010-2/blib/arch
    /var/tmp/build/Safe-Isa-1.000010-2/blib/lib
    /var/tmp/build/Module-Build-0.4229-0/blib/arch
    /var/tmp/build/Module-Build-0.4229-0/blib/lib
    /home/njh/perl5/perlbrew/perls/perl-5.26.3/lib/site_perl/5.26.3/amd64-freebsd
    /home/njh/perl5/perlbrew/perls/perl-5.26.3/lib/site_perl/5.26.3
    /home/njh/perl5/perlbrew/perls/perl-5.26.3/lib/5.26.3/amd64-freebsd
    /home/njh/perl5/perlbrew/perls/perl-5.26.3/lib/5.26.3
    .