CryptX v0.056_003 Perl 5 v5.10.1 x86_64-linux-thread-multi
- Status
- Pass
- From
- David Cantrell (DCANTRELL)
- Dist
-
CryptX v0.056_003
- Platform
- Perl 5 v5.10.1 x86_64-linux-thread-multi
- Date
- 2018-01-31 14:49:48
- ID
- fc709a18-0695-11e8-8d32-65fc7247484a
This distribution has been tested as part of the CPAN Testers
project, supporting the Perl programming language. See
http://wiki.cpantesters.org/ for more information or email
questions to cpan-testers-discuss@perl.org
--
Dear Karel Miko,
This is a computer-generated report for CryptX-0.056_003
on perl 5.10.1, created by CPAN-Reporter-1.2018.
Thank you for uploading your work to CPAN. Congratulations!
All tests were successful.
Sections of this report:
* Tester comments
* Program output
* Prerequisites
* Environment and other context
------------------------------
TESTER COMMENTS
------------------------------
Additional comments from tester:
this report is from an automated smoke testing program
and was not reviewed by a human for accuracy
------------------------------
PROGRAM OUTPUT
------------------------------
Output from '/usr/bin/make test':
"/home/david/cpantesting/perl-5.10.1/bin/perl" -MExtUtils::Command::MM -e 'cp_nonempty' -- CryptX.bs blib/arch/auto/CryptX/CryptX.bs 644
PERL_DL_NONLAZY=1 "/home/david/cpantesting/perl-5.10.1/bin/perl" "-MExtUtils::Command::MM" "-MTest::Harness" "-e" "undef *Test::Harness::Switches; test_harness(0, 'blib/lib', 'blib/arch')" t/*.t
# Testing CryptX 0.056_003, Perl 5.010001 linux /home/david/cpantesting/perl-5.10.1/bin/perl
# osname = linux
# myarchname = x86_64-linux
# myuname = linux pigsty.barnyard.co.uk 3.16.0-4-amd64 #1 smp debian 3.16.36-1+deb8u1 (2016-09-03) x86_64 gnulinux
# intsize = 4
# longsize = 8
# longlongsize = 8
# ptrsize = 8
# byteorder = 12345678
#
# LibTomCrypt 1.18.0 (www.libtom.net)
# LibTomCrypt is public domain software.
#
#
# Endianness: little (64-bit words)
# Clean stack: disabled
#
# Ciphers built-in:
# Blowfish
# RC2
# RC5
# RC6
# Safer+
# Safer
# Rijndael
# XTEA
# Twofish (tables)
# DES
# CAST5
# Noekeon
# Skipjack
# Khazad
# Anubis (tweaked)
# KSEED
# KASUMI
# MULTI2
# Camellia
# IDEA
# Serpent
# Stream ciphers built-in:
# ChaCha
# Salsa20
# Sosemanuk
# Rabbit
# RC4
# SOBER128
#
# Hashes built-in:
# SHA3
# SHA-512
# SHA-384
# SHA-512/256
# SHA-256
# SHA-512/224
# SHA-224
# TIGER
# SHA1
# MD5
# MD4
# MD2
# RIPEMD128
# RIPEMD160
# RIPEMD256
# RIPEMD320
# WHIRLPOOL
# BLAKE2S
# BLAKE2B
# CHC_HASH
#
# Block Chaining Modes:
# CFB
# OFB
# ECB
# CBC
# CTR
# LRW (tables)
# F8
# XTS
#
# MACs:
# HMAC
# OMAC
# PMAC
# PELICAN
# XCBC
# F9
# POLY1305
# BLAKE2S MAC
# BLAKE2B MAC
#
# ENC + AUTH modes:
# EAX
# OCB
# OCB3
# CCM
# GCM (tables)
# CHACHA20POLY1305
#
# PRNG:
# Yarrow (LTC_YARROW_AES=2)
# SPRNG
# RC4
# ChaCha20
# Fortuna (LTC_FORTUNA_POOLS=32, LTC_FORTUNA_WD=10)
# SOBER128
#
# PK Crypto:
# RSA (with blinding and CRT hardening)
# DH
# ECC (with blinding)
# DSA
# LTC_PK_MAX_RETRIES=20
#
# MPI (Math):
# LTC_MPI
# LTM_DESC
# LTC_MILLER_RABIN_REPS=40
#
# Compiler:
# GCC compiler 4.9.2.
# x86-64 detected.
#
# Various others: ARGTYPE=0 ADLER32 BASE64 BASE64-URL-SAFE BASE32 CRC32 DER PKCS#1 PKCS#5 HKDF LTC_DEVRANDOM LTC_TRY_URANDOM_FIRST LTC_RNG_GET_BYTES LTC_RNG_MAKE_PRNG LTC_HASH_HELPERS LTC_FILE_READ_BUFSIZE=8192 LTC_FAST LTC_ROx_ASM LTC_NO_TEST LTC_ECC_SHAMIR
#
# MP_PROVIDER = LibTomMath
# MP_DIGIT_BIT = 60
#
t/001_compile.t ..................... ok
t/002_all_pm.t ...................... skipped: set TEST_POD to enable this test (developer only!)
t/003_all_pm_pod.t .................. skipped: set TEST_POD to enable this test (developer only!)
t/004_all_pm_pod_spelling.t ......... skipped: set TEST_POD to enable this test (developer only!)
t/005_all_pm_pod_coverage.t ......... skipped: set TEST_POD to enable this test (developer only!)
t/auth_enc_ccm.t .................... ok
t/auth_enc_ccm_test_vector_ltc.t .... ok
t/auth_enc_chacha20poly1305.t ....... ok
t/auth_enc_eax.t .................... ok
t/auth_enc_eax_test_vector_ltc.t .... ok
t/auth_enc_gcm.t .................... ok
t/auth_enc_gcm_test_vector_ltc.t .... ok
t/auth_enc_ocb.t .................... ok
t/auth_enc_ocb_test_vectors_ietf.t .. ok
t/checksum.t ........................ ok
t/cipher_aes.t ...................... ok
t/cipher_aes_test_vectors_bc.t ...... ok
t/cipher_anubis.t ................... ok
t/cipher_blowfish.t ................. ok
t/cipher_camellia.t ................. ok
t/cipher_cast5.t .................... ok
t/cipher_des.t ...................... ok
t/cipher_des_ede.t .................. ok
t/cipher_idea.t ..................... ok
t/cipher_idea_compat.t .............. ok
t/cipher_kasumi.t ................... ok
t/cipher_khazad.t ................... ok
t/cipher_multi2.t ................... ok
t/cipher_multi2_rounds.t ............ ok
t/cipher_noekeon.t .................. ok
t/cipher_rc2.t ...................... ok
t/cipher_rc5.t ...................... ok
t/cipher_rc6.t ...................... ok
t/cipher_safer_k128.t ............... ok
t/cipher_safer_k64.t ................ ok
t/cipher_safer_sk128.t .............. ok
t/cipher_safer_sk64.t ............... ok
t/cipher_saferp.t ................... ok
t/cipher_seed.t ..................... ok
t/cipher_seed_test_vectors_bc.t ..... ok
t/cipher_serpent.t .................. ok
t/cipher_serpent_compat.t ........... ok
t/cipher_skipjack.t ................. ok
t/cipher_stream.t ................... ok
t/cipher_stream_rabbit.t ............ ok
t/cipher_stream_salsa20.t ........... ok
t/cipher_test_vectors_ltc.t ......... ok
t/cipher_test_vectors_openssl.t ..... ok
t/cipher_twofish.t .................. ok
t/cipher_twofish_test_vectors_bc.t .. ok
t/cipher_xtea.t ..................... ok
t/cipher_xtea_test_vectors_bc.t ..... ok
t/crypt-misc.t ...................... ok
t/digest_blake2b_160.t .............. ok
t/digest_blake2b_256.t .............. ok
t/digest_blake2b_384.t .............. ok
t/digest_blake2b_512.t .............. ok
t/digest_blake2s_128.t .............. ok
t/digest_blake2s_160.t .............. ok
t/digest_blake2s_224.t .............. ok
t/digest_blake2s_256.t .............. ok
t/digest_chaes.t .................... ok
t/digest_md2.t ...................... ok
t/digest_md4.t ...................... ok
t/digest_md5.t ...................... ok
t/digest_ripemd128.t ................ ok
t/digest_ripemd160.t ................ ok
t/digest_ripemd256.t ................ ok
t/digest_ripemd320.t ................ ok
t/digest_sha1.t ..................... ok
t/digest_sha224.t ................... ok
t/digest_sha256.t ................... ok
t/digest_sha384.t ................... ok
t/digest_sha3_224.t ................. ok
t/digest_sha3_256.t ................. ok
t/digest_sha3_384.t ................. ok
t/digest_sha3_512.t ................. ok
t/digest_sha512.t ................... ok
t/digest_sha512_224.t ............... ok
t/digest_sha512_256.t ............... ok
t/digest_shake.t .................... ok
t/digest_test_vectors_ltc.t ......... ok
t/digest_tiger192.t ................. ok
t/digest_whirlpool.t ................ ok
t/jwk.t ............................. ok
t/key_derivation.t .................. ok
t/mac_blake2b.t ..................... ok
t/mac_blake2s.t ..................... ok
t/mac_f9.t .......................... ok
t/mac_hmac.t ........................ ok
t/mac_hmac_nist.t ................... ok
t/mac_hmac_test_vectors_ltc.t ....... ok
t/mac_omac.t ........................ ok
t/mac_omac_test_vectors_ltc.t ....... ok
t/mac_pelican.t ..................... ok
t/mac_pmac.t ........................ ok
t/mac_pmac_test_vectors_ltc.t ....... ok
t/mac_poly1305.t .................... ok
t/mac_xcbc.t ........................ ok
# Math::BigInt VERSION=1.89
t/mbi_ltm_01load.t .................. ok
t/mbi_ltm_bigfltpm.t ................ skipped: requires Math::BigFloat 1.999715+
t/mbi_ltm_bigintg.t ................. ok
t/mbi_ltm_bigintpm.t ................ skipped: requires Math::BigInt 1.999712+
t/mbi_ltm_biglog.t .................. skipped: requires Math::BigInt 1.9997+
t/mbi_ltm_bigroot.t ................. skipped: requires Math::BigInt 1.997+
t/mbi_ltm_bugs.t .................... skipped: requires Math::BigInt 1.999712+
t/mbi_ltm_mbi-from-big-scalar.t ..... skipped: requires Math::BigInt 1.999712+
t/mbi_ltm_storable.t ................ ok
t/mode_cbc.t ........................ ok
t/mode_cfb.t ........................ ok
t/mode_ctr.t ........................ ok
t/mode_ecb.t ........................ ok
t/mode_ofb.t ........................ ok
t/pk_dh.t ........................... ok
t/pk_dsa.t .......................... ok
t/pk_dsa_test_vectors_openssl.t ..... ok
t/pk_ecc.t .......................... ok
t/pk_ecc_test_vectors_openssl.t ..... ok
t/pk_enc_pem.t ...................... ok
t/pk_rsa.t .......................... ok
t/pk_rsa_test_vectors_openssl.t ..... ok
t/pkcs8.t ........................... ok
t/prng.t ............................ ok
t/prng_chacha20.t ................... ok
t/prng_fortuna.t .................... ok
t/prng_rc4.t ........................ ok
t/prng_sober128.t ................... ok
t/prng_yarrow.t ..................... ok
t/sshkey.t .......................... ok
t/wycheproof.t ...................... ok
All tests successful.
Files=130, Tests=18700, 10 wallclock secs ( 0.58 usr 1.03 sys + 8.85 cusr 0.86 csys = 11.32 CPU)
Result: PASS
------------------------------
PREREQUISITES
------------------------------
Prerequisite modules loaded:
requires:
Module Need Have
------------------- ----- --------
perl 5.006 5.010001
build_requires:
Module Need Have
------------------- ----- --------
ExtUtils::MakeMaker 0 7.30
configure_requires:
Module Need Have
------------------- ----- --------
ExtUtils::MakeMaker 0 7.30
------------------------------
ENVIRONMENT AND OTHER CONTEXT
------------------------------
Environment variables:
AUTOMATED_TESTING = 1
NONINTERACTIVE_TESTING = 1
PATH = /usr/local/bin:/usr/bin:/bin:/usr/local/games:/usr/games
PERL = 5.10.1
PERL5LIB =
PERL5OPT =
PERL5_CPANPLUS_IS_RUNNING = 16024
PERL5_CPAN_IS_RUNNING = 16024
PERLVER = 5.10.1
PERL_INLINE_DIRECTORY = /home/david/.Inline-5.10.1
PERL_MM_USE_DEFAULT = 1
PERL_USE_UNSAFE_INC = 0
SHELL = /bin/bash
TERM = screen
Perl special variables (and OS-specific diagnostics, for MSWin32):
$^X = /home/david/cpantesting/perl-5.10.1/bin/perl
$UID/$EUID = 1000 / 1000
$GID = 1000 1000
$EGID = 1000 1000
Perl module toolchain versions installed:
Module Have
------------------- --------
CPAN 1.9402
CPAN::Meta 2.150010
Cwd 3.30
ExtUtils::CBuilder 0.280224
ExtUtils::Command 7.30
ExtUtils::Install 2.06
ExtUtils::MakeMaker 7.30
ExtUtils::Manifest 1.70
ExtUtils::ParseXS 3.35
File::Spec 3.30
JSON 2.90
JSON::PP 2.27400
Module::Build 0.4224
Module::Signature n/a
Parse::CPAN::Meta 2.150010
Test::Harness 3.39
Test::More 1.302120
YAML 1.18
YAML::Syck n/a
version 0.9917
--
Summary of my perl5 (revision 5 version 10 subversion 1) configuration:
Platform:
osname=linux, osvers=3.16.0-4-amd64, archname=x86_64-linux-thread-multi
uname='linux pigsty.barnyard.co.uk 3.16.0-4-amd64 #1 smp debian 3.16.36-1+deb8u1 (2016-09-03) x86_64 gnulinux '
config_args='-de -Duse64bitall -Dusethreads -Dprefix=/home/david/cpantesting/perl-5.10.1'
hint=recommended, useposix=true, d_sigaction=define
useithreads=define, usemultiplicity=define
useperlio=define, d_sfio=undef, uselargefiles=define, usesocks=undef
use64bitint=define, use64bitall=define, uselongdouble=undef
usemymalloc=n, bincompat5005=undef
Compiler:
cc='cc', ccflags ='-D_REENTRANT -D_GNU_SOURCE -fno-strict-aliasing -pipe -fstack-protector -I/usr/local/include -D_LARGEFILE_SOURCE -D_FILE_OFFSET_BITS=64',
optimize='-O2',
cppflags='-D_REENTRANT -D_GNU_SOURCE -fno-strict-aliasing -pipe -fstack-protector -I/usr/local/include'
ccversion='', gccversion='4.9.2', gccosandvers=''
intsize=4, longsize=8, ptrsize=8, doublesize=8, byteorder=12345678
d_longlong=define, longlongsize=8, d_longdbl=define, longdblsize=16
ivtype='long', ivsize=8, nvtype='double', nvsize=8, Off_t='off_t', lseeksize=8
alignbytes=8, prototype=define
Linker and Libraries:
ld='cc', ldflags =' -fstack-protector -L/usr/local/lib'
libpth=/usr/local/lib /lib/x86_64-linux-gnu /lib/../lib /usr/lib/x86_64-linux-gnu /usr/lib/../lib /lib /usr/lib
libs=-lnsl -ldb -ldl -lm -lcrypt -lutil -lpthread -lc
perllibs=-lnsl -ldl -lm -lcrypt -lutil -lpthread -lc
libc=libc-2.19.so, so=so, useshrplib=false, libperl=libperl.a
gnulibc_version='2.19'
Dynamic Linking:
dlsrc=dl_dlopen.xs, dlext=so, d_dlsymun=undef, ccdlflags='-Wl,-E'
cccdlflags='-fPIC', lddlflags='-shared -O2 -L/usr/local/lib -fstack-protector'
Characteristics of this binary (from libperl):
Compile-time options: MULTIPLICITY PERL_DONT_CREATE_GVSV
PERL_IMPLICIT_CONTEXT PERL_MALLOC_WRAP USE_64_BIT_ALL
USE_64_BIT_INT USE_ITHREADS USE_LARGE_FILES
USE_PERLIO USE_REENTRANT_API
Locally applied patches:
Devel::PatchPerl 1.44
Built under linux
Compiled at Oct 12 2016 15:01:35
%ENV:
PERL="5.10.1"
PERL5LIB=""
PERL5OPT=""
PERL5_CPANPLUS_IS_RUNNING="16024"
PERL5_CPAN_IS_RUNNING="16024"
PERLVER="5.10.1"
PERL_INLINE_DIRECTORY="/home/david/.Inline-5.10.1"
PERL_MM_USE_DEFAULT="1"
PERL_USE_UNSAFE_INC="0"
@INC:
/home/david/cpantesting/perl-5.10.1/lib/5.10.1/x86_64-linux-thread-multi
/home/david/cpantesting/perl-5.10.1/lib/5.10.1
/home/david/cpantesting/perl-5.10.1/lib/site_perl/5.10.1/x86_64-linux-thread-multi
/home/david/cpantesting/perl-5.10.1/lib/site_perl/5.10.1
.