FFI-Platypus v2.08 Perl 5 v5.16.3 MSWin32-x64-multi-thread

Status
Pass
From
twata
Dist
FFI-Platypus v2.08
Platform
Perl 5 v5.16.3 MSWin32-x64-multi-thread
Date
2023-05-27 15:49:52
ID
fc107479-72b8-1014-b4b0-c1feefaa1848
This distribution has been tested as part of the CPAN Testers
project, supporting the Perl programming language.  See
http://wiki.cpantesters.org/ for more information or email
questions to cpan-testers-discuss@perl.org


--
Dear Graham Ollis,

This is a computer-generated report for FFI-Platypus-2.08
on perl 5.16.3, created by CPAN-Reporter-1.2019.

Thank you for uploading your work to CPAN.  Congratulations!
All tests were successful.

Sections of this report:

    * Tester comments
    * Program output
    * Prerequisites
    * Environment and other context

------------------------------
TESTER COMMENTS
------------------------------

Additional comments from tester:

none provided

------------------------------
PROGRAM OUTPUT
------------------------------

Output from 'C:\Strawberry\c\bin\dmake.exe test':

C:\"Strawberry\perl\bin\perl.exe" -MExtUtils::Command::MM -e cp_nonempty -- lib/FFI/Platypus.bs blib\arch\auto\FFI\Platypus\Platypus.bs 644
CC t/ffi/align.c
CC t/ffi/align_array.c
CC t/ffi/align_fixed.c
CC t/ffi/align_string.c
CC t/ffi/basic.c
CC t/ffi/closure.c
CC t/ffi/color.c
CC t/ffi/complex_double.c
CC t/ffi/complex_float.c
CC t/ffi/double.c
CC t/ffi/float.c
CC t/ffi/gh117.c
CC t/ffi/gh174.c
CC t/ffi/longdouble.c
CC t/ffi/memcmp4.c
CC t/ffi/meta.c
CC t/ffi/pointer.c
CC t/ffi/record.c
CC t/ffi/sint16.c
CC t/ffi/sint32.c
CC t/ffi/sint64.c
CC t/ffi/sint8.c
CC t/ffi/string.c
CC t/ffi/string_array.c
CC t/ffi/uint16.c
CC t/ffi/uint32.c
CC t/ffi/uint64.c
CC t/ffi/uint8.c
CC t/ffi/variadic.c
LD t/ffi/test.dll
C:\"Strawberry\perl\bin\perl.exe" "-MExtUtils::Command::MM" "-MTest::Harness" "-e" "undef *Test::Harness::Switches; test_harness(0, 'blib\lib', 'blib\arch')" t/*.t
# 
# 
# 
# HARNESS_ACTIVE=1
# HARNESS_VERSION=3.45_01
# PERL5LIB=C:\Strawberry\cpan\build\FFI-Platypus-2.08-0\blib\lib;C:\Strawberry\cpan\build\FFI-Platypus-2.08-0\blib\arch;C:\home\pianokey\perl5\lib\perl5/MSWin32-x64-multi-thread;C:\home\pianokey\perl5\lib\perl5;C:\home\pianokey\perl5\lib\perl5
# PERL5_CPANPLUS_IS_RUNNING=4116
# PERL5_CPAN_IS_RUNNING=4116
# PERL_LOCAL_LIB_ROOT=C:\home\pianokey\perl5
# PERL_MB_OPT=--install_base "C:\\home\\pianokey\\perl5"
# PERL_MM_OPT=INSTALL_BASE=C:\\home\\pianokey\\perl5
# PERL_MM_USE_DEFAULT=1
# PERL_USE_UNSAFE_INC=1
# 
# 
# 
# PERL5LIB path
# C:\Strawberry\cpan\build\FFI-Platypus-2.08-0\blib\lib
# C:\Strawberry\cpan\build\FFI-Platypus-2.08-0\blib\arch
# C:\home\pianokey\perl5\lib\perl5/MSWin32-x64-multi-thread
# C:\home\pianokey\perl5\lib\perl5
# C:\home\pianokey\perl5\lib\perl5
# 
# 
# 
# perl                  5.016003 MSWin32 MSWin32-x64-multi-thread
# Alien::Base           2.80
# Alien::FFI            0.27
# Capture::Tiny         0.48
# Devel::Hide           0.0015
# ExtUtils::CBuilder    0.280236
# ExtUtils::MakeMaker   7.70
# ExtUtils::ParseXS     3.44
# FFI::CheckLib         0.31
# File::Spec::Functions 3.75
# IPC::Cmd              0.80
# JSON::PP              4.16
# List::Util            1.63
# Math::LongDouble      0.23
# PkgConfig             0.25026
# Test2::API            1.302195
# Test2::V0             0.000150
# autodie               2.36
# constant              1.33
# forks                 -
# parent                0.241
# 
# 
# 
# mode : already-installed
# Alien::FFI->VERSION      = 0.27
# Alien::FFI->install_type = share
# Alien::FFI->cflags       = -IC:/home/pianokey/perl5/lib/perl5/MSWin32-x64-multi-thread/auto/share/dist/Alien-FFI/include 
# Alien::FFI->libs         = -LC:/home/pianokey/perl5/lib/perl5/MSWin32-x64-multi-thread/auto/share/dist/Alien-FFI/lib/../lib -lffi 
# Alien::FFI->version      = 3.4.4
# my_configure             = %{configure} --disable-shared --enable-static --disable-builddir --build=x86_64-pc-mingw64
# 
# 
# 
# ffi.platypus.memory.strdup_impl =libc
# ffi.platypus.memory.strndup_impl=ffi
# 
# 
# 
# Types:
#   double   : double, float complex
#   float    : float
#   longdouble : double complex, long double, long double complex
#   sint16   : int16_t, short, signed short
#   sint32   : int, int32_t, long, off_t, senum, signed int, signed long
#   sint64   : int64_t, intmax_t, intptr_t, long long, ptrdiff_t, signed long long, ssize_t, time_t
#   sint8    : char, int8_t, signed char
#   uint16   : ino_t, mode_t, uint16_t, unsigned short, ushort, wchar_t, wint_t
#   uint32   : dev_t, enum, uint, uint32_t, ulong, unsigned int, unsigned long
#   uint64   : size_t, uint64_t, uintmax_t, uintptr_t, unsigned long long
#   uint8    : bool, uchar, uint8_t, unsigned char
# 
# 
# 
# ABIs:
#   default_abi          2
#   gnuw64               2
#   win64                1
# 
# 
# 
# Probes:
#   bigendian64          0
#   recordvalue          1
#   longdouble           1
#   complex              1
#   abi                  1
#   bigendian            0
#   alloca               1
#   variadic             1
#   strnlen              1
# 
# 
# 
# [PLATFORM]
# osname            : MSWin32
# cc                : gcc
# cxx               : g++
# cxxld             : g++
# for               : gfortran
# ld                : g++
# ccflags           : -s -O2 -DWIN32 -DWIN64 -DCONSERVATIVE -DPERL_TEXTMODE_SCRIPTS -DPERL_IMPLICIT_CONTEXT -DPERL_IMPLICIT_SYS -fno-strict-aliasing -mms-bitfields -s -O2 -IC:\Strawberry\cpan\build\FFI-Platypus-2.08-0\blib\lib\auto\share\dist\FFI-Platypus\include
# ldflags           : -mdll -s -LC:\Strawberry\perl\lib\CORE -LC:\Strawberry\c\lib -Wl,--enable-auto-import -Wl,--export-all-symbols -Wl,--enable-auto-image-base
# object suffix     : .o
# library prefix    : 
# library suffix    : .dll
# cc mm works       : -MM
# 
# 
# 
t/00_diag.t .............................. ok
t/ffi_build.t ............................ ok
t/ffi_build_file_base.t .................. ok
t/ffi_build_file_c.t ..................... ok
t/ffi_build_file_cxx.t ................... ok
t/ffi_build_file_library.t ............... ok
t/ffi_build_file_object.t ................ ok
t/ffi_build_mm.t ......................... ok
t/ffi_build_platform.t ................... ok
t/ffi_build_plugin.t ..................... ok
t/ffi_build_plugindata.t ................. ok
t/ffi_platypus.t ......................... ok
t/ffi_platypus_api.t ..................... ok
t/ffi_platypus_buffer.t .................. ok
cannot unlink file for C:\Strawberry\cpan\build\FFI-Platypus-2.08-0\.tmp\AGmwPl9upH\lib\auto\share\dist\Foo-Bar1\bar1.dll: Permission denied at t/lib/Test/Cleanup.pm line 27.
cannot remove directory for C:\Strawberry\cpan\build\FFI-Platypus-2.08-0\.tmp\AGmwPl9upH\lib\auto\share\dist\Foo-Bar1: Directory not empty at t/lib/Test/Cleanup.pm line 27.
cannot remove directory for C:\Strawberry\cpan\build\FFI-Platypus-2.08-0\.tmp\AGmwPl9upH\lib\auto\share\dist: Directory not empty at t/lib/Test/Cleanup.pm line 27.
cannot remove directory for C:\Strawberry\cpan\build\FFI-Platypus-2.08-0\.tmp\AGmwPl9upH\lib\auto\share: Directory not empty at t/lib/Test/Cleanup.pm line 27.
cannot remove directory for C:\Strawberry\cpan\build\FFI-Platypus-2.08-0\.tmp\AGmwPl9upH\lib\auto: Directory not empty at t/lib/Test/Cleanup.pm line 27.
cannot remove directory for C:\Strawberry\cpan\build\FFI-Platypus-2.08-0\.tmp\AGmwPl9upH\lib: Directory not empty at t/lib/Test/Cleanup.pm line 27.
cannot remove directory for C:\Strawberry\cpan\build\FFI-Platypus-2.08-0\.tmp\AGmwPl9upH: Directory not empty at t/lib/Test/Cleanup.pm line 27.
cannot unlink file for C:\Strawberry\cpan\build\FFI-Platypus-2.08-0\.tmp\Z1PEWgylG4\lib\auto\share\dist\Foo-Bar2\bar2.dll: Permission denied at t/lib/Test/Cleanup.pm line 27.
cannot remove directory for C:\Strawberry\cpan\build\FFI-Platypus-2.08-0\.tmp\Z1PEWgylG4\lib\auto\share\dist\Foo-Bar2: Directory not empty at t/lib/Test/Cleanup.pm line 27.
cannot remove directory for C:\Strawberry\cpan\build\FFI-Platypus-2.08-0\.tmp\Z1PEWgylG4\lib\auto\share\dist: Directory not empty at t/lib/Test/Cleanup.pm line 27.
cannot remove directory for C:\Strawberry\cpan\build\FFI-Platypus-2.08-0\.tmp\Z1PEWgylG4\lib\auto\share: Directory not empty at t/lib/Test/Cleanup.pm line 27.
cannot remove directory for C:\Strawberry\cpan\build\FFI-Platypus-2.08-0\.tmp\Z1PEWgylG4\lib\auto: Directory not empty at t/lib/Test/Cleanup.pm line 27.
cannot remove directory for C:\Strawberry\cpan\build\FFI-Platypus-2.08-0\.tmp\Z1PEWgylG4\lib: Directory not empty at t/lib/Test/Cleanup.pm line 27.
cannot remove directory for C:\Strawberry\cpan\build\FFI-Platypus-2.08-0\.tmp\Z1PEWgylG4: Directory not empty at t/lib/Test/Cleanup.pm line 27.
cannot unlink file for C:\Strawberry\cpan\build\FFI-Platypus-2.08-0\.tmp\06az9K4Rh0\lib\auto\share\dist\Foo-Bar3\bar3.dll: Permission denied at t/lib/Test/Cleanup.pm line 27.
cannot remove directory for C:\Strawberry\cpan\build\FFI-Platypus-2.08-0\.tmp\06az9K4Rh0\lib\auto\share\dist\Foo-Bar3: Directory not empty at t/lib/Test/Cleanup.pm line 27.
cannot remove directory for C:\Strawberry\cpan\build\FFI-Platypus-2.08-0\.tmp\06az9K4Rh0\lib\auto\share\dist: Directory not empty at t/lib/Test/Cleanup.pm line 27.
cannot remove directory for C:\Strawberry\cpan\build\FFI-Platypus-2.08-0\.tmp\06az9K4Rh0\lib\auto\share: Directory not empty at t/lib/Test/Cleanup.pm line 27.
cannot remove directory for C:\Strawberry\cpan\build\FFI-Platypus-2.08-0\.tmp\06az9K4Rh0\lib\auto: Directory not empty at t/lib/Test/Cleanup.pm line 27.
cannot remove directory for C:\Strawberry\cpan\build\FFI-Platypus-2.08-0\.tmp\06az9K4Rh0\lib: Directory not empty at t/lib/Test/Cleanup.pm line 27.
cannot remove directory for C:\Strawberry\cpan\build\FFI-Platypus-2.08-0\.tmp\06az9K4Rh0: Directory not empty at t/lib/Test/Cleanup.pm line 27.
cannot unlink file for C:\Strawberry\cpan\build\FFI-Platypus-2.08-0\.tmp\wCMzLekJlC\ffi\_build\foo.dll: Permission denied at t/lib/Test/Cleanup.pm line 27.
cannot remove directory for C:\Strawberry\cpan\build\FFI-Platypus-2.08-0\.tmp\wCMzLekJlC\ffi\_build: Directory not empty at t/lib/Test/Cleanup.pm line 27.
cannot remove directory for C:\Strawberry\cpan\build\FFI-Platypus-2.08-0\.tmp\wCMzLekJlC\ffi: Directory not empty at t/lib/Test/Cleanup.pm line 27.
cannot remove directory for C:\Strawberry\cpan\build\FFI-Platypus-2.08-0\.tmp\wCMzLekJlC: Directory not empty at t/lib/Test/Cleanup.pm line 27.
cannot unlink file for C:\Strawberry\cpan\build\FFI-Platypus-2.08-0\.tmp\wCMzLekJlC\ffi\_build\foo.dll: Permission denied at C:\home\pianokey\perl5\lib\perl5/File/Temp.pm line 2643.
cannot remove directory for C:\Strawberry\cpan\build\FFI-Platypus-2.08-0\.tmp\wCMzLekJlC\ffi\_build: Directory not empty at C:\home\pianokey\perl5\lib\perl5/File/Temp.pm line 2643.
cannot remove directory for C:\Strawberry\cpan\build\FFI-Platypus-2.08-0\.tmp\wCMzLekJlC\ffi: Directory not empty at C:\home\pianokey\perl5\lib\perl5/File/Temp.pm line 2643.
cannot remove directory for C:/Strawberry/cpan/build/FFI-Platypus-2.08-0/.tmp/wCMzLekJlC: Directory not empty at C:\home\pianokey\perl5\lib\perl5/File/Temp.pm line 2643.
cannot unlink file for C:\Strawberry\cpan\build\FFI-Platypus-2.08-0\.tmp\06az9K4Rh0\lib\auto\share\dist\Foo-Bar3\bar3.dll: Permission denied at C:\home\pianokey\perl5\lib\perl5/File/Temp.pm line 2643.
cannot remove directory for C:\Strawberry\cpan\build\FFI-Platypus-2.08-0\.tmp\06az9K4Rh0\lib\auto\share\dist\Foo-Bar3: Directory not empty at C:\home\pianokey\perl5\lib\perl5/File/Temp.pm line 2643.
cannot remove directory for C:\Strawberry\cpan\build\FFI-Platypus-2.08-0\.tmp\06az9K4Rh0\lib\auto\share\dist: Directory not empty at C:\home\pianokey\perl5\lib\perl5/File/Temp.pm line 2643.
cannot remove directory for C:\Strawberry\cpan\build\FFI-Platypus-2.08-0\.tmp\06az9K4Rh0\lib\auto\share: Directory not empty at C:\home\pianokey\perl5\lib\perl5/File/Temp.pm line 2643.
cannot remove directory for C:\Strawberry\cpan\build\FFI-Platypus-2.08-0\.tmp\06az9K4Rh0\lib\auto: Directory not empty at C:\home\pianokey\perl5\lib\perl5/File/Temp.pm line 2643.
cannot remove directory for C:\Strawberry\cpan\build\FFI-Platypus-2.08-0\.tmp\06az9K4Rh0\lib: Directory not empty at C:\home\pianokey\perl5\lib\perl5/File/Temp.pm line 2643.
cannot remove directory for C:/Strawberry/cpan/build/FFI-Platypus-2.08-0/.tmp/06az9K4Rh0: Directory not empty at C:\home\pianokey\perl5\lib\perl5/File/Temp.pm line 2643.
cannot unlink file for C:\Strawberry\cpan\build\FFI-Platypus-2.08-0\.tmp\AGmwPl9upH\lib\auto\share\dist\Foo-Bar1\bar1.dll: Permission denied at C:\home\pianokey\perl5\lib\perl5/File/Temp.pm line 2643.
cannot remove directory for C:\Strawberry\cpan\build\FFI-Platypus-2.08-0\.tmp\AGmwPl9upH\lib\auto\share\dist\Foo-Bar1: Directory not empty at C:\home\pianokey\perl5\lib\perl5/File/Temp.pm line 2643.
cannot remove directory for C:\Strawberry\cpan\build\FFI-Platypus-2.08-0\.tmp\AGmwPl9upH\lib\auto\share\dist: Directory not empty at C:\home\pianokey\perl5\lib\perl5/File/Temp.pm line 2643.
cannot remove directory for C:\Strawberry\cpan\build\FFI-Platypus-2.08-0\.tmp\AGmwPl9upH\lib\auto\share: Directory not empty at C:\home\pianokey\perl5\lib\perl5/File/Temp.pm line 2643.
cannot remove directory for C:\Strawberry\cpan\build\FFI-Platypus-2.08-0\.tmp\AGmwPl9upH\lib\auto: Directory not empty at C:\home\pianokey\perl5\lib\perl5/File/Temp.pm line 2643.
cannot remove directory for C:\Strawberry\cpan\build\FFI-Platypus-2.08-0\.tmp\AGmwPl9upH\lib: Directory not empty at C:\home\pianokey\perl5\lib\perl5/File/Temp.pm line 2643.
cannot remove directory for C:/Strawberry/cpan/build/FFI-Platypus-2.08-0/.tmp/AGmwPl9upH: Directory not empty at C:\home\pianokey\perl5\lib\perl5/File/Temp.pm line 2643.
cannot unlink file for C:\Strawberry\cpan\build\FFI-Platypus-2.08-0\.tmp\Z1PEWgylG4\lib\auto\share\dist\Foo-Bar2\bar2.dll: Permission denied at C:\home\pianokey\perl5\lib\perl5/File/Temp.pm line 2643.
cannot remove directory for C:\Strawberry\cpan\build\FFI-Platypus-2.08-0\.tmp\Z1PEWgylG4\lib\auto\share\dist\Foo-Bar2: Directory not empty at C:\home\pianokey\perl5\lib\perl5/File/Temp.pm line 2643.
cannot remove directory for C:\Strawberry\cpan\build\FFI-Platypus-2.08-0\.tmp\Z1PEWgylG4\lib\auto\share\dist: Directory not empty at C:\home\pianokey\perl5\lib\perl5/File/Temp.pm line 2643.
cannot remove directory for C:\Strawberry\cpan\build\FFI-Platypus-2.08-0\.tmp\Z1PEWgylG4\lib\auto\share: Directory not empty at C:\home\pianokey\perl5\lib\perl5/File/Temp.pm line 2643.
cannot remove directory for C:\Strawberry\cpan\build\FFI-Platypus-2.08-0\.tmp\Z1PEWgylG4\lib\auto: Directory not empty at C:\home\pianokey\perl5\lib\perl5/File/Temp.pm line 2643.
cannot remove directory for C:\Strawberry\cpan\build\FFI-Platypus-2.08-0\.tmp\Z1PEWgylG4\lib: Directory not empty at C:\home\pianokey\perl5\lib\perl5/File/Temp.pm line 2643.
cannot remove directory for C:/Strawberry/cpan/build/FFI-Platypus-2.08-0/.tmp/Z1PEWgylG4: Directory not empty at C:\home\pianokey\perl5\lib\perl5/File/Temp.pm line 2643.
t/ffi_platypus_bundle.t .................. ok
t/ffi_platypus_closure.t ................. ok
t/ffi_platypus_constant.t ................ ok
t/ffi_platypus_dl.t ...................... ok
t/ffi_platypus_function.t ................ ok
t/ffi_platypus_function_wrapper.t ........ ok
t/ffi_platypus_internal.t ................ ok
t/ffi_platypus_lang.t .................... ok
t/ffi_platypus_lang_asm.t ................ ok
t/ffi_platypus_lang_c.t .................. ok
t/ffi_platypus_lang_win32.t .............. ok
t/ffi_platypus_legacy.t .................. ok
t/ffi_platypus_memory.t .................. ok
t/ffi_platypus_record.t .................. ok
t/ffi_platypus_record_meta.t ............. ok
t/ffi_platypus_record_tiearray.t ......... ok
t/ffi_platypus_shareconfig.t ............. ok
t/ffi_platypus_type.t .................... ok
t/ffi_platypus_type_pointersizebuffer.t .. ok
t/ffi_platypus_type_stringarray.t ........ ok
t/ffi_platypus_type_stringpointer.t ...... ok
t/ffi_platypus_type_widestring.t ......... ok
t/ffi_platypus_typeparser.t .............. ok
t/ffi_platypus_typeparser_version0.t ..... ok
t/ffi_platypus_typeparser_version1.t ..... ok
t/ffi_platypus_typeparser_version2.t ..... ok
t/ffi_probe.t ............................ ok
t/ffi_probe_runner.t ..................... ok
t/ffi_probe_runner_builder.t ............. ok
t/ffi_probe_runner_result.t .............. ok
t/ffi_temp.t ............................. ok
t/forks.t ................................ skipped: Test requires forks
t/gh117.t ................................ ok
t/gh129.t ................................ ok
t/gh323.t ................................ ok
t/memory.t ............................... skipped: tested only in CI
t/threads.t .............................. ok
t/type_complex_double.t .................. ok
t/type_complex_float.t ................... ok
t/type_custom.t .......................... ok
t/type_double.t .......................... ok
t/type_float.t ........................... ok
t/type_longdouble.t ...................... ok
t/type_longdouble__array.t ............... ok
t/type_longdouble__hide.t ................ ok
t/type_longdouble__ptr.t ................. ok
t/type_opaque.t .......................... ok
t/type_record.t .......................... ok
t/type_record_value.t .................... ok
t/type_sint16.t .......................... ok
t/type_sint32.t .......................... ok
t/type_sint64.t .......................... ok
t/type_sint8.t ........................... ok
t/type_string.t .......................... ok
t/type_uint16.t .......................... ok
t/type_uint32.t .......................... ok
t/type_uint64.t .......................... ok
t/type_uint8.t ........................... ok
All tests successful.
Files=72, Tests=322, 62 wallclock secs ( 0.39 usr +  0.25 sys =  0.64 CPU)
Result: PASS
dmake.exe:  makefile:  line 1289:  Warning: -- Empty recipe for special or meta target .NO_PARALLEL

------------------------------
PREREQUISITES
------------------------------

Prerequisite modules loaded:

requires:

    Module                Need     Have    
    --------------------- -------- --------
    autodie               0        2.36    
    Capture::Tiny         0        0.48    
    constant              1.32     1.33    
    ExtUtils::MakeMaker   7.12     7.70    
    FFI::CheckLib         0.05     0.31    
    File::Spec::Functions 0        3.75    
    IPC::Cmd              0        0.80    
    JSON::PP              0        4.16    
    List::Util            1.45     1.63    
    parent                0        0.241   
    perl                  5.008004 5.016003

build_requires:

    Module                Need     Have    
    --------------------- -------- --------
    Alien::FFI            0.20     0.27    
    Capture::Tiny         0        0.48    
    ExtUtils::CBuilder    0        0.280236
    Test2::API            1.302015 1.302195
    Test2::V0             0.000121 0.000150

configure_requires:

    Module                Need     Have    
    --------------------- -------- --------
    Capture::Tiny         0        0.48    
    ExtUtils::MakeMaker   7.12     7.70    
    ExtUtils::ParseXS     3.30     3.44    
    IPC::Cmd              0        0.80    
    JSON::PP              0        4.16    
    parent                0        0.241   
    perl                  5.006    5.016003


------------------------------
ENVIRONMENT AND OTHER CONTEXT
------------------------------

Environment variables:

    COMSPEC = C:\WINDOWS\system32\cmd.exe
    NONINTERACTIVE_TESTING = 1
    NUMBER_OF_PROCESSORS = 4
    PATH = C:\home\pianokey\perl5\bin;C:\WINDOWS\system32;C:\WINDOWS;C:\WINDOWS\System32\Wbem;C:\WINDOWS\System32\WindowsPowerShell\v1.0\;C:\Strawberry\c\bin;C:\Strawberry\perl\site\bin;C:\Strawberry\perl\bin
    PERL5LIB = C:\home\pianokey\perl5\lib\perl5
    PERL5OPT = 
    PERL5_CPANPLUS_IS_RUNNING = 4116
    PERL5_CPAN_IS_RUNNING = 4116
    PERL_LOCAL_LIB_ROOT = C:\home\pianokey\perl5
    PERL_MB_OPT = --install_base "C:\\home\\pianokey\\perl5"
    PERL_MM_OPT = INSTALL_BASE=C:\\home\\pianokey\\perl5
    PERL_MM_USE_DEFAULT = 1
    PERL_USE_UNSAFE_INC = 1
    PROCESSOR_IDENTIFIER = Intel64 Family 6 Model 58 Stepping 9, GenuineIntel
    TEMP = C:\Users\USER\AppData\Local\Temp
    TERM = dumb

Perl special variables (and OS-specific diagnostics, for MSWin32):

    $^X = C:\Strawberry\perl\bin\perl.exe
    $UID/$EUID = 0 / 0
    $GID = 0
    $EGID = 0
    Win32::GetOSName = Win8
    Win32::GetOSVersion = , 6, 2, 9200, 2, 0, 0, 256, 1
    Win32::FsType = NTFS
    Win32::IsAdminUser = 0

Perl module toolchain versions installed:

    Module              Have    
    ------------------- --------
    CPAN                2.34    
    CPAN::Meta          2.150010
    Cwd                 3.75    
    ExtUtils::CBuilder  0.280236
    ExtUtils::Command   7.70    
    ExtUtils::Install   2.22    
    ExtUtils::MakeMaker 7.70    
    ExtUtils::Manifest  1.75    
    ExtUtils::ParseXS   3.44    
    File::Spec          3.75    
    JSON                4.10    
    JSON::PP            4.16    
    Module::Build       0.42_35 
    Module::Signature   0.88    
    Parse::CPAN::Meta   2.150010
    Test2               1.302195
    Test::Harness       3.45_01 
    Test::More          1.302195
    YAML                1.30    
    YAML::Syck          1.34    
    version             0.9929  


--

Summary of my perl5 (revision 5 version 16 subversion 3) configuration:
   
  Platform:
    osname=MSWin32, osvers=4.0, archname=MSWin32-x64-multi-thread
    uname='Win32 strawberry-perl 5.16.3.1 #1 Tue Mar 12 12:12:07 2013 x64'
    config_args='undef'
    hint=recommended, useposix=true, d_sigaction=undef
    useithreads=define, usemultiplicity=define
    useperlio=define, d_sfio=undef, uselargefiles=define, usesocks=undef
    use64bitint=define, use64bitall=undef, uselongdouble=undef
    usemymalloc=n, bincompat5005=undef
  Compiler:
    cc='gcc', ccflags =' -s -O2 -DWIN32 -DWIN64 -DCONSERVATIVE  -DPERL_TEXTMODE_SCRIPTS -DPERL_IMPLICIT_CONTEXT -DPERL_IMPLICIT_SYS -fno-strict-aliasing -mms-bitfields',
    optimize='-s -O2',
    cppflags='-DWIN32'
    ccversion='', gccversion='4.6.3', gccosandvers=''
    intsize=4, longsize=4, ptrsize=8, doublesize=8, byteorder=12345678
    d_longlong=define, longlongsize=8, d_longdbl=define, longdblsize=12
    ivtype='long long', ivsize=8, nvtype='double', nvsize=8, Off_t='long long', lseeksize=8
    alignbytes=8, prototype=define
  Linker and Libraries:
    ld='g++', ldflags ='-s -L"C:\Strawberry\perl\lib\CORE" -L"C:\Strawberry\c\lib"'
    libpth=C:\Strawberry\c\lib C:\Strawberry\c\x86_64-w64-mingw32\lib
    libs=-lmoldname -lkernel32 -luser32 -lgdi32 -lwinspool -lcomdlg32 -ladvapi32 -lshell32 -lole32 -loleaut32 -lnetapi32 -luuid -lws2_32 -lmpr -lwinmm -lversion -lodbc32 -lodbccp32 -lcomctl32
    perllibs=-lmoldname -lkernel32 -luser32 -lgdi32 -lwinspool -lcomdlg32 -ladvapi32 -lshell32 -lole32 -loleaut32 -lnetapi32 -luuid -lws2_32 -lmpr -lwinmm -lversion -lodbc32 -lodbccp32 -lcomctl32
    libc=, so=dll, useshrplib=true, libperl=libperl516.a
    gnulibc_version=''
  Dynamic Linking:
    dlsrc=dl_win32.xs, dlext=dll, d_dlsymun=undef, ccdlflags=' '
    cccdlflags=' ', lddlflags='-mdll -s -L"C:\Strawberry\perl\lib\CORE" -L"C:\Strawberry\c\lib"'


Characteristics of this binary (from libperl): 
  Compile-time options: HAS_TIMES HAVE_INTERP_INTERN MULTIPLICITY
                        PERLIO_LAYERS PERL_DONT_CREATE_GVSV
                        PERL_IMPLICIT_CONTEXT PERL_IMPLICIT_SYS
                        PERL_MALLOC_WRAP PERL_PRESERVE_IVUV PL_OP_SLAB_ALLOC
                        USE_64_BIT_INT USE_ITHREADS USE_LARGE_FILES
                        USE_LOCALE USE_LOCALE_COLLATE USE_LOCALE_CTYPE
                        USE_LOCALE_NUMERIC USE_PERLIO USE_PERL_ATOF
  Built under MSWin32
  Compiled at Mar 12 2013 12:16:40
  %ENV:
    PERL5LIB="C:\home\pianokey\perl5\lib\perl5"
    PERL5_CPANPLUS_IS_RUNNING="4116"
    PERL5_CPAN_IS_RUNNING="4116"
    PERL_LOCAL_LIB_ROOT="C:\home\pianokey\perl5"
    PERL_MB_OPT="--install_base "C:\\home\\pianokey\\perl5""
    PERL_MM_OPT="INSTALL_BASE=C:\\home\\pianokey\\perl5"
    PERL_MM_USE_DEFAULT="1"
    PERL_USE_UNSAFE_INC="1"
  @INC:
    C:\home\pianokey\perl5\lib\perl5/MSWin32-x64-multi-thread
    C:\home\pianokey\perl5\lib\perl5
    C:/Strawberry/perl/site/lib
    C:/Strawberry/perl/vendor/lib
    C:/Strawberry/perl/lib
    .