Encode v3.16 Perl 5 v5.18.1 x86_64-linux
- Status
- Pass
- From
- Slaven Rezić
- Dist
-
Encode v3.16
- Platform
- Perl 5 v5.18.1 x86_64-linux
- Date
- 2021-10-16 08:20:55
- ID
- fbafb72c-2e59-11ec-9e2f-a51a1f24ea8f
This distribution has been tested as part of the CPAN Testers
project, supporting the Perl programming language. See
http://wiki.cpantesters.org/ for more information or email
questions to cpan-testers-discuss@perl.org
--
Dear Dan Kogai,
This is a computer-generated report for Encode-3.16
on perl 5.18.1, created by CPAN-Reporter-1.2018.
Thank you for uploading your work to CPAN. Congratulations!
All tests were successful.
Sections of this report:
* Tester comments
* Program output
* Prerequisites
* Environment and other context
------------------------------
TESTER COMMENTS
------------------------------
Additional comments from tester:
none provided
------------------------------
PROGRAM OUTPUT
------------------------------
Output from '/usr/bin/make test':
"/opt/perl-5.18.1d/bin/perl5.18.1" -MExtUtils::Command::MM -e 'cp_nonempty' -- Encode.bs blib/arch/auto/Encode/Encode.bs 644
make[1]: Entering directory `/home/cpansand/.cpan/build/2021101610/Encode-3.16-0/Byte'
"/opt/perl-5.18.1d/bin/perl5.18.1" -MExtUtils::Command::MM -e 'cp_nonempty' -- Byte.bs ../blib/arch/auto/Encode/Byte/Byte.bs 644
make[1]: Leaving directory `/home/cpansand/.cpan/build/2021101610/Encode-3.16-0/Byte'
make[1]: Entering directory `/home/cpansand/.cpan/build/2021101610/Encode-3.16-0/CN'
"/opt/perl-5.18.1d/bin/perl5.18.1" -MExtUtils::Command::MM -e 'cp_nonempty' -- CN.bs ../blib/arch/auto/Encode/CN/CN.bs 644
make[1]: Leaving directory `/home/cpansand/.cpan/build/2021101610/Encode-3.16-0/CN'
make[1]: Entering directory `/home/cpansand/.cpan/build/2021101610/Encode-3.16-0/EBCDIC'
"/opt/perl-5.18.1d/bin/perl5.18.1" -MExtUtils::Command::MM -e 'cp_nonempty' -- EBCDIC.bs ../blib/arch/auto/Encode/EBCDIC/EBCDIC.bs 644
make[1]: Leaving directory `/home/cpansand/.cpan/build/2021101610/Encode-3.16-0/EBCDIC'
make[1]: Entering directory `/home/cpansand/.cpan/build/2021101610/Encode-3.16-0/JP'
"/opt/perl-5.18.1d/bin/perl5.18.1" -MExtUtils::Command::MM -e 'cp_nonempty' -- JP.bs ../blib/arch/auto/Encode/JP/JP.bs 644
make[1]: Leaving directory `/home/cpansand/.cpan/build/2021101610/Encode-3.16-0/JP'
make[1]: Entering directory `/home/cpansand/.cpan/build/2021101610/Encode-3.16-0/KR'
"/opt/perl-5.18.1d/bin/perl5.18.1" -MExtUtils::Command::MM -e 'cp_nonempty' -- KR.bs ../blib/arch/auto/Encode/KR/KR.bs 644
make[1]: Leaving directory `/home/cpansand/.cpan/build/2021101610/Encode-3.16-0/KR'
make[1]: Entering directory `/home/cpansand/.cpan/build/2021101610/Encode-3.16-0/Symbol'
"/opt/perl-5.18.1d/bin/perl5.18.1" -MExtUtils::Command::MM -e 'cp_nonempty' -- Symbol.bs ../blib/arch/auto/Encode/Symbol/Symbol.bs 644
make[1]: Leaving directory `/home/cpansand/.cpan/build/2021101610/Encode-3.16-0/Symbol'
make[1]: Entering directory `/home/cpansand/.cpan/build/2021101610/Encode-3.16-0/TW'
"/opt/perl-5.18.1d/bin/perl5.18.1" -MExtUtils::Command::MM -e 'cp_nonempty' -- TW.bs ../blib/arch/auto/Encode/TW/TW.bs 644
make[1]: Leaving directory `/home/cpansand/.cpan/build/2021101610/Encode-3.16-0/TW'
make[1]: Entering directory `/home/cpansand/.cpan/build/2021101610/Encode-3.16-0/Unicode'
"/opt/perl-5.18.1d/bin/perl5.18.1" -MExtUtils::Command::MM -e 'cp_nonempty' -- Unicode.bs ../blib/arch/auto/Encode/Unicode/Unicode.bs 644
make[1]: Leaving directory `/home/cpansand/.cpan/build/2021101610/Encode-3.16-0/Unicode'
make[1]: Entering directory `/home/cpansand/.cpan/build/2021101610/Encode-3.16-0/Byte'
"/opt/perl-5.18.1d/bin/perl5.18.1" -MExtUtils::Command::MM -e 'cp_nonempty' -- Byte.bs ../blib/arch/auto/Encode/Byte/Byte.bs 644
No tests defined for Encode::Byte extension.
make[1]: Leaving directory `/home/cpansand/.cpan/build/2021101610/Encode-3.16-0/Byte'
make[1]: Entering directory `/home/cpansand/.cpan/build/2021101610/Encode-3.16-0/CN'
"/opt/perl-5.18.1d/bin/perl5.18.1" -MExtUtils::Command::MM -e 'cp_nonempty' -- CN.bs ../blib/arch/auto/Encode/CN/CN.bs 644
No tests defined for Encode::CN extension.
make[1]: Leaving directory `/home/cpansand/.cpan/build/2021101610/Encode-3.16-0/CN'
make[1]: Entering directory `/home/cpansand/.cpan/build/2021101610/Encode-3.16-0/EBCDIC'
"/opt/perl-5.18.1d/bin/perl5.18.1" -MExtUtils::Command::MM -e 'cp_nonempty' -- EBCDIC.bs ../blib/arch/auto/Encode/EBCDIC/EBCDIC.bs 644
No tests defined for Encode::EBCDIC extension.
make[1]: Leaving directory `/home/cpansand/.cpan/build/2021101610/Encode-3.16-0/EBCDIC'
make[1]: Entering directory `/home/cpansand/.cpan/build/2021101610/Encode-3.16-0/JP'
"/opt/perl-5.18.1d/bin/perl5.18.1" -MExtUtils::Command::MM -e 'cp_nonempty' -- JP.bs ../blib/arch/auto/Encode/JP/JP.bs 644
No tests defined for Encode::JP extension.
make[1]: Leaving directory `/home/cpansand/.cpan/build/2021101610/Encode-3.16-0/JP'
make[1]: Entering directory `/home/cpansand/.cpan/build/2021101610/Encode-3.16-0/KR'
"/opt/perl-5.18.1d/bin/perl5.18.1" -MExtUtils::Command::MM -e 'cp_nonempty' -- KR.bs ../blib/arch/auto/Encode/KR/KR.bs 644
No tests defined for Encode::KR extension.
make[1]: Leaving directory `/home/cpansand/.cpan/build/2021101610/Encode-3.16-0/KR'
make[1]: Entering directory `/home/cpansand/.cpan/build/2021101610/Encode-3.16-0/Symbol'
"/opt/perl-5.18.1d/bin/perl5.18.1" -MExtUtils::Command::MM -e 'cp_nonempty' -- Symbol.bs ../blib/arch/auto/Encode/Symbol/Symbol.bs 644
No tests defined for Encode::Symbol extension.
make[1]: Leaving directory `/home/cpansand/.cpan/build/2021101610/Encode-3.16-0/Symbol'
make[1]: Entering directory `/home/cpansand/.cpan/build/2021101610/Encode-3.16-0/TW'
"/opt/perl-5.18.1d/bin/perl5.18.1" -MExtUtils::Command::MM -e 'cp_nonempty' -- TW.bs ../blib/arch/auto/Encode/TW/TW.bs 644
No tests defined for Encode::TW extension.
make[1]: Leaving directory `/home/cpansand/.cpan/build/2021101610/Encode-3.16-0/TW'
make[1]: Entering directory `/home/cpansand/.cpan/build/2021101610/Encode-3.16-0/Unicode'
"/opt/perl-5.18.1d/bin/perl5.18.1" -MExtUtils::Command::MM -e 'cp_nonempty' -- Unicode.bs ../blib/arch/auto/Encode/Unicode/Unicode.bs 644
No tests defined for Encode::Unicode extension.
make[1]: Leaving directory `/home/cpansand/.cpan/build/2021101610/Encode-3.16-0/Unicode'
PERL_DL_NONLAZY=1 "/opt/perl-5.18.1d/bin/perl5.18.1" "-MExtUtils::Command::MM" "-MTest::Harness" "-e" "undef *Test::Harness::Switches; test_harness(0, 'blib/lib', 'blib/arch')" t/*.t
t/Aliases.t ................ ok
t/at-cn.t .................. ok
t/at-tw.t .................. ok
t/CJKT.t ................... ok
t/cow.t .................... ok
t/decode.t ................. ok
t/enc_data.t ............... ok
t/enc_eucjp.t .............. ok
t/enc_module.t ............. ok
t/enc_utf8.t ............... ok
t/Encode.t ................. ok
t/Encoder.t ................ ok
t/encoding-locale.t ........ ok
t/encoding.t ............... ok
t/fallback.t ............... ok
t/from_to.t ................ ok
t/grow.t ................... ok
t/gsm0338.t ................ ok
t/guess.t .................. ok
t/isa.t .................... ok
t/jis7-fallback.t .......... ok
t/jperl.t .................. ok
t/magic.t .................. ok
t/mime-header.t ............ ok
t/mime-name.t .............. ok
t/mime_header_iso2022jp.t .. ok
t/perlio.t ................. ok
t/piconv.t ................. ok
t/rt113164.t ............... ok
t/rt65541.t ................ ok
t/rt76824.t ................ ok
t/rt85489.t ................ ok
t/rt86327.t ................ ok
t/taint.t .................. ok
t/truncated_utf8.t ......... ok
t/undef.t .................. ok
t/Unicode.t ................ ok
# temp file: /var/tmp/cpansmoker-1023/2021101610/7_vnl7NrQv
t/Unicode_trailing_nul.t ... ok
t/use-Encode-Alias.t ....... ok
t/utf8ref.t ................ ok
t/utf8strict.t ............. ok
t/utf8warnings.t ........... ok
t/whatwg-aliases.t ......... skipped: For maintainers only
t/xml.t .................... ok
All tests successful.
Test Summary Report
-------------------
t/truncated_utf8.t (Wstat: 0 Tests: 9 Failed: 0)
TODO passed: 9
Files=44, Tests=7778, 8 wallclock secs ( 0.35 usr 0.05 sys + 5.44 cusr 0.60 csys = 6.44 CPU)
Result: PASS
------------------------------
PREREQUISITES
------------------------------
Prerequisite modules loaded:
requires:
Module Need Have
------------------- ----- --------
Exporter 5.57 5.68
parent 0.221 0.225
Storable 0 2.41
build_requires:
Module Need Have
------------------- ----- --------
ExtUtils::MakeMaker 0 7.24
Test::More 0.92 1.302140
configure_requires:
Module Need Have
------------------- ----- --------
ExtUtils::MakeMaker 0 7.24
------------------------------
ENVIRONMENT AND OTHER CONTEXT
------------------------------
Environment variables:
LANG = en_US.UTF-8
LANGUAGE = en_US:en
PATH = /usr/local/bin:/usr/bin:/bin:/usr/local/sbin:/usr/sbin:/sbin:/home/cpansand/bin/linux-gnu:/home/cpansand/bin/sh:/home/cpansand/bin:/usr/games:/home/cpansand/devel:/home/eserte/src/srezic-misc/scripts
PERL5LIB = /home/cpansand/.cpan/build/2021101610/HTTP-CookieJar-0.012-0/blib/arch:/home/cpansand/.cpan/build/2021101610/HTTP-CookieJar-0.012-0/blib/lib:/home/cpansand/.cpan/build/2021101610/URI-5.09-0/blib/arch:/home/cpansand/.cpan/build/2021101610/URI-5.09-0/blib/lib:/home/cpansand/.cpan/build/2021101610/Test-Needs-0.002009-0/blib/arch:/home/cpansand/.cpan/build/2021101610/Test-Needs-0.002009-0/blib/lib:/home/cpansand/.cpan/build/2021101610/HTTP-Date-6.05-0/blib/arch:/home/cpansand/.cpan/build/2021101610/HTTP-Date-6.05-0/blib/lib:/home/cpansand/.cpan/build/2021101610/TimeDate-2.33-0/blib/arch:/home/cpansand/.cpan/build/2021101610/TimeDate-2.33-0/blib/lib:/home/cpansand/.cpan/build/2021101610/Time-Local-1.30-0/blib/arch:/home/cpansand/.cpan/build/2021101610/Time-Local-1.30-0/blib/lib:/home/cpansand/.cpan/build/2021101610/Filter-signatures-0.17-0/blib/arch:/home/cpansand/.cpan/build/2021101610/Filter-signatures-0.17-0/blib/lib:/home/cpansand/.cpan/build/2021101610/Filter-Simple-0.94-0/blib/arch:/home/cpansand/.cpan/build/2021101610/Filter-Simple-0.94-0/blib/lib
PERL5OPT =
PERL5_CPANPLUS_IS_RUNNING = 3292
PERL5_CPAN_IS_RUNNING = 3292
PERL5_CPAN_IS_RUNNING_IN_RECURSION = 2769,3292
PERLDOC = -MPod::Perldoc::ToTextOverstrike
PERL_BATCH = yes
PERL_CANARY_STABILITY_NOPROMPT = 1
PERL_CPAN_REPORTER_CONFIG = /var/tmp/cpansmoker-1023/2021101610/cpanreporter_000_config.ini
PERL_EXTUTILS_AUTOINSTALL = --defaultdeps
SHELL = /bin/zsh
TERM = screen
TMPDIR = /var/tmp/cpansmoker-1023/2021101610
Perl special variables (and OS-specific diagnostics, for MSWin32):
$^X = /opt/perl-5.18.1d/bin/perl5.18.1
$UID/$EUID = 1023 / 1023
$GID = 1023 1023
$EGID = 1023 1023
Perl module toolchain versions installed:
Module Have
------------------- --------
CPAN 2.14
CPAN::Meta 2.150010
Cwd 3.40
ExtUtils::CBuilder 0.280210
ExtUtils::Command 7.24
ExtUtils::Install 1.59
ExtUtils::MakeMaker 7.24
ExtUtils::Manifest 1.70
ExtUtils::ParseXS 3.18
File::Spec 3.40
JSON n/a
JSON::PP 2.27400
Module::Build 0.4220
Module::Signature n/a
Parse::CPAN::Meta 2.150010
Test::Harness 3.36
Test::More 1.302140
YAML 0.84
YAML::Syck 1.27
version 0.9902
--
Summary of my perl5 (revision 5 version 18 subversion 1) configuration:
Platform:
osname=linux, osvers=3.2.0-4-amd64, archname=x86_64-linux
uname='linux cvrsnica-wheezy 3.2.0-4-amd64 #1 smp debian 3.2.41-2+deb7u2 x86_64 gnulinux '
config_args='-ds -e -Dprefix=/opt/perl-5.18.1d -DDEBUGGING'
hint=recommended, useposix=true, d_sigaction=define
useithreads=undef, usemultiplicity=undef
useperlio=define, d_sfio=undef, uselargefiles=define, usesocks=undef
use64bitint=define, use64bitall=define, uselongdouble=undef
usemymalloc=n, bincompat5005=undef
Compiler:
cc='cc', ccflags ='-DDEBUGGING -fno-strict-aliasing -pipe -fstack-protector -I/usr/local/include -D_LARGEFILE_SOURCE -D_FILE_OFFSET_BITS=64',
optimize='-O2 -g',
cppflags='-DDEBUGGING -fno-strict-aliasing -pipe -fstack-protector -I/usr/local/include'
ccversion='', gccversion='4.7.2', gccosandvers=''
intsize=4, longsize=8, ptrsize=8, doublesize=8, byteorder=12345678
d_longlong=define, longlongsize=8, d_longdbl=define, longdblsize=16
ivtype='long', ivsize=8, nvtype='double', nvsize=8, Off_t='off_t', lseeksize=8
alignbytes=8, prototype=define
Linker and Libraries:
ld='cc', ldflags =' -fstack-protector -L/usr/local/lib'
libpth=/usr/local/lib /lib/x86_64-linux-gnu /lib/../lib /usr/lib/x86_64-linux-gnu /usr/lib/../lib /lib /usr/lib
libs=-lnsl -ldl -lm -lcrypt -lutil -lc
perllibs=-lnsl -ldl -lm -lcrypt -lutil -lc
libc=, so=so, useshrplib=false, libperl=libperl.a
gnulibc_version='2.13'
Dynamic Linking:
dlsrc=dl_dlopen.xs, dlext=so, d_dlsymun=undef, ccdlflags='-Wl,-E'
cccdlflags='-fPIC', lddlflags='-shared -O2 -g -L/usr/local/lib -fstack-protector'
Characteristics of this binary (from libperl):
Compile-time options: DEBUGGING HAS_TIMES PERLIO_LAYERS
PERL_DONT_CREATE_GVSV
PERL_HASH_FUNC_ONE_AT_A_TIME_HARD PERL_MALLOC_WRAP
PERL_PRESERVE_IVUV PERL_SAWAMPERSAND USE_64_BIT_ALL
USE_64_BIT_INT USE_LARGE_FILES USE_LOCALE
USE_LOCALE_COLLATE USE_LOCALE_CTYPE
USE_LOCALE_NUMERIC USE_PERLIO USE_PERL_ATOF
Built under linux
Compiled at Nov 7 2013 09:38:13
%ENV:
PERL5LIB="/home/cpansand/.cpan/build/2021101610/HTTP-CookieJar-0.012-0/blib/arch:/home/cpansand/.cpan/build/2021101610/HTTP-CookieJar-0.012-0/blib/lib:/home/cpansand/.cpan/build/2021101610/URI-5.09-0/blib/arch:/home/cpansand/.cpan/build/2021101610/URI-5.09-0/blib/lib:/home/cpansand/.cpan/build/2021101610/Test-Needs-0.002009-0/blib/arch:/home/cpansand/.cpan/build/2021101610/Test-Needs-0.002009-0/blib/lib:/home/cpansand/.cpan/build/2021101610/HTTP-Date-6.05-0/blib/arch:/home/cpansand/.cpan/build/2021101610/HTTP-Date-6.05-0/blib/lib:/home/cpansand/.cpan/build/2021101610/TimeDate-2.33-0/blib/arch:/home/cpansand/.cpan/build/2021101610/TimeDate-2.33-0/blib/lib:/home/cpansand/.cpan/build/2021101610/Time-Local-1.30-0/blib/arch:/home/cpansand/.cpan/build/2021101610/Time-Local-1.30-0/blib/lib:/home/cpansand/.cpan/build/2021101610/Filter-signatures-0.17-0/blib/arch:/home/cpansand/.cpan/build/2021101610/Filter-signatures-0.17-0/blib/lib:/home/cpansand/.cpan/build/2021101610/Filter-Simple-0.94-0/blib/arch:/home/cpansand/.cpan/build/2021101610/Filter-Simple-0.94-0/blib/lib"
PERL5OPT=""
PERL5_CPANPLUS_IS_RUNNING="3292"
PERL5_CPAN_IS_RUNNING="3292"
PERL5_CPAN_IS_RUNNING_IN_RECURSION="2769,3292"
PERLDOC="-MPod::Perldoc::ToTextOverstrike"
PERL_BATCH="yes"
PERL_CANARY_STABILITY_NOPROMPT="1"
PERL_CPAN_REPORTER_CONFIG="/var/tmp/cpansmoker-1023/2021101610/cpanreporter_000_config.ini"
PERL_EXTUTILS_AUTOINSTALL="--defaultdeps"
@INC:
/home/cpansand/.cpan/build/2021101610/HTTP-CookieJar-0.012-0/blib/arch
/home/cpansand/.cpan/build/2021101610/HTTP-CookieJar-0.012-0/blib/lib
/home/cpansand/.cpan/build/2021101610/URI-5.09-0/blib/arch
/home/cpansand/.cpan/build/2021101610/URI-5.09-0/blib/lib
/home/cpansand/.cpan/build/2021101610/Test-Needs-0.002009-0/blib/arch
/home/cpansand/.cpan/build/2021101610/Test-Needs-0.002009-0/blib/lib
/home/cpansand/.cpan/build/2021101610/HTTP-Date-6.05-0/blib/arch
/home/cpansand/.cpan/build/2021101610/HTTP-Date-6.05-0/blib/lib
/home/cpansand/.cpan/build/2021101610/TimeDate-2.33-0/blib/arch
/home/cpansand/.cpan/build/2021101610/TimeDate-2.33-0/blib/lib
/home/cpansand/.cpan/build/2021101610/Time-Local-1.30-0/blib/arch
/home/cpansand/.cpan/build/2021101610/Time-Local-1.30-0/blib/lib
/home/cpansand/.cpan/build/2021101610/Filter-signatures-0.17-0/blib/arch
/home/cpansand/.cpan/build/2021101610/Filter-signatures-0.17-0/blib/lib
/home/cpansand/.cpan/build/2021101610/Filter-Simple-0.94-0/blib/arch
/home/cpansand/.cpan/build/2021101610/Filter-Simple-0.94-0/blib/lib
/opt/perl-5.18.1d/lib/site_perl/5.18.1/x86_64-linux
/opt/perl-5.18.1d/lib/site_perl/5.18.1
/opt/perl-5.18.1d/lib/5.18.1/x86_64-linux
/opt/perl-5.18.1d/lib/5.18.1
.