Encode v3.16 Perl 5 v5.10.0 x86_64-linux
- Status
- Pass
- From
- Chris Williams (BINGOS)
- Dist
-
Encode v3.16
- Platform
- Perl 5 v5.10.0 x86_64-linux
- Date
- 2022-01-01 11:14:26
- ID
- fb1fb2fe-6af3-11ec-bc66-57723b537541
This distribution has been tested as part of the CPAN Testers
project, supporting the Perl programming language. See
http://wiki.cpantesters.org/ for more information or email
questions to cpan-testers-discuss@perl.org
--
Dear Dan Kogai,
This is a computer-generated error report created automatically by
CPANPLUS, version 0.9912. Testers personal comments may appear
at the end of this report.
Thank you for uploading your work to CPAN. Congratulations!
All tests were successful.
TEST RESULTS:
Below is the error stack from stage 'make test':
"/opt/perl-5.10.0/bin/perl" -MExtUtils::Command::MM -e 'cp_nonempty' -- Encode.bs blib/arch/auto/Encode/Encode.bs 644
make[1]: Entering directory '/opt/perl-5.10.0/.cpanplus/5.10.0/build/Wt4m7gI3wF/Encode-3.16/Byte'
"/opt/perl-5.10.0/bin/perl" -MExtUtils::Command::MM -e 'cp_nonempty' -- Byte.bs ../blib/arch/auto/Encode/Byte/Byte.bs 644
make[1]: Leaving directory '/opt/perl-5.10.0/.cpanplus/5.10.0/build/Wt4m7gI3wF/Encode-3.16/Byte'
make[1]: Entering directory '/opt/perl-5.10.0/.cpanplus/5.10.0/build/Wt4m7gI3wF/Encode-3.16/CN'
"/opt/perl-5.10.0/bin/perl" -MExtUtils::Command::MM -e 'cp_nonempty' -- CN.bs ../blib/arch/auto/Encode/CN/CN.bs 644
make[1]: Leaving directory '/opt/perl-5.10.0/.cpanplus/5.10.0/build/Wt4m7gI3wF/Encode-3.16/CN'
make[1]: Entering directory '/opt/perl-5.10.0/.cpanplus/5.10.0/build/Wt4m7gI3wF/Encode-3.16/EBCDIC'
"/opt/perl-5.10.0/bin/perl" -MExtUtils::Command::MM -e 'cp_nonempty' -- EBCDIC.bs ../blib/arch/auto/Encode/EBCDIC/EBCDIC.bs 644
make[1]: Leaving directory '/opt/perl-5.10.0/.cpanplus/5.10.0/build/Wt4m7gI3wF/Encode-3.16/EBCDIC'
make[1]: Entering directory '/opt/perl-5.10.0/.cpanplus/5.10.0/build/Wt4m7gI3wF/Encode-3.16/JP'
"/opt/perl-5.10.0/bin/perl" -MExtUtils::Command::MM -e 'cp_nonempty' -- JP.bs ../blib/arch/auto/Encode/JP/JP.bs 644
make[1]: Leaving directory '/opt/perl-5.10.0/.cpanplus/5.10.0/build/Wt4m7gI3wF/Encode-3.16/JP'
make[1]: Entering directory '/opt/perl-5.10.0/.cpanplus/5.10.0/build/Wt4m7gI3wF/Encode-3.16/KR'
"/opt/perl-5.10.0/bin/perl" -MExtUtils::Command::MM -e 'cp_nonempty' -- KR.bs ../blib/arch/auto/Encode/KR/KR.bs 644
make[1]: Leaving directory '/opt/perl-5.10.0/.cpanplus/5.10.0/build/Wt4m7gI3wF/Encode-3.16/KR'
make[1]: Entering directory '/opt/perl-5.10.0/.cpanplus/5.10.0/build/Wt4m7gI3wF/Encode-3.16/Symbol'
"/opt/perl-5.10.0/bin/perl" -MExtUtils::Command::MM -e 'cp_nonempty' -- Symbol.bs ../blib/arch/auto/Encode/Symbol/Symbol.bs 644
make[1]: Leaving directory '/opt/perl-5.10.0/.cpanplus/5.10.0/build/Wt4m7gI3wF/Encode-3.16/Symbol'
make[1]: Entering directory '/opt/perl-5.10.0/.cpanplus/5.10.0/build/Wt4m7gI3wF/Encode-3.16/TW'
"/opt/perl-5.10.0/bin/perl" -MExtUtils::Command::MM -e 'cp_nonempty' -- TW.bs ../blib/arch/auto/Encode/TW/TW.bs 644
make[1]: Leaving directory '/opt/perl-5.10.0/.cpanplus/5.10.0/build/Wt4m7gI3wF/Encode-3.16/TW'
make[1]: Entering directory '/opt/perl-5.10.0/.cpanplus/5.10.0/build/Wt4m7gI3wF/Encode-3.16/Unicode'
"/opt/perl-5.10.0/bin/perl" -MExtUtils::Command::MM -e 'cp_nonempty' -- Unicode.bs ../blib/arch/auto/Encode/Unicode/Unicode.bs 644
make[1]: Leaving directory '/opt/perl-5.10.0/.cpanplus/5.10.0/build/Wt4m7gI3wF/Encode-3.16/Unicode'
make[1]: Entering directory '/opt/perl-5.10.0/.cpanplus/5.10.0/build/Wt4m7gI3wF/Encode-3.16/Byte'
"/opt/perl-5.10.0/bin/perl" -MExtUtils::Command::MM -e 'cp_nonempty' -- Byte.bs ../blib/arch/auto/Encode/Byte/Byte.bs 644
No tests defined for Encode::Byte extension.
make[1]: Leaving directory '/opt/perl-5.10.0/.cpanplus/5.10.0/build/Wt4m7gI3wF/Encode-3.16/Byte'
make[1]: Entering directory '/opt/perl-5.10.0/.cpanplus/5.10.0/build/Wt4m7gI3wF/Encode-3.16/CN'
"/opt/perl-5.10.0/bin/perl" -MExtUtils::Command::MM -e 'cp_nonempty' -- CN.bs ../blib/arch/auto/Encode/CN/CN.bs 644
No tests defined for Encode::CN extension.
make[1]: Leaving directory '/opt/perl-5.10.0/.cpanplus/5.10.0/build/Wt4m7gI3wF/Encode-3.16/CN'
make[1]: Entering directory '/opt/perl-5.10.0/.cpanplus/5.10.0/build/Wt4m7gI3wF/Encode-3.16/EBCDIC'
"/opt/perl-5.10.0/bin/perl" -MExtUtils::Command::MM -e 'cp_nonempty' -- EBCDIC.bs ../blib/arch/auto/Encode/EBCDIC/EBCDIC.bs 644
No tests defined for Encode::EBCDIC extension.
make[1]: Leaving directory '/opt/perl-5.10.0/.cpanplus/5.10.0/build/Wt4m7gI3wF/Encode-3.16/EBCDIC'
make[1]: Entering directory '/opt/perl-5.10.0/.cpanplus/5.10.0/build/Wt4m7gI3wF/Encode-3.16/JP'
"/opt/perl-5.10.0/bin/perl" -MExtUtils::Command::MM -e 'cp_nonempty' -- JP.bs ../blib/arch/auto/Encode/JP/JP.bs 644
No tests defined for Encode::JP extension.
make[1]: Leaving directory '/opt/perl-5.10.0/.cpanplus/5.10.0/build/Wt4m7gI3wF/Encode-3.16/JP'
make[1]: Entering directory '/opt/perl-5.10.0/.cpanplus/5.10.0/build/Wt4m7gI3wF/Encode-3.16/KR'
"/opt/perl-5.10.0/bin/perl" -MExtUtils::Command::MM -e 'cp_nonempty' -- KR.bs ../blib/arch/auto/Encode/KR/KR.bs 644
No tests defined for Encode::KR extension.
make[1]: Leaving directory '/opt/perl-5.10.0/.cpanplus/5.10.0/build/Wt4m7gI3wF/Encode-3.16/KR'
make[1]: Entering directory '/opt/perl-5.10.0/.cpanplus/5.10.0/build/Wt4m7gI3wF/Encode-3.16/Symbol'
"/opt/perl-5.10.0/bin/perl" -MExtUtils::Command::MM -e 'cp_nonempty' -- Symbol.bs ../blib/arch/auto/Encode/Symbol/Symbol.bs 644
No tests defined for Encode::Symbol extension.
make[1]: Leaving directory '/opt/perl-5.10.0/.cpanplus/5.10.0/build/Wt4m7gI3wF/Encode-3.16/Symbol'
make[1]: Entering directory '/opt/perl-5.10.0/.cpanplus/5.10.0/build/Wt4m7gI3wF/Encode-3.16/TW'
"/opt/perl-5.10.0/bin/perl" -MExtUtils::Command::MM -e 'cp_nonempty' -- TW.bs ../blib/arch/auto/Encode/TW/TW.bs 644
No tests defined for Encode::TW extension.
make[1]: Leaving directory '/opt/perl-5.10.0/.cpanplus/5.10.0/build/Wt4m7gI3wF/Encode-3.16/TW'
make[1]: Entering directory '/opt/perl-5.10.0/.cpanplus/5.10.0/build/Wt4m7gI3wF/Encode-3.16/Unicode'
"/opt/perl-5.10.0/bin/perl" -MExtUtils::Command::MM -e 'cp_nonempty' -- Unicode.bs ../blib/arch/auto/Encode/Unicode/Unicode.bs 644
No tests defined for Encode::Unicode extension.
make[1]: Leaving directory '/opt/perl-5.10.0/.cpanplus/5.10.0/build/Wt4m7gI3wF/Encode-3.16/Unicode'
PERL_DL_NONLAZY=1 "/opt/perl-5.10.0/bin/perl" "-MExtUtils::Command::MM" "-MTest::Harness" "-e" "undef *Test::Harness::Switches; test_harness(0, 'blib/lib', 'blib/arch')" t/*.t
t/Aliases.t ................ ok
t/at-cn.t .................. ok
t/at-tw.t .................. ok
t/CJKT.t ................... ok
t/cow.t .................... ok
t/decode.t ................. ok
t/enc_data.t ............... ok
t/enc_eucjp.t .............. ok
t/enc_module.t ............. ok
t/enc_utf8.t ............... ok
t/Encode.t ................. ok
t/Encoder.t ................ ok
t/encoding-locale.t ........ ok
t/encoding.t ............... ok
t/fallback.t ............... ok
t/from_to.t ................ ok
t/grow.t ................... ok
t/gsm0338.t ................ ok
t/guess.t .................. ok
t/isa.t .................... ok
t/jis7-fallback.t .......... ok
t/jperl.t .................. ok
t/magic.t .................. ok
t/mime-header.t ............ ok
t/mime-name.t .............. ok
t/mime_header_iso2022jp.t .. ok
t/perlio.t ................. ok
t/piconv.t ................. ok
t/rt113164.t ............... ok
t/rt65541.t ................ ok
t/rt76824.t ................ ok
t/rt85489.t ................ ok
t/rt86327.t ................ ok
t/taint.t .................. ok
t/truncated_utf8.t ......... ok
t/undef.t .................. ok
t/Unicode.t ................ ok
# temp file: /tmp/aG4HRNB1k0
t/Unicode_trailing_nul.t ... ok
t/use-Encode-Alias.t ....... ok
t/utf8ref.t ................ ok
t/utf8strict.t ............. ok
t/utf8warnings.t ........... ok
t/whatwg-aliases.t ......... skipped: For maintainers only
t/xml.t .................... ok
All tests successful.
Test Summary Report
-------------------
t/truncated_utf8.t (Wstat: 0 Tests: 9 Failed: 0)
TODO passed: 9
Files=44, Tests=7778, 32 wallclock secs ( 1.87 usr 0.25 sys + 19.84 cusr 8.58 csys = 30.54 CPU)
Result: PASS
PREREQUISITES:
Here is a list of prerequisites you specified and versions we
managed to load:
Module Name Have Want
Exporter 5.74 5.57
ExtUtils::MakeMaker 7.62 0
Storable 3.25 0
Test::More 1.302186 0.92
parent 0.238 0.221
Perl module toolchain versions installed:
Module Name Have
CPANPLUS 0.9914
CPANPLUS::Dist::Build 0.90
Cwd 3.75
ExtUtils::CBuilder 0.280236
ExtUtils::Command 7.62
ExtUtils::Install 2.20
ExtUtils::MakeMaker 7.62
ExtUtils::Manifest 1.73
ExtUtils::ParseXS 3.35
File::Spec 3.75
Module::Build 0.4231
Pod::Parser 1.63
Pod::Simple 3.43
Test2 1.302186
Test::Harness 3.42
Test::More 1.302186
version 0.9929
******************************** NOTE ********************************
The comments above are created mechanically, possibly without manual
checking by the sender. As there are many people performing automatic
tests on each upload to CPAN, it is likely that you will receive
identical messages about the same problem.
If you believe that the message is mistaken, please reply to the first
one with correction and/or additional informations, and do not take
it personally. We appreciate your patience. :)
**********************************************************************
Additional comments:
This report was machine-generated by CPANPLUS::Dist::YACSmoke 1.08.
CPANPLUS is prefering Build.PL
------------------------------
ENVIRONMENT AND OTHER CONTEXT
------------------------------
Environment variables:
AUTOMATED_TESTING = 1
LANG = C.UTF-8
LC_COLLATE = C
PATH = /opt/perl-5.10.0/.cpanplus/5.10.0/build/Wt4m7gI3wF/Encode-3.16/blib/script:/sbin:/usr/sbin:/bin:/usr/bin:/usr/local/sbin:/usr/local/bin
PERL5LIB = :/opt/perl-5.10.0/.cpanplus/5.10.0/build/Wt4m7gI3wF/Encode-3.16/blib/lib:/opt/perl-5.10.0/.cpanplus/5.10.0/build/Wt4m7gI3wF/Encode-3.16/blib/arch
PERL5_CPANIDX_URL = http://cpan.mirror.local/cpanidx/
PERL5_CPANPLUS_HOME = /opt/perl-5.10.0
PERL5_CPANPLUS_IS_RUNNING = 32375
PERL5_CPANPLUS_IS_VERSION = 0.9912
PERL_EXTUTILS_AUTOINSTALL = --defaultdeps
PERL_INSTALL_QUIET = 1
PERL_MM_USE_DEFAULT = 1
SHELL = /bin/ash
TERM = linux
Perl special variables (and OS-specific diagnostics, for MSWin32):
Perl: $^X = /opt/perl-5.10.0/bin/perl
UID: $< = 0
EUID: $> = 0
GID: $( = 0 0 0 1 2 3 4 6 10 11 20 26 27
EGID: $) = 0 0 0 1 2 3 4 6 10 11 20 26 27
-------------------------------
--
Summary of my perl5 (revision 5 version 10 subversion 0) configuration:
Platform:
osname=linux, osvers=5.4.72-0-lts, archname=x86_64-linux
uname='linux asgard 5.4.72-0-lts #1-alpine smp mon, 19 oct 2020 06:22:29 utc x86_64 linux '
config_args='-des -Dprefix=/opt/perl-5.10.0'
hint=recommended, useposix=true, d_sigaction=define
useithreads=undef, usemultiplicity=undef
useperlio=define, d_sfio=undef, uselargefiles=define, usesocks=undef
use64bitint=define, use64bitall=define, uselongdouble=undef
usemymalloc=n, bincompat5005=undef
Compiler:
cc='cc', ccflags ='-D_GNU_SOURCE -fwrapv -fno-strict-aliasing -pipe -D_LARGEFILE_SOURCE -D_FILE_OFFSET_BITS=64',
optimize='-O2',
cppflags='-D_GNU_SOURCE -fwrapv -fno-strict-aliasing -pipe'
ccversion='', gccversion='9.3.0', gccosandvers=''
intsize=4, longsize=8, ptrsize=8, doublesize=8, byteorder=12345678
d_longlong=define, longlongsize=8, d_longdbl=define, longdblsize=16
ivtype='long', ivsize=8, nvtype='double', nvsize=8, Off_t='off_t', lseeksize=8
alignbytes=8, prototype=define
Linker and Libraries:
ld='cc', ldflags =' -L/usr/local/lib'
libpth=/usr/local/lib /lib/../lib /usr/lib/../lib /lib /usr/lib
libs=-lgdbm -ldl -lm -lcrypt -lutil -lc -lgdbm_compat
perllibs=-ldl -lm -lcrypt -lutil -lc -lgdbm_compat
libc=/usr/lib/libc.a, so=so, useshrplib=false, libperl=libperl.a
gnulibc_version=''
Dynamic Linking:
dlsrc=dl_dlopen.xs, dlext=so, d_dlsymun=undef, ccdlflags='-Wl,-E'
cccdlflags='-fPIC', lddlflags='-shared -O2 -L/usr/local/lib'
Characteristics of this binary (from libperl):
Compile-time options: PERL_DONT_CREATE_GVSV PERL_MALLOC_WRAP USE_64_BIT_ALL
USE_64_BIT_INT USE_LARGE_FILES USE_PERLIO
Locally applied patches:
Devel::PatchPerl 2.04
Built under linux
Compiled at Nov 24 2020 12:46:56
%ENV:
PERL5LIB=":/opt/perl-5.10.0/.cpanplus/5.10.0/build/Wt4m7gI3wF/Encode-3.16/blib/lib:/opt/perl-5.10.0/.cpanplus/5.10.0/build/Wt4m7gI3wF/Encode-3.16/blib/arch"
PERL5_CPANIDX_URL="http://cpan.mirror.local/cpanidx/"
PERL5_CPANPLUS_HOME="/opt/perl-5.10.0"
PERL5_CPANPLUS_IS_RUNNING="32375"
PERL5_CPANPLUS_IS_VERSION="0.9912"
PERL_EXTUTILS_AUTOINSTALL="--defaultdeps"
PERL_INSTALL_QUIET="1"
PERL_MM_USE_DEFAULT="1"
@INC:
/opt/perl-5.10.0/.cpanplus/5.10.0/build/Wt4m7gI3wF/Encode-3.16/blib/lib
/opt/perl-5.10.0/.cpanplus/5.10.0/build/Wt4m7gI3wF/Encode-3.16/blib/arch
/opt/perl-5.10.0/lib/5.10.0/x86_64-linux
/opt/perl-5.10.0/lib/5.10.0
/opt/perl-5.10.0/lib/site_perl/5.10.0/x86_64-linux
/opt/perl-5.10.0/lib/site_perl/5.10.0
.