Net-STOMP-Client v2.4 Perl 5 v5.10.1 MSWin32-x86-multi-thread
- Status
- Pass
- From
- NONAME
- Dist
-
Net-STOMP-Client v2.4
- Platform
- Perl 5 v5.10.1 MSWin32-x86-multi-thread
- Date
- 2021-10-15 20:00:29
- ID
- faf1e538-6cff-1014-958e-1020032c038b
This distribution has been tested as part of the CPAN Testers
project, supporting the Perl programming language. See
http://wiki.cpantesters.org/ for more information or email
questions to cpan-testers-discuss@perl.org
--
Dear LCONS,
This is a computer-generated report for Net-STOMP-Client-2.4
on perl 5.10.1, created by App::cpanminus::reporter 0.17 (1.7042).
Thank you for uploading your work to CPAN. Congratulations!
All tests were successful.
Sections of this report:
* Tester comments
* Program output
* Prerequisites
* Environment and other context
------------------------------
TESTER COMMENTS
------------------------------
Additional comments from tester:
none provided
------------------------------
PROGRAM OUTPUT
------------------------------
Output from '':
Building and testing Net-STOMP-Client-2.4
cp lib/Net/STOMP/Client/Peer.pm blib\lib\Net\STOMP\Client\Peer.pm
cp lib/Net/STOMP/Client/IO.pm blib\lib\Net\STOMP\Client\IO.pm
cp lib/Net/STOMP/Client/Connection.pm blib\lib\Net\STOMP\Client\Connection.pm
cp lib/Net/STOMP/Client/Frame.pm blib\lib\Net\STOMP\Client\Frame.pm
cp lib/Net/STOMP/Client/Tutorial.pod blib\lib\Net\STOMP\Client\Tutorial.pod
cp lib/Net/STOMP/Client/HeartBeat.pm blib\lib\Net\STOMP\Client\HeartBeat.pm
cp lib/Net/STOMP/Client.pm blib\lib\Net\STOMP\Client.pm
cp lib/Net/STOMP/Client/Version.pm blib\lib\Net\STOMP\Client\Version.pm
cp lib/Net/STOMP/Client/Receipt.pm blib\lib\Net\STOMP\Client\Receipt.pm
cp lib/Net/STOMP/Client/Auth.pm blib\lib\Net\STOMP\Client\Auth.pm
C:\"Strawberry\perl\bin\perl.exe" "-MExtUtils::Command::MM" "-MTest::Harness" "-e" "undef *Test::Harness::Switches; test_harness(0, 'blib\lib', 'blib\arch')" t/*.t
t/1decode.t ... ok
t/1frame.t .... ok
t/1parse.t .... ok
t/1uri.t ...... ok
t/2broker.t ... skipped: A STOMP broker is required for this test, see t/2broker.t
t/2message.t .. skipped: Messaging::Message required for this test
t/3pod.t ...... ok
t/4podcov.t ... ok
All tests successful.
Files=8, Tests=322, 4 wallclock secs ( 0.19 usr + 0.03 sys = 0.22 CPU)
Result: PASS
------------------------------
PREREQUISITES
------------------------------
Prerequisite modules loaded:
No requirements found
------------------------------
ENVIRONMENT AND OTHER CONTEXT
------------------------------
Environment variables:
COMSPEC = C:\windows\system32\cmd.exe
NUMBER_OF_PROCESSORS = 4
PATH = C:\home\tennis\perl5\bin;C:\windows\system32;C:\windows;C:\windows\System32\Wbem;C:\windows\System32\WindowsPowerShell\v1.0\;C:\Strawberry\c\bin;C:\Strawberry\perl\site\bin;C:\Strawberry\perl\bin
PERL5LIB = C:\home\tennis\perl5\lib\perl5
PERL_LOCAL_LIB_ROOT = C:\home\tennis\perl5
PERL_MB_OPT = --install_base "C:\\home\\tennis\\perl5"
PERL_MM_OPT = INSTALL_BASE=C:\\home\\tennis\\perl5
PROCESSOR_IDENTIFIER = x86 Family 6 Model 37 Stepping 5, GenuineIntel
TEMP = C:\Users\user\AppData\Local\Temp
TERM = dumb
Perl special variables (and OS-specific diagnostics, for MSWin32):
EGID = 0
EUID = 0
EXECUTABLE_NAME = C:\Strawberry\perl\bin\perl.exe
GID = 0
UID = 0
Win32::FsType = NTFS
Win32::GetOSName = Win7
Win32::GetOSVersion = Service Pack 1, 6, 1, 7601, 2, 1, 0, 256, 1
Win32::IsAdminUser = 0
Perl module toolchain versions installed:
Module Have
------------------- --------
CPAN 1.9600
CPAN::Meta 2.150010
Cwd 3.62
ExtUtils::CBuilder 0.280224
ExtUtils::Command 7.63_05
ExtUtils::Install 2.14
ExtUtils::MakeMaker 7.63_05
ExtUtils::Manifest 1.70
ExtUtils::ParseXS 3.30
File::Spec 3.62
JSON 2.94
JSON::PP 2.97001
Module::Build 0.42_28
Module::Signature 0.66
Parse::CPAN::Meta 2.150010
Test::Harness 3.36
Test::More 1.302188
YAML 1.26
YAML::Syck n/a
version 0.9924
--
Summary of my perl5 (revision 5 version 10 subversion 1) configuration:
Platform:
osname=MSWin32, osvers=5.1, archname=MSWin32-x86-multi-thread
uname='Win32 strawberryperl 5.10.1.5 #1 Sun May 15 09:44:53 2011 i386'
config_args='undef'
hint=recommended, useposix=true, d_sigaction=undef
useithreads=define, usemultiplicity=define
useperlio=define, d_sfio=undef, uselargefiles=define, usesocks=undef
use64bitint=undef, use64bitall=undef, uselongdouble=undef
usemymalloc=n, bincompat5005=undef
Compiler:
cc='gcc', ccflags =' -s -O2 -DWIN32 -DHAVE_DES_FCRYPT -DUSE_SITECUSTOMIZE -DPERL_IMPLICIT_CONTEXT -DPERL_IMPLICIT_SYS -fno-strict-aliasing -DPERL_MSVCRT_READFIX',
optimize='-s -O2',
cppflags='-DWIN32'
ccversion='', gccversion='3.4.5', gccosandvers=''
intsize=4, longsize=4, ptrsize=4, doublesize=8, byteorder=1234
d_longlong=undef, longlongsize=8, d_longdbl=define, longdblsize=12
ivtype='long', ivsize=4, nvtype='double', nvsize=8, Off_t='long long', lseeksize=8
alignbytes=8, prototype=define
Linker and Libraries:
ld='g++', ldflags ='-s -L"C:\strawberry\perl\lib\CORE" -L"C:\strawberry\c\lib"'
libpth=C:\strawberry\c\lib
libs= -lmoldname -lkernel32 -luser32 -lgdi32 -lwinspool -lcomdlg32 -ladvapi32 -lshell32 -lole32 -loleaut32 -lnetapi32 -luuid -lws2_32 -lmpr -lwinmm -lversion -lodbc32 -lodbccp32
perllibs= -lmoldname -lkernel32 -luser32 -lgdi32 -lwinspool -lcomdlg32 -ladvapi32 -lshell32 -lole32 -loleaut32 -lnetapi32 -luuid -lws2_32 -lmpr -lwinmm -lversion -lodbc32 -lodbccp32
libc=, so=dll, useshrplib=true, libperl=libperl510.a
gnulibc_version=''
Dynamic Linking:
dlsrc=dl_win32.xs, dlext=dll, d_dlsymun=undef, ccdlflags=' '
cccdlflags=' ', lddlflags='-mdll -s -L"C:\strawberry\perl\lib\CORE" -L"C:\strawberry\c\lib"'
Characteristics of this binary (from libperl):
Compile-time options: MULTIPLICITY PERL_DONT_CREATE_GVSV
PERL_IMPLICIT_CONTEXT PERL_IMPLICIT_SYS
PERL_MALLOC_WRAP PL_OP_SLAB_ALLOC USE_ITHREADS
USE_LARGE_FILES USE_PERLIO USE_SITECUSTOMIZE
Built under MSWin32
Compiled at May 15 2011 09:50:23
%ENV:
PERL5LIB="C:\home\tennis\perl5\lib\perl5"
PERL_LOCAL_LIB_ROOT="C:\home\tennis\perl5"
PERL_MB_OPT="--install_base "C:\\home\\tennis\\perl5""
PERL_MM_OPT="INSTALL_BASE=C:\\home\\tennis\\perl5"
@INC:
C:\home\tennis\perl5\lib\perl5/MSWin32-x86-multi-thread
C:\home\tennis\perl5\lib\perl5
C:/Strawberry/perl/lib
C:/Strawberry/perl/site/lib
C:\strawberry\perl\vendor\lib
.