Net-Stomp v0.60 Perl 5 v5.20.3 x86_64-linux-thread-multi
- Status
- Pass
- From
- Nigel Horne
- Dist
-
Net-Stomp v0.60
- Platform
- Perl 5 v5.20.3 x86_64-linux-thread-multi
- Date
- 2019-07-17 16:43:18
- ID
- fae04be8-a8b1-11e9-8fa9-99a29f1e7dde
This distribution has been tested as part of the CPAN Testers
project, supporting the Perl programming language. See
http://wiki.cpantesters.org/ for more information or email
questions to cpan-testers-discuss@perl.org
--
Dear Gianni Ceccarelli,
This is a computer-generated report for Net-Stomp-0.60
on perl 5.20.3, created by CPAN-Reporter-1.2018.
Thank you for uploading your work to CPAN. Congratulations!
All tests were successful.
Sections of this report:
* Tester comments
* Program output
* Prerequisites
* Environment and other context
------------------------------
TESTER COMMENTS
------------------------------
Additional comments from tester:
this report is from an automated smoke testing program
and was not reviewed by a human for accuracy
------------------------------
PROGRAM OUTPUT
------------------------------
Output from './Build test':
t/connect-disconnect.t .. ok
t/constructor.t ......... ok
t/failover.t ............ ok
t/frame-accessors.t ..... ok
t/initial-connect.t ..... ok
t/pod.t ................. ok
t/read-timeout.t ........ ok
t/pod_coverage.t ........ ok
t/receiving-frames.t .... ok
t/reconnect.t ........... ok
t/send-transactional.t .. ok
t/send-with-receipt.t ... ok
t/sending-frames.t ...... ok
All tests successful.
Files=13, Tests=88, 1 wallclock secs ( 0.11 usr 0.02 sys + 1.75 cusr 0.24 csys = 2.12 CPU)
Result: PASS
------------------------------
PREREQUISITES
------------------------------
Prerequisite modules loaded:
requires:
Module Need Have
---------------------- -------- --------
Class::Accessor::Fast 0 0.34
IO::Select 0 1.22
IO::Socket::INET 0 1.35
Log::Any 1.707 1.707
build_requires:
Module Need Have
---------------------- -------- --------
Log::Any::Adapter::TAP 0.003003 0.003003
Test::Deep 0 0.119
Test::Fatal 0 0.014
Test::More 0 1.302136
! Test::NiceDump v1.0.0 0
configure_requires:
Module Need Have
---------------------- -------- --------
Module::Build 0.42 0.4214
------------------------------
ENVIRONMENT AND OTHER CONTEXT
------------------------------
Environment variables:
AUTOMATED_TESTING = 1
HARNESS_OPTIONS = j2
LANG = en_US.UTF-8
PATH = /home/njh/perl5/perlbrew/bin:/home/njh/perl5/perlbrew/perls/perl-5.20.3/bin:/home/njh/src/njh/smoker/bin:/usr/bin:/bin
PERL5LIB = /tmp/build/Test-NiceDump-1.0.0-14/blib/arch:/tmp/build/Test-NiceDump-1.0.0-14/blib/lib:/tmp/build/Safe-Isa-1.000010-14/blib/arch:/tmp/build/Safe-Isa-1.000010-14/blib/lib:/tmp/build/Log-Any-Adapter-TAP-0.003003-14/blib/arch:/tmp/build/Log-Any-Adapter-TAP-0.003003-14/blib/lib:/tmp/build/Log-Any-1.707-13/blib/arch:/tmp/build/Log-Any-1.707-13/blib/lib
PERL5OPT =
PERL5_CPANPLUS_IS_RUNNING = 17863
PERL5_CPAN_IS_RUNNING = 17863
PERL5_CPAN_IS_RUNNING_IN_RECURSION = 17846,17863
PERLBREW_HOME = /home/njh/.perlbrew
PERLBREW_MANPATH = /home/njh/perl5/perlbrew/perls/perl-5.20.3/man
PERLBREW_PATH = /home/njh/perl5/perlbrew/bin:/home/njh/perl5/perlbrew/perls/perl-5.20.3/bin
PERLBREW_PERL = perl-5.20.3
PERLBREW_ROOT = /home/njh/perl5/perlbrew
PERLBREW_SHELLRC_VERSION = 0.86
PERLBREW_VERSION = 0.86
PERL_USE_UNSAFE_INC = 1
SHELL = /bin/sh
TEMP = /tmp/user/1000
TMPDIR = /tmp/user/1000/testwrapper.17849
Perl special variables (and OS-specific diagnostics, for MSWin32):
$^X = /home/njh/perl5/perlbrew/perls/perl-5.20.3/bin/perl5.20.3
$UID/$EUID = 1000 / 1000
$GID = 1000 4 24 25 29 30 44 46 103 108 115 123 996 1000
$EGID = 1000 4 24 25 29 30 44 46 103 108 115 123 996 1000
Perl module toolchain versions installed:
Module Have
------------------- --------
CPAN 2.25
CPAN::Meta 2.150005
Cwd 3.74
ExtUtils::CBuilder 0.280217
ExtUtils::Command 7.10
ExtUtils::Install 1.67
ExtUtils::MakeMaker 7.10
ExtUtils::Manifest 1.65
ExtUtils::ParseXS 3.24
File::Spec 3.74
JSON 4.02
JSON::PP 2.27400
Module::Build 0.4214
Module::Signature n/a
Parse::CPAN::Meta 1.4422
Test::Harness 3.39
Test::More 1.302136
YAML 1.29
YAML::Syck 1.31
version 0.9909
--
Summary of my perl5 (revision 5 version 20 subversion 3) configuration:
Platform:
osname=linux, osvers=4.1.0-1-amd64, archname=x86_64-linux-thread-multi
uname='linux amelia 4.1.0-1-amd64 #1 smp debian 4.1.3-1 (2015-08-03) x86_64 gnulinux '
config_args='-de -Dprefix=/home/njh/perl5/perlbrew/perls/perl-5.20.3 -Duseithreads -Dusemultiplicity -Dusedevel -Accflags= -Aeval:scriptdir=/home/njh/perl5/perlbrew/perls/perl-5.20.3/bin'
hint=recommended, useposix=true, d_sigaction=define
useithreads=define, usemultiplicity=define
use64bitint=define, use64bitall=define, uselongdouble=undef
usemymalloc=n, bincompat5005=undef
Compiler:
cc='cc', ccflags ='-D_REENTRANT -D_GNU_SOURCE -fwrapv -fno-strict-aliasing -pipe -fstack-protector -I/usr/local/include -D_LARGEFILE_SOURCE -D_FILE_OFFSET_BITS=64',
optimize='-O2',
cppflags='-D_REENTRANT -D_GNU_SOURCE -fwrapv -fno-strict-aliasing -pipe -fstack-protector -I/usr/local/include'
ccversion='', gccversion='5.2.1 20150911', gccosandvers=''
intsize=4, longsize=8, ptrsize=8, doublesize=8, byteorder=12345678
d_longlong=define, longlongsize=8, d_longdbl=define, longdblsize=16
ivtype='long', ivsize=8, nvtype='double', nvsize=8, Off_t='off_t', lseeksize=8
alignbytes=8, prototype=define
Linker and Libraries:
ld='cc', ldflags =' -fstack-protector -L/usr/local/lib'
libpth=/usr/local/lib /usr/lib/gcc/x86_64-linux-gnu/5/include-fixed /usr/include/x86_64-linux-gnu /usr/lib /lib/x86_64-linux-gnu /lib/../lib /usr/lib/x86_64-linux-gnu /usr/lib/../lib /lib
libs=-lpthread -lnsl -lgdbm -ldb -ldl -lm -lcrypt -lutil -lc -lgdbm_compat
perllibs=-lpthread -lnsl -ldl -lm -lcrypt -lutil -lc
libc=libc-2.19.so, so=so, useshrplib=false, libperl=libperl.a
gnulibc_version='2.19'
Dynamic Linking:
dlsrc=dl_dlopen.xs, dlext=so, d_dlsymun=undef, ccdlflags='-Wl,-E'
cccdlflags='-fPIC', lddlflags='-shared -O2 -L/usr/local/lib -fstack-protector'
Characteristics of this binary (from libperl):
Compile-time options: HAS_TIMES MULTIPLICITY PERLIO_LAYERS
PERL_DONT_CREATE_GVSV
PERL_HASH_FUNC_ONE_AT_A_TIME_HARD
PERL_IMPLICIT_CONTEXT PERL_MALLOC_WRAP
PERL_NEW_COPY_ON_WRITE PERL_PRESERVE_IVUV
PERL_USE_DEVEL USE_64_BIT_ALL USE_64_BIT_INT
USE_ITHREADS USE_LARGE_FILES USE_LOCALE
USE_LOCALE_COLLATE USE_LOCALE_CTYPE
USE_LOCALE_NUMERIC USE_PERLIO USE_PERL_ATOF
USE_REENTRANT_API
Built under linux
Compiled at Sep 14 2015 00:32:55
%ENV:
PERL5LIB="/tmp/build/Test-NiceDump-1.0.0-14/blib/arch:/tmp/build/Test-NiceDump-1.0.0-14/blib/lib:/tmp/build/Safe-Isa-1.000010-14/blib/arch:/tmp/build/Safe-Isa-1.000010-14/blib/lib:/tmp/build/Log-Any-Adapter-TAP-0.003003-14/blib/arch:/tmp/build/Log-Any-Adapter-TAP-0.003003-14/blib/lib:/tmp/build/Log-Any-1.707-13/blib/arch:/tmp/build/Log-Any-1.707-13/blib/lib"
PERL5OPT=""
PERL5_CPANPLUS_IS_RUNNING="17863"
PERL5_CPAN_IS_RUNNING="17863"
PERL5_CPAN_IS_RUNNING_IN_RECURSION="17846,17863"
PERLBREW_HOME="/home/njh/.perlbrew"
PERLBREW_MANPATH="/home/njh/perl5/perlbrew/perls/perl-5.20.3/man"
PERLBREW_PATH="/home/njh/perl5/perlbrew/bin:/home/njh/perl5/perlbrew/perls/perl-5.20.3/bin"
PERLBREW_PERL="perl-5.20.3"
PERLBREW_ROOT="/home/njh/perl5/perlbrew"
PERLBREW_SHELLRC_VERSION="0.86"
PERLBREW_VERSION="0.86"
PERL_USE_UNSAFE_INC="1"
@INC:
/tmp/build/Test-NiceDump-1.0.0-14/blib/arch
/tmp/build/Test-NiceDump-1.0.0-14/blib/lib
/tmp/build/Safe-Isa-1.000010-14/blib/arch
/tmp/build/Safe-Isa-1.000010-14/blib/lib
/tmp/build/Log-Any-Adapter-TAP-0.003003-14/blib/arch
/tmp/build/Log-Any-Adapter-TAP-0.003003-14/blib/lib
/tmp/build/Log-Any-1.707-13/blib/arch
/tmp/build/Log-Any-1.707-13/blib/lib
/home/njh/perl5/perlbrew/perls/perl-5.20.3/lib/site_perl/5.20.3/x86_64-linux-thread-multi
/home/njh/perl5/perlbrew/perls/perl-5.20.3/lib/site_perl/5.20.3
/home/njh/perl5/perlbrew/perls/perl-5.20.3/lib/5.20.3/x86_64-linux-thread-multi
/home/njh/perl5/perlbrew/perls/perl-5.20.3/lib/5.20.3
.