App-perlimports v0.000025 Perl 5 v5.16.3 darwin-thread-multi-2level
- Status
- Pass
- From
- David Cantrell (DCANTRELL)
- Dist
-
App-perlimports v0.000025
- Platform
- Perl 5 v5.16.3 darwin-thread-multi-2level
- Date
- 2021-10-14 08:23:14
- ID
- f9efcb18-2cc7-11ec-b513-4cddd25f76f9
This distribution has been tested as part of the CPAN Testers
project, supporting the Perl programming language. See
http://wiki.cpantesters.org/ for more information or email
questions to cpan-testers-discuss@perl.org
--
Dear Olaf Alders,
This is a computer-generated report for App-perlimports-0.000025
on perl 5.16.3, created by CPAN-Reporter-1.2018.
Thank you for uploading your work to CPAN. Congratulations!
All tests were successful.
Sections of this report:
* Tester comments
* Program output
* Prerequisites
* Environment and other context
------------------------------
TESTER COMMENTS
------------------------------
Additional comments from tester:
this report is from an automated smoke testing program
and was not reviewed by a human for accuracy
------------------------------
PROGRAM OUTPUT
------------------------------
Output from '/usr/bin/make test':
PERL_DL_NONLAZY=1 "/Users/cpantesting/cpantesting/perl-5.16.3/bin/perl" "-MExtUtils::Command::MM" "-MTest::Harness" "-e" "undef *Test::Harness::Switches; test_harness(0, 'blib/lib', 'blib/arch')" t/*.t t/ExportInspector/*.t t/cpan-modules/*.t
#
# Versions for all modules listed in MYMETA.json (including optional ones):
#
# === Configure Requires ===
#
# Module Want Have
# ------------------- ---- ----
# ExtUtils::MakeMaker any 7.58
#
# === Build Requires ===
#
# Module Want Have
# ------------------- ---- ----
# ExtUtils::MakeMaker any 7.58
#
# === Test Requires ===
#
# Module Want Have
# ---------------------- ---- --------
# ExtUtils::MakeMaker any 7.58
# File::Spec any 3.75
# Log::Dispatch::Array any 1.003
# Sub::Exporter any 0.987
# Test::Differences any 0.68
# Test::More any 1.302183
# Test::Needs any 0.002006
# Test::RequiresInternet any 0.05
# Test::Script 1.27 1.29
# Test::Warnings any 0.030
# lib any 0.63
#
# === Test Recommends ===
#
# Module Want Have
# ---------- -------- --------
# CPAN::Meta 2.120900 2.143240
#
# === Runtime Requires ===
#
# Module Want Have
# ---------------------------- -------- --------
# Capture::Tiny any 0.48
# Class::Inspector 1.36 1.36
# Data::Dumper any 2.135_06
# Data::UUID any 1.226
# File::Basename any 2.84
# Getopt::Long::Descriptive any 0.109
# List::Util any 1.60
# Log::Dispatch 2.70 2.70
# Memoize any 1.02
# Module::Runtime any 0.016
# Moo any 2.005004
# Moo::Role any 2.005004
# MooX::StrictConstructor any 0.011
# PPI 1.270 1.270
# PPIx::Utils::Classification any 0.003
# Path::Tiny any 0.114
# Perl::Tidy 20210402 20210717
# Pod::Usage any 1.51
# Ref::Util any 0.204
# Sereal::Decoder any 4.018
# Sereal::Encoder any 4.018
# Sub::HandlesVia any 0.016
# Symbol::Get 0.10 0.10
# Text::SimpleTable::AutoWidth any 0.09
# Try::Tiny any 0.30
# Types::Standard any 1.012004
# strict any 1.07
# utf8 any 1.09
# warnings any 1.13
#
t/00-report-prereqs.t ............ ok
t/after.t ........................ skipped: Need List::AllUtils
t/annotations.t .................. ok
t/args-in-import.t ............... ok
t/carp.t ......................... ok
t/cast-in-regex.t ................ ok
t/cast.t ......................... ok
t/cli.t .......................... skipped: Need Perl::Critic::Utils
t/cpan-modules/pithub.t .......... skipped: Need Pithub
t/cpan-modules/test2-v0.t ........ ok
t/datetime.t ..................... ok
t/do-block.t ..................... ok
t/Document.t ..................... ok
t/dump-perl-exports.t ............ ok
t/dupes.t ........................ ok
t/english.t ...................... ok
t/explodes.t ..................... ok
t/export-tags.t .................. ok
t/exported-variables.t ........... ok
t/ExportInspector/load.t ......... ok
t/ExportInspector/SubExporter.t .. skipped: Need MetaCPAN::Moose, MooseX::Types::Moose, MooseX::Types::Path::Class
t/find-bin.t ..................... ok
t/fully-qualified.t .............. ok
t/func-in-use.t .................. ok
t/func-in-var.t .................. ok
t/geo-ip.t ....................... skipped: Need Geo::IP
t/hash-in-regex.t ................ ok
t/hash-key.t ..................... ok
t/heredoc.t ...................... skipped: Need Perl::Critic::Utils
t/ignored-modules.t .............. skipped: Need Geo::IP
t/import-error.t ................. ok
t/interpolation.t ................ ok
t/is-ignored.t ................... ok
t/lookalike-words.t .............. ok
t/meta.t ......................... ok
t/method.t ....................... ok
t/module-with-inner-packages.t ... ok
t/moo.t .......................... ok
t/moose-types.t .................. skipped: Need MooseX::Types::Path::Class
t/moose.t ........................ ok
t/moosex-types-moose.t ........... skipped: Need MooseX::Types, MooseX::Types::Moose
t/nested-quotes.t ................ ok
t/never-exports.t ................ ok
t/padding.t ...................... ok
t/perl-imports.t ................. ok
t/perl.t ......................... ok
t/pragma.t ....................... ok
t/preserve-spaces.t .............. ok
t/qualified-bareword.t ........... ok
t/quoted-var.t ................... ok
t/re-export-via-sub-exporter.t ... ok
t/regex-replacement.t ............ skipped: Need IP::Random 1.200230
t/require.t ...................... ok
t/Sandbox.t ...................... ok
t/script-with-inner-packages.t ... ok
t/skip-all.t ..................... ok
t/socket.t ....................... ok
t/switches-in-import.t ........... ok
t/symbol-as-method-call.t ........ skipped: Need HTML::TableExtract, Object::Tap
t/symbol-in-export.t ............. ok
t/test-most.t .................... ok
t/typeglob.t ..................... ok
t/use-and-require.t .............. ok
t/var-in-regex.t ................. skipped: Need Perl::Critic::Utils
t/variable.t ..................... ok
t/with-version.t ................. skipped: Need Getopt::Long 2.4 (have 2.38)
All tests successful.
Files=66, Tests=122, 34 wallclock secs ( 0.18 usr 0.13 sys + 29.39 cusr 3.86 csys = 33.56 CPU)
Result: PASS
------------------------------
PREREQUISITES
------------------------------
Prerequisite modules loaded:
requires:
Module Need Have
---------------------------- -------- --------
Capture::Tiny 0 0.48
Class::Inspector 1.36 1.36
Data::Dumper 0 2.135_06
Data::UUID 0 1.226
File::Basename 0 2.84
Getopt::Long::Descriptive 0 0.109
List::Util 0 1.60
Log::Dispatch 2.70 2.70
Memoize 0 1.02
Module::Runtime 0 0.016
Moo 0 2.005004
Moo::Role 0 2.005004
MooX::StrictConstructor 0 0.011
Path::Tiny 0 0.114
perl 5.008 5.016003
Perl::Tidy 20210402 20210717
Pod::Usage 0 1.51
PPI 1.270 1.270
PPIx::Utils::Classification 0 0.003
Ref::Util 0 0.204
Sereal::Decoder 0 4.018
Sereal::Encoder 0 4.018
strict 0 1.07
Sub::HandlesVia 0 0.016
Symbol::Get 0.10 0.10
Text::SimpleTable::AutoWidth 0 0.09
Try::Tiny 0 0.30
Types::Standard 0 1.012004
utf8 0 1.09
warnings 0 1.13
build_requires:
Module Need Have
---------------------------- -------- --------
ExtUtils::MakeMaker 0 7.58
File::Spec 0 3.75
lib 0 0.63
Log::Dispatch::Array 0 1.003
Sub::Exporter 0 0.987
Test::Differences 0 0.68
Test::More 0 1.302183
Test::Needs 0 0.002006
Test::RequiresInternet 0 0.05
Test::Script 1.27 1.29
Test::Warnings 0 0.030
configure_requires:
Module Need Have
---------------------------- -------- --------
ExtUtils::MakeMaker 0 7.58
perl 5.008 5.016003
------------------------------
ENVIRONMENT AND OTHER CONTEXT
------------------------------
Environment variables:
AUTOMATED_TESTING = 1
NONINTERACTIVE_TESTING = 1
PATH = /usr/local/bin:/usr/bin:/bin:/usr/sbin:/sbin:/Library/Apple/usr/bin
PERL = 5.16.3
PERL5LIB =
PERL5OPT =
PERL5_CPANPLUS_IS_RUNNING = 22907
PERL5_CPAN_IS_RUNNING = 22907
PERLVER = 5.16.3
PERL_INLINE_DIRECTORY = /Users/cpantesting/.Inline-5.16.3
PERL_MM_USE_DEFAULT = 1
PERL_USE_UNSAFE_INC = 0
SHELL = /bin/bash
TERM = screen
Perl special variables (and OS-specific diagnostics, for MSWin32):
$^X = /Users/cpantesting/cpantesting/perl-5.16.3/bin/perl
$UID/$EUID = 503 / 503
$GID = 20 20 12 61 703 702 701 100
$EGID = 20 20 12 61 703 702 701 100
Perl module toolchain versions installed:
Module Have
------------------- --------
CPAN 1.9800
CPAN::Meta 2.143240
Cwd 3.75
ExtUtils::CBuilder 0.280235
ExtUtils::Command 7.58
ExtUtils::Install 2.06
ExtUtils::MakeMaker 7.58
ExtUtils::Manifest 1.70
ExtUtils::ParseXS 3.35
File::Spec 3.75
JSON 4.03
JSON::PP 4.05
Module::Build 0.4231
Module::Signature n/a
Parse::CPAN::Meta 1.4414
Test::Harness 3.42
Test::More 1.302183
YAML 1.30
YAML::Syck n/a
version 0.99
--
Summary of my perl5 (revision 5 version 16 subversion 3) configuration:
Platform:
osname=darwin, osvers=19.6.0, archname=darwin-thread-multi-2level
uname='darwin harrow.local 19.6.0 darwin kernel version 19.6.0: thu oct 29 22:56:45 pdt 2020; root:xnu-6153.141.2.2~1release_x86_64 x86_64 '
config_args='-de -Dusethreads -Dprefix=/Users/cpantesting/cpantesting/perl-5.16.3'
hint=recommended, useposix=true, d_sigaction=define
useithreads=define, usemultiplicity=define
useperlio=define, d_sfio=undef, uselargefiles=define, usesocks=undef
use64bitint=define, use64bitall=define, uselongdouble=undef
usemymalloc=n, bincompat5005=undef
Compiler:
cc='cc', ccflags ='-fno-common -DPERL_DARWIN -fno-strict-aliasing -pipe -fstack-protector -I/usr/local/include',
optimize='-O3',
cppflags='-fno-common -DPERL_DARWIN -fno-strict-aliasing -pipe -fstack-protector -I/usr/local/include'
ccversion='', gccversion='Apple LLVM 12.0.0 (clang-1200.0.32.27)', gccosandvers=''
intsize=4, longsize=8, ptrsize=8, doublesize=8, byteorder=12345678
d_longlong=define, longlongsize=8, d_longdbl=define, longdblsize=16
ivtype='long', ivsize=8, nvtype='double', nvsize=8, Off_t='off_t', lseeksize=8
alignbytes=8, prototype=define
Linker and Libraries:
ld='env MACOSX_DEPLOYMENT_TARGET=10.3 cc', ldflags =' -fstack-protector -L/usr/local/lib'
libpth=/usr/local/lib /usr/lib
libs=-lgdbm -ldbm -ldl -lm -lutil -lc
perllibs=-ldl -lm -lutil -lc
libc=, so=dylib, useshrplib=false, libperl=libperl.a
gnulibc_version=''
Dynamic Linking:
dlsrc=dl_dlopen.xs, dlext=bundle, d_dlsymun=undef, ccdlflags=' '
cccdlflags=' ', lddlflags=' -bundle -undefined dynamic_lookup -L/usr/local/lib -fstack-protector'
Characteristics of this binary (from libperl):
Compile-time options: HAS_TIMES MULTIPLICITY PERLIO_LAYERS
PERL_DONT_CREATE_GVSV PERL_IMPLICIT_CONTEXT
PERL_MALLOC_WRAP PERL_PRESERVE_IVUV USE_64_BIT_ALL
USE_64_BIT_INT USE_ITHREADS USE_LARGE_FILES
USE_LOCALE USE_LOCALE_COLLATE USE_LOCALE_CTYPE
USE_LOCALE_NUMERIC USE_PERLIO USE_PERL_ATOF
USE_REENTRANT_API
Built under darwin
Compiled at Dec 29 2020 22:52:51
%ENV:
PERL="5.16.3"
PERL5LIB=""
PERL5OPT=""
PERL5_CPANPLUS_IS_RUNNING="22907"
PERL5_CPAN_IS_RUNNING="22907"
PERLVER="5.16.3"
PERL_INLINE_DIRECTORY="/Users/cpantesting/.Inline-5.16.3"
PERL_MM_USE_DEFAULT="1"
PERL_USE_UNSAFE_INC="0"
@INC:
/Users/cpantesting/cpantesting/perl-5.16.3/lib/site_perl/5.16.3/darwin-thread-multi-2level
/Users/cpantesting/cpantesting/perl-5.16.3/lib/site_perl/5.16.3
/Users/cpantesting/cpantesting/perl-5.16.3/lib/5.16.3/darwin-thread-multi-2level
/Users/cpantesting/cpantesting/perl-5.16.3/lib/5.16.3
.