Moo v2.005005 Perl 5 v5.37.9 OpenBSD.amd64-openbsd-ld
- Status
- Pass
- From
- Nigel Horne
- Dist
-
Moo v2.005005
- Platform
- Perl 5 v5.37.9 OpenBSD.amd64-openbsd-ld
- Date
- 2023-03-22 07:55:55
- ID
- f9b06ab6-c886-11ed-93d3-fe20c8ec7121
This distribution has been tested as part of the CPAN Testers
project, supporting the Perl programming language. See
http://wiki.cpantesters.org/ for more information or email
questions to cpan-testers-discuss@perl.org
--
Dear Graham Knop,
This is a computer-generated report for Moo-2.005005
on perl 5.37.9, created by CPAN-Reporter-1.2018.
Thank you for uploading your work to CPAN. Congratulations!
All tests were successful.
Sections of this report:
* Tester comments
* Program output
* Prerequisites
* Environment and other context
------------------------------
TESTER COMMENTS
------------------------------
Additional comments from tester:
this report is from an automated smoke testing program
and was not reviewed by a human for accuracy
------------------------------
PROGRAM OUTPUT
------------------------------
Output from '/usr/bin/make test':
PERL_DL_NONLAZY=1 "/home/njh/perl5/perlbrew/perls/perl-5.37.9-ld/bin/perl5.37.9" -It/lib "-MTestEnv=" "-MExtUtils::Command::MM" "-MTest::Harness" "-e" "undef *Test::Harness::Switches; test_harness(0, 'blib/lib', 'blib/arch')" t/*.t
t/accessor-coerce.t ................ ok
t/accessor-default.t ............... ok
t/accessor-generator-extension.t ... ok
t/accessor-handles.t ............... ok
t/accessor-isa.t ................... ok
t/accessor-mixed.t ................. ok
t/accessor-pred-clear.t ............ ok
t/accessor-reader-writer.t ......... ok
t/accessor-roles.t ................. ok
t/accessor-shortcuts.t ............. ok
t/accessor-trigger.t ............... ok
t/accessor-weaken-pre-5_8_3.t ...... ok
t/accessor-weaken.t ................ ok
t/buildall-subconstructor.t ........ ok
t/buildall.t ....................... ok
t/buildargs-error.t ................ ok
t/buildargs.t ...................... ok
t/coerce-1.t ....................... ok
t/compose-conflicts.t .............. ok
t/compose-non-role.t ............... ok
t/compose-roles.t .................. ok
t/constructor-modify.t ............. ok
t/croak-locations.t ................ ok
t/demolish-basics.t ................ ok
t/demolish-bugs-eats_exceptions.t .. ok
t/demolish-bugs-eats_mini.t ........ ok
t/demolish-global_destruction.t .... ok
t/demolish-throw.t ................. ok
t/does.t ........................... ok
t/extend-constructor.t ............. ok
t/extends-non-moo.t ................ ok
t/extends-role.t ................... ok
t/foreignbuildargs.t ............... ok
t/global_underscore.t .............. ok
t/has-array.t ...................... ok
t/has-before-extends.t ............. ok
t/has-plus.t ....................... ok
t/init-arg.t ....................... ok
t/isa-interfere.t .................. ok
t/lazy_isa.t ....................... ok
t/load_module.t .................... ok
t/load_module_error.t .............. ok
t/load_module_role_tiny.t .......... ok
t/long-package-name.t .............. ok
t/method-generate-accessor.t ....... ok
t/method-generate-constructor.t .... ok
t/modifiers.t ...................... ok
t/modify_lazy_handlers.t ........... ok
t/moo-accessors.t .................. ok
t/moo-c3.t ......................... ok
t/moo-object.t ..................... ok
t/moo-utils-_name_coderef.t ........ ok
t/moo-utils-_subname-Sub-Name.t .... ok
t/moo-utils-_subname.t ............. ok
t/moo-utils.t ...................... ok
t/moo.t ............................ ok
t/mutual-requires.t ................ ok
t/no-build.t ....................... ok
t/no-moo.t ......................... ok
t/non-moo-extends-c3.t ............. ok
t/non-moo-extends.t ................ ok
t/not-both.t ....................... ok
t/not-methods.t .................... ok
t/overloaded-coderefs.t ............ ok
t/overridden-core-funcs.t .......... ok
t/role-conflicts-moox.t ............ ok
t/sub-and-handles.t ................ ok
t/subconstructor.t ................. ok
t/undef-bug.t ...................... ok
t/use-after-no.t ................... ok
t/zzz-check-breaks.t ............... ok
All tests successful.
Files=71, Tests=841, 14 wallclock secs ( 0.36 usr 0.29 sys + 8.97 cusr 4.32 csys = 13.94 CPU)
Result: PASS
------------------------------
PREREQUISITES
------------------------------
Prerequisite modules loaded:
requires:
Module Need Have
------------------------ -------- --------
Carp 0 1.54
Class::Method::Modifiers 1.10 2.15
Exporter 0 5.77
perl 5.006 5.037009
Role::Tiny 2.002003 2.002004
Scalar::Util 1.00 1.63
Sub::Defer 2.006006 2.006008
Sub::Quote 2.006006 2.006008
build_requires:
Module Need Have
------------------------ -------- --------
Test::More 0.94 1.302192
configure_requires:
Module Need Have
------------------------ -------- --------
ExtUtils::MakeMaker 0 7.66
opt_requires:
Module Need Have
------------------------ -------- --------
! Class::XSAccessor 1.18 n/a
Sub::Util 0 1.63
opt_build_requires:
Module Need Have
------------------------ -------- --------
CPAN::Meta::Requirements 0 2.140
Parse::CPAN::Meta 1.4200 2.150010
------------------------------
ENVIRONMENT AND OTHER CONTEXT
------------------------------
Environment variables:
AUTOMATED_TESTING = 1
PATH = /home/njh/perl5/perlbrew/bin:/home/njh/perl5/perlbrew/perls/perl-5.37.9-ld/bin:/home/njh/perl5/perlbrew/bin:/home/njh/src/njh/smoker/bin:/usr/bin:/bin:/usr/sbin:/sbin:/usr/X11R6/bin:/usr/local/bin:/usr/local/sbin
PERL5LIB = /home/njh/.cpan/build/Sub-Quote-2.006008-0/blib/arch:/home/njh/.cpan/build/Sub-Quote-2.006008-0/blib/lib:/home/njh/.cpan/build/Role-Tiny-2.002004-0/blib/arch:/home/njh/.cpan/build/Role-Tiny-2.002004-0/blib/lib:/home/njh/.cpan/build/MRO-Compat-0.15-0/blib/arch:/home/njh/.cpan/build/MRO-Compat-0.15-0/blib/lib:/home/njh/.cpan/build/Hash-Merge-0.302-0/blib/arch:/home/njh/.cpan/build/Hash-Merge-0.302-0/blib/lib:/home/njh/.cpan/build/Clone-Choose-0.010-0/blib/arch:/home/njh/.cpan/build/Clone-Choose-0.010-0/blib/lib:/home/njh/.cpan/build/Test-Without-Module-0.21-0/blib/arch:/home/njh/.cpan/build/Test-Without-Module-0.21-0/blib/lib:/home/njh/.cpan/build/Data-Dumper-Concise-2.023-0/blib/arch:/home/njh/.cpan/build/Data-Dumper-Concise-2.023-0/blib/lib:/home/njh/.cpan/build/Minion-10.25-0/blib/arch:/home/njh/.cpan/build/Minion-10.25-0/blib/lib:/home/njh/.cpan/build/Mojolicious-9.31-0/blib/arch:/home/njh/.cpan/build/Mojolicious-9.31-0/blib/lib:/home/njh/.cpan/build/EV-4.33-1/blib/arch:/home/njh/.cpan/build/EV-4.33-1/blib/lib:/home/njh/.cpan/build/common-sense-3.75-1/blib/arch:/home/njh/.cpan/build/common-sense-3.75-1/blib/lib:/home/njh/.cpan/build/Canary-Stability-2013-1/blib/arch:/home/njh/.cpan/build/Canary-Stability-2013-1/blib/lib:/home/njh/.cpan/build/Class-Method-Modifiers-2.15-1/blib/arch:/home/njh/.cpan/build/Class-Method-Modifiers-2.15-1/blib/lib:/home/njh/.cpan/build/Authen-SASL-2.16-1/blib/arch:/home/njh/.cpan/build/Authen-SASL-2.16-1/blib/lib:/home/njh/.cpan/build/Digest-HMAC-1.04-1/blib/arch:/home/njh/.cpan/build/Digest-HMAC-1.04-1/blib/lib
PERL5OPT =
PERL5_CPANPLUS_IS_RUNNING = 53482
PERL5_CPAN_IS_RUNNING = 53482
PERL5_CPAN_IS_RUNNING_IN_RECURSION = 2942,53482
PERLBREW_LIB =
PERLBREW_MANPATH = /home/njh/perl5/perlbrew/perls/perl-5.37.9-ld/man
PERLBREW_PATH = /home/njh/perl5/perlbrew/bin:/home/njh/perl5/perlbrew/perls/perl-5.37.9-ld/bin
PERLBREW_PERL = perl-5.37.9-ld
PERLBREW_ROOT = /home/njh/perl5/perlbrew
PERLBREW_SHELLRC_VERSION = 0.96
PERLBREW_VERSION = 0.96
PERL_LOCAL_LIB_ROOT =
PERL_MM_USE_DEFAULT = 1
PERL_USE_UNSAFE_INC = 1
SHELL = /usr/local/bin/bash
TMPDIR = /tmp/testwrapper.93851
Perl special variables (and OS-specific diagnostics, for MSWin32):
$^X = /home/njh/perl5/perlbrew/perls/perl-5.37.9-ld/bin/perl5.37.9
$UID/$EUID = 1000 / 1000
$GID = 1000 1000 0
$EGID = 1000 1000 0
Perl module toolchain versions installed:
Module Have
------------------- --------
CPAN 2.34
CPAN::Meta 2.150010
Cwd 3.88
ExtUtils::CBuilder 0.280238
ExtUtils::Command 7.66
ExtUtils::Install 2.22
ExtUtils::MakeMaker 7.66
ExtUtils::Manifest 1.73
ExtUtils::ParseXS 3.49
File::Spec 3.88
JSON n/a
JSON::PP 4.16
Module::Build 0.4232
Module::Signature n/a
Parse::CPAN::Meta 2.150010
Test::Harness 3.44
Test::More 1.302192
YAML 1.30
YAML::Syck 1.34
version 0.9929
--
Summary of my perl5 (revision 5 version 37 subversion 9) configuration:
Platform:
osname=openbsd
osvers=7.1
archname=OpenBSD.amd64-openbsd-ld
uname='openbsd vultr2.bandsman.co.uk 7.1 generic#1 amd64 '
config_args='-de -Dprefix=/home/njh/perl5/perlbrew/perls/perl-5.37.9-ld -Dusedevel -Duselongdouble -Dusedevel -Accflags=-O2 -W -Wformat=2 -Wswitch -Wshadow -Wwrite-strings -Wuninitialized -Wall -pipe -fomit-frame-pointer -pedantic -D_FORTIFY_SOURCE=2 -Wpointer-arith -Wstrict-prototypes -fstack-protector -Wstack-protector -Wextra -Wbad-function-cast -Wcast-align -Wcast-qual -Wdisabled-optimization -Wendif-labels -Wfloat-equal -Wformat-nonliteral -Winline -Wmissing-declarations -Wmissing-prototypes -Wnested-externs -Wpointer-arith -Wundef -Wformat-security -ftree-vectorize -mmmx -msse -mfpmath=sse -msse2 -msse3 -mtune=native -Aeval:scriptdir=/home/njh/perl5/perlbrew/perls/perl-5.37.9-ld/bin'
hint=recommended
useposix=true
d_sigaction=define
useithreads=undef
usemultiplicity=undef
use64bitint=define
use64bitall=define
uselongdouble=define
usemymalloc=n
default_inc_excludes_dot=define
Compiler:
cc='cc'
ccflags ='-O2 -W -Wformat=2 -Wswitch -Wshadow -Wwrite-strings -Wuninitialized -Wall -pipe -fomit-frame-pointer -pedantic -D_FORTIFY_SOURCE=2 -Wpointer-arith -Wstrict-prototypes -fstack-protector -Wstack-protector -Wextra -Wbad-function-cast -Wcast-align -Wcast-qual -Wdisabled-optimization -Wendif-labels -Wfloat-equal -Wformat-nonliteral -Winline -Wmissing-declarations -Wmissing-prototypes -Wnested-externs -Wpointer-arith -Wundef -Wformat-security -ftree-vectorize -mmmx -msse -mfpmath=sse -msse2 -msse3 -mtune=native -fno-strict-aliasing -fstack-protector-strong -I/usr/local/include'
optimize='-O2'
cppflags='-O2 -W -Wformat=2 -Wswitch -Wshadow -Wwrite-strings -Wuninitialized -Wall -pipe -fomit-frame-pointer -pedantic -D_FORTIFY_SOURCE=2 -Wpointer-arith -Wstrict-prototypes -fstack-protector -Wstack-protector -Wextra -Wbad-function-cast -Wcast-align -Wcast-qual -Wdisabled-optimization -Wendif-labels -Wfloat-equal -Wformat-nonliteral -Winline -Wmissing-declarations -Wmissing-prototypes -Wnested-externs -Wpointer-arith -Wundef -Wformat-security -ftree-vectorize -mmmx -msse -mfpmath=sse -msse2 -msse3 -mtune=native -fno-strict-aliasing -fstack-protector-strong -I/usr/local/include'
ccversion=''
gccversion='OpenBSD Clang 13.0.0'
gccosandvers=''
intsize=4
longsize=8
ptrsize=8
doublesize=8
byteorder=12345678
doublekind=3
d_longlong=define
longlongsize=8
d_longdbl=define
longdblsize=16
longdblkind=3
ivtype='long'
ivsize=8
nvtype='long double'
nvsize=16
Off_t='off_t'
lseeksize=8
alignbytes=16
prototype=define
Linker and Libraries:
ld='cc'
ldflags ='-Wl,-E -fstack-protector-strong -L/usr/local/lib'
libpth=/usr/lib/clang/13.0.0/lib /usr/lib /usr/local/lib
libs=-lpthread -lm -lutil -lc
perllibs=-lpthread -lm -lutil -lc
libc=/usr/lib/libc.so.96.1
so=so
useshrplib=false
libperl=libperl.a
gnulibc_version=''
Dynamic Linking:
dlsrc=dl_dlopen.xs
dlext=so
d_dlsymun=undef
ccdlflags=' '
cccdlflags='-DPIC -fPIC '
lddlflags='-shared -fPIC -L/usr/local/lib -fstack-protector-strong'
Characteristics of this binary (from libperl):
Compile-time options:
HAS_TIMES
PERLIO_LAYERS
PERL_COPY_ON_WRITE
PERL_DONT_CREATE_GVSV
PERL_HASH_FUNC_SIPHASH13
PERL_HASH_USE_SBOX32
PERL_MALLOC_WRAP
PERL_OP_PARENT
PERL_PRESERVE_IVUV
PERL_USE_DEVEL
PERL_USE_SAFE_PUTENV
USE_64_BIT_ALL
USE_64_BIT_INT
USE_LARGE_FILES
USE_LOCALE
USE_LOCALE_COLLATE
USE_LOCALE_CTYPE
USE_LOCALE_NUMERIC
USE_LOCALE_TIME
USE_LONG_DOUBLE
USE_PERLIO
USE_PERL_ATOF
Built under openbsd
Compiled at Mar 13 2023 08:36:20
%ENV:
PERL5LIB="/home/njh/.cpan/build/Sub-Quote-2.006008-0/blib/arch:/home/njh/.cpan/build/Sub-Quote-2.006008-0/blib/lib:/home/njh/.cpan/build/Role-Tiny-2.002004-0/blib/arch:/home/njh/.cpan/build/Role-Tiny-2.002004-0/blib/lib:/home/njh/.cpan/build/MRO-Compat-0.15-0/blib/arch:/home/njh/.cpan/build/MRO-Compat-0.15-0/blib/lib:/home/njh/.cpan/build/Hash-Merge-0.302-0/blib/arch:/home/njh/.cpan/build/Hash-Merge-0.302-0/blib/lib:/home/njh/.cpan/build/Clone-Choose-0.010-0/blib/arch:/home/njh/.cpan/build/Clone-Choose-0.010-0/blib/lib:/home/njh/.cpan/build/Test-Without-Module-0.21-0/blib/arch:/home/njh/.cpan/build/Test-Without-Module-0.21-0/blib/lib:/home/njh/.cpan/build/Data-Dumper-Concise-2.023-0/blib/arch:/home/njh/.cpan/build/Data-Dumper-Concise-2.023-0/blib/lib:/home/njh/.cpan/build/Minion-10.25-0/blib/arch:/home/njh/.cpan/build/Minion-10.25-0/blib/lib:/home/njh/.cpan/build/Mojolicious-9.31-0/blib/arch:/home/njh/.cpan/build/Mojolicious-9.31-0/blib/lib:/home/njh/.cpan/build/EV-4.33-1/blib/arch:/home/njh/.cpan/build/EV-4.33-1/blib/lib:/home/njh/.cpan/build/common-sense-3.75-1/blib/arch:/home/njh/.cpan/build/common-sense-3.75-1/blib/lib:/home/njh/.cpan/build/Canary-Stability-2013-1/blib/arch:/home/njh/.cpan/build/Canary-Stability-2013-1/blib/lib:/home/njh/.cpan/build/Class-Method-Modifiers-2.15-1/blib/arch:/home/njh/.cpan/build/Class-Method-Modifiers-2.15-1/blib/lib:/home/njh/.cpan/build/Authen-SASL-2.16-1/blib/arch:/home/njh/.cpan/build/Authen-SASL-2.16-1/blib/lib:/home/njh/.cpan/build/Digest-HMAC-1.04-1/blib/arch:/home/njh/.cpan/build/Digest-HMAC-1.04-1/blib/lib"
PERL5OPT=""
PERL5_CPANPLUS_IS_RUNNING="53482"
PERL5_CPAN_IS_RUNNING="53482"
PERL5_CPAN_IS_RUNNING_IN_RECURSION="2942,53482"
PERLBREW_LIB=""
PERLBREW_MANPATH="/home/njh/perl5/perlbrew/perls/perl-5.37.9-ld/man"
PERLBREW_PATH="/home/njh/perl5/perlbrew/bin:/home/njh/perl5/perlbrew/perls/perl-5.37.9-ld/bin"
PERLBREW_PERL="perl-5.37.9-ld"
PERLBREW_ROOT="/home/njh/perl5/perlbrew"
PERLBREW_SHELLRC_VERSION="0.96"
PERLBREW_VERSION="0.96"
PERL_LOCAL_LIB_ROOT=""
PERL_MM_USE_DEFAULT="1"
PERL_USE_UNSAFE_INC="1"
@INC:
/home/njh/.cpan/build/Sub-Quote-2.006008-0/blib/arch
/home/njh/.cpan/build/Sub-Quote-2.006008-0/blib/lib
/home/njh/.cpan/build/Role-Tiny-2.002004-0/blib/arch
/home/njh/.cpan/build/Role-Tiny-2.002004-0/blib/lib
/home/njh/.cpan/build/MRO-Compat-0.15-0/blib/arch
/home/njh/.cpan/build/MRO-Compat-0.15-0/blib/lib
/home/njh/.cpan/build/Hash-Merge-0.302-0/blib/arch
/home/njh/.cpan/build/Hash-Merge-0.302-0/blib/lib
/home/njh/.cpan/build/Clone-Choose-0.010-0/blib/arch
/home/njh/.cpan/build/Clone-Choose-0.010-0/blib/lib
/home/njh/.cpan/build/Test-Without-Module-0.21-0/blib/arch
/home/njh/.cpan/build/Test-Without-Module-0.21-0/blib/lib
/home/njh/.cpan/build/Data-Dumper-Concise-2.023-0/blib/arch
/home/njh/.cpan/build/Data-Dumper-Concise-2.023-0/blib/lib
/home/njh/.cpan/build/Minion-10.25-0/blib/arch
/home/njh/.cpan/build/Minion-10.25-0/blib/lib
/home/njh/.cpan/build/Mojolicious-9.31-0/blib/arch
/home/njh/.cpan/build/Mojolicious-9.31-0/blib/lib
/home/njh/.cpan/build/EV-4.33-1/blib/arch
/home/njh/.cpan/build/EV-4.33-1/blib/lib
/home/njh/.cpan/build/common-sense-3.75-1/blib/arch
/home/njh/.cpan/build/common-sense-3.75-1/blib/lib
/home/njh/.cpan/build/Canary-Stability-2013-1/blib/arch
/home/njh/.cpan/build/Canary-Stability-2013-1/blib/lib
/home/njh/.cpan/build/Class-Method-Modifiers-2.15-1/blib/arch
/home/njh/.cpan/build/Class-Method-Modifiers-2.15-1/blib/lib
/home/njh/.cpan/build/Authen-SASL-2.16-1/blib/arch
/home/njh/.cpan/build/Authen-SASL-2.16-1/blib/lib
/home/njh/.cpan/build/Digest-HMAC-1.04-1/blib/arch
/home/njh/.cpan/build/Digest-HMAC-1.04-1/blib/lib
/home/njh/perl5/perlbrew/perls/perl-5.37.9-ld/lib/site_perl/5.37.9/OpenBSD.amd64-openbsd-ld
/home/njh/perl5/perlbrew/perls/perl-5.37.9-ld/lib/site_perl/5.37.9
/home/njh/perl5/perlbrew/perls/perl-5.37.9-ld/lib/5.37.9/OpenBSD.amd64-openbsd-ld
/home/njh/perl5/perlbrew/perls/perl-5.37.9-ld/lib/5.37.9
.