Yancy v1.087 Perl 5 v5.32.0 i686-linux-64int-quadmath

Status
Pass
From
David Cantrell (DCANTRELL)
Dist
Yancy v1.087
Platform
Perl 5 v5.32.0 i686-linux-64int-quadmath
Date
2021-12-22 05:35:28
ID
f86a99e2-62e8-11ec-afa1-ec512471f6b5
This distribution has been tested as part of the CPAN Testers
project, supporting the Perl programming language.  See
http://wiki.cpantesters.org/ for more information or email
questions to cpan-testers-discuss@perl.org


--
Dear Doug Bell,

This is a computer-generated report for Yancy-1.087
on perl 5.32.0, created by CPAN-Reporter-1.2018.

Thank you for uploading your work to CPAN.  Congratulations!
All tests were successful.

Sections of this report:

    * Tester comments
    * Program output
    * Prerequisites
    * Environment and other context

------------------------------
TESTER COMMENTS
------------------------------

Additional comments from tester:

this report is from an automated smoke testing program
and was not reviewed by a human for accuracy

------------------------------
PROGRAM OUTPUT
------------------------------

Output from '/usr/bin/make test':

Skip blib/lib/auto/share/dist/Yancy/update_resources.sh (unchanged)
PERL_DL_NONLAZY=1 "/home/david/cpantesting/perl-5.32.0-quadmath-int64/bin/perl" "-MExtUtils::Command::MM" "-MTest::Harness" "-e" "undef *Test::Harness::Switches; test_harness(0, 'blib/lib', 'blib/arch')" t/*.t t/backend/*.t t/command/backend/*.t t/controller/*.t t/examples/*.t t/plugin/*.t t/plugin/auth/*.t t/plugin/form/*.t
t/00-compile.t ............... ok
# 
# Versions for all modules listed in MYMETA.json (including optional ones):
# 
# === Configure Requires ===
# 
#     Module                  Want    Have
#     ----------------------- ---- -------
#     ExtUtils::MakeMaker      any 7.63_11
#     File::ShareDir::Install 0.06    0.13
# 
# === Configure Suggests ===
# 
#     Module      Want Have
#     -------- ------- ----
#     JSON::PP 2.27300 4.04
# 
# === Build Requires ===
# 
#     Module              Want    Have
#     ------------------- ---- -------
#     ExtUtils::MakeMaker  any 7.63_11
# 
# === Test Requires ===
# 
#     Module                  Want     Have
#     ------------------- -------- --------
#     ExtUtils::MakeMaker      any  7.63_11
#     File::Spec               any     3.78
#     File::Temp            0.2307   0.2309
#     IO::Handle               any     1.42
#     IPC::Open3               any     1.21
#     Test::More          1.001005 1.302188
# 
# === Test Recommends ===
# 
#     Module         Want     Have
#     ---------- -------- --------
#     CPAN::Meta 2.120900 2.150010
# 
# === Runtime Requires ===
# 
#     Module                           Want     Have
#     ---------------------------- -------- --------
#     Class::Method::Modifiers          any     2.13
#     Digest                            any  1.17_01
#     Exporter                          any     5.74
#     File::Spec::Functions             any     3.78
#     FindBin                           any     1.51
#     JSON::Validator                  5.00     5.04
#     Mojolicious                         9     9.22
#     Mojolicious::Plugin::I18N         1.6      1.6
#     Mojolicious::Plugin::OpenAPI     5.00     5.02
#     Role::Tiny                   2.000001 2.002004
#     Scalar::Util                      any     1.60
#     Sys::Hostname                     any     1.23
#     Text::Balanced                    any     2.03
# 
t/00-report-prereqs.t ........ ok
x-view is deprecated and will be removed in v2. Use Yancy::Model or your database's CREATE VIEW instead. at /home/david/cpantesting/perl-5.32.0-quadmath-int64/.cpan/build/Yancy-1.087-0/blib/lib/Yancy/Model/Schema.pm line 283.
t/api.t ...................... ok
t/app.t ...................... ok
t/backend/dbic.t ............. skipped: DBIx::Class >= 0.082842 required for this test
t/backend/memory.t ........... ok
t/backend/mysql.t ............ skipped: Mojo::mysql >= 1.0 required for this test
t/backend/pg.t ............... skipped: Mojo::Pg >= 3.0 required for this test
t/backend/sqlite.t ........... skipped: Mojo::SQLite >= 3.005 required for this test
x-view is deprecated and will be removed in v2. Use Yancy::Model or your database's CREATE VIEW instead. at /home/david/cpantesting/perl-5.32.0-quadmath-int64/.cpan/build/Yancy-1.087-0/blib/lib/Yancy/Model/Schema.pm line 283.
t/command/backend/copy.t ..... ok
x-view is deprecated and will be removed in v2. Use Yancy::Model or your database's CREATE VIEW instead. at /home/david/cpantesting/perl-5.32.0-quadmath-int64/.cpan/build/Yancy-1.087-0/blib/lib/Yancy/Model/Schema.pm line 283.
t/config.t ................... ok
x-view is deprecated and will be removed in v2. Use Yancy::Model or your database's CREATE VIEW instead. at /home/david/cpantesting/perl-5.32.0-quadmath-int64/.cpan/build/Yancy-1.087-0/blib/lib/Yancy/Model/Schema.pm line 283.
t/controller/multi_tenant.t .. ok
x-view is deprecated and will be removed in v2. Use Yancy::Model or your database's CREATE VIEW instead. at /home/david/cpantesting/perl-5.32.0-quadmath-int64/.cpan/build/Yancy-1.087-0/blib/lib/Yancy/Model/Schema.pm line 283.
t/controller/yancy.t ......... ok
t/examples/doc-site.t ........ skipped: Set TEST_YANCY_EXAMPLES to run these tests
t/examples/limited-editor.t .. skipped: Set TEST_YANCY_EXAMPLES to run these tests
t/examples/test-app.t ........ skipped: Set TEST_YANCY_EXAMPLES to run these tests
t/examples/todo-app.t ........ skipped: Set TEST_YANCY_EXAMPLES to run these tests
x-view is deprecated and will be removed in v2. Use Yancy::Model or your database's CREATE VIEW instead. at /home/david/cpantesting/perl-5.32.0-quadmath-int64/.cpan/build/Yancy-1.087-0/blib/lib/Yancy/Model/Schema.pm line 283.
[2021-12-22 05:26:23.99570] [17572] [fatal] [hZHF49FmH1qT] Unknown filter: DOES.NOT.EXIST (schema: user, field: email) at /home/david/cpantesting/perl-5.32.0-quadmath-int64/.cpan/build/Yancy-1.087-0/blib/lib/Mojolicious/Plugin/Yancy.pm line 889.

t/filter.t ................... ok
x-view is deprecated and will be removed in v2. Use Yancy::Model or your database's CREATE VIEW instead. at /home/david/cpantesting/perl-5.32.0-quadmath-int64/.cpan/build/Yancy-1.087-0/blib/lib/Yancy/Model/Schema.pm line 283.
t/helpers.t .................. ok
x-view is deprecated and will be removed in v2. Use Yancy::Model or your database's CREATE VIEW instead. at /home/david/cpantesting/perl-5.32.0-quadmath-int64/.cpan/build/Yancy-1.087-0/blib/lib/Yancy/Model/Schema.pm line 283.
t/i18n.t ..................... ok
t/model.t .................... ok
x-view is deprecated and will be removed in v2. Use Yancy::Model or your database's CREATE VIEW instead. at /home/david/cpantesting/perl-5.32.0-quadmath-int64/.cpan/build/Yancy-1.087-0/blib/lib/Yancy/Model/Schema.pm line 283.
t/plugin/auth.t .............. ok
x-view is deprecated and will be removed in v2. Use Yancy::Model or your database's CREATE VIEW instead. at /home/david/cpantesting/perl-5.32.0-quadmath-int64/.cpan/build/Yancy-1.087-0/blib/lib/Yancy/Model/Schema.pm line 283.
The Auth::Basic plugin is deprecated and will be removed in Yancy v2.000. Please migrate to the Auth::Password module.
 at /home/david/cpantesting/perl-5.32.0-quadmath-int64/.cpan/build/Yancy-1.087-0/blib/lib/Yancy/Plugin/Auth/Basic.pm line 256.
t/plugin/auth/basic.t ........ ok
x-view is deprecated and will be removed in v2. Use Yancy::Model or your database's CREATE VIEW instead. at /home/david/cpantesting/perl-5.32.0-quadmath-int64/.cpan/build/Yancy-1.087-0/blib/lib/Yancy/Model/Schema.pm line 283.
t/plugin/auth/github.t ....... ok
x-view is deprecated and will be removed in v2. Use Yancy::Model or your database's CREATE VIEW instead. at /home/david/cpantesting/perl-5.32.0-quadmath-int64/.cpan/build/Yancy-1.087-0/blib/lib/Yancy/Model/Schema.pm line 283.
t/plugin/auth/oauth2.t ....... ok
x-view is deprecated and will be removed in v2. Use Yancy::Model or your database's CREATE VIEW instead. at /home/david/cpantesting/perl-5.32.0-quadmath-int64/.cpan/build/Yancy-1.087-0/blib/lib/Yancy/Model/Schema.pm line 283.
t/plugin/auth/password.t ..... ok
x-view is deprecated and will be removed in v2. Use Yancy::Model or your database's CREATE VIEW instead. at /home/david/cpantesting/perl-5.32.0-quadmath-int64/.cpan/build/Yancy-1.087-0/blib/lib/Yancy/Model/Schema.pm line 283.
t/plugin/auth/token.t ........ ok
t/plugin/editor.t ............ ok
x-view is deprecated and will be removed in v2. Use Yancy::Model or your database's CREATE VIEW instead. at /home/david/cpantesting/perl-5.32.0-quadmath-int64/.cpan/build/Yancy-1.087-0/blib/lib/Yancy/Model/Schema.pm line 283.
[2021-12-22 05:33:37.78070] [19349] [warn] *** Cannot verify that admin editor is behind authentication.
Add a Yancy Auth plugin, add a `route` to the Yancy plugin config,
or set `editor.require_user => undef` to silence this warning

t/plugin/file.t .............. ok
x-view is deprecated and will be removed in v2. Use Yancy::Model or your database's CREATE VIEW instead. at /home/david/cpantesting/perl-5.32.0-quadmath-int64/.cpan/build/Yancy-1.087-0/blib/lib/Yancy/Model/Schema.pm line 283.
[2021-12-22 05:34:03.17467] [19506] [warn] [0KtXB6Y2I3Kt] form_for() called with incomplete request. CSRF token may not validate!
t/plugin/form/bootstrap4.t ... ok
x-view is deprecated and will be removed in v2. Use Yancy::Model or your database's CREATE VIEW instead. at /home/david/cpantesting/perl-5.32.0-quadmath-int64/.cpan/build/Yancy-1.087-0/blib/lib/Yancy/Model/Schema.pm line 283.
t/plugin/roles.t ............. ok
    # Could not load SQLite backend: Mojo::SQLite version 3.005 or higher required
    # BEGIN failed--compilation aborted at /home/david/cpantesting/perl-5.32.0-quadmath-int64/.cpan/build/Yancy-1.087-0/blib/lib/Yancy/Backend/Sqlite.pm line 116.
    # Compilation failed in require at t/register.t line 21.
    # Could not load Pg backend: Mojo::Pg version 4.03 or higher required
    # BEGIN failed--compilation aborted at /home/david/cpantesting/perl-5.32.0-quadmath-int64/.cpan/build/Yancy-1.087-0/blib/lib/Yancy/Backend/Pg.pm line 128.
    # Compilation failed in require at t/register.t line 37.
    # Could not load Mysql backend: Mojo::mysql version 1.05 or higher required
    # BEGIN failed--compilation aborted at /home/david/cpantesting/perl-5.32.0-quadmath-int64/.cpan/build/Yancy-1.087-0/blib/lib/Yancy/Backend/Mysql.pm line 119.
    # Compilation failed in require at t/register.t line 53.
t/register.t ................. ok
t/util.t ..................... ok
All tests successful.
Files=33, Tests=202, 1217 wallclock secs ( 3.41 usr  0.42 sys + 369.24 cusr 22.74 csys = 395.81 CPU)
Result: PASS

------------------------------
PREREQUISITES
------------------------------

Prerequisite modules loaded:

requires:

    Module                       Need     Have    
    ---------------------------- -------- --------
    Class::Method::Modifiers     0        2.13    
    Digest                       0        1.17_01 
    Exporter                     0        5.74    
    File::Spec::Functions        0        3.78    
    FindBin                      0        1.51    
    JSON::Validator              5.00     5.04    
    Mojolicious                  9        9.22    
    Mojolicious::Plugin::I18N    1.6      1.6     
    Mojolicious::Plugin::OpenAPI 5.00     5.02    
    perl                         5.016    5.032000
    Role::Tiny                   2.000001 2.002004
    Scalar::Util                 0        1.60    
    Sys::Hostname                0        1.23    
    Text::Balanced               0        2.03    

build_requires:

    Module                       Need     Have    
    ---------------------------- -------- --------
    ExtUtils::MakeMaker          0        7.63_11 
    File::Spec                   0        3.78    
    File::Temp                   0.2307   0.2309  
    IO::Handle                   0        1.42    
    IPC::Open3                   0        1.21    
    Test::More                   1.001005 1.302188

configure_requires:

    Module                       Need     Have    
    ---------------------------- -------- --------
    ExtUtils::MakeMaker          0        7.63_11 
    File::ShareDir::Install      0.06     0.13    


------------------------------
ENVIRONMENT AND OTHER CONTEXT
------------------------------

Environment variables:

    AUTOMATED_TESTING = 1
    LANG = en_GB.UTF-8
    LANGUAGE = en_GB:en
    LC_TERMINAL = iTerm2
    LC_TERMINAL_VERSION = 3.4.14
    NONINTERACTIVE_TESTING = 1
    PATH = /home/david/perl5/perlbrew/bin:/home/david/perl5/perlbrew/perls/perl-5.32.0/bin:/home/david/bin:/usr/local/bin:/usr/bin:/bin:/usr/local/games:/usr/games
    PERL = 5.32.0-quadmath-int64
    PERL5LIB = 
    PERL5OPT = 
    PERL5_CPANPLUS_IS_RUNNING = 3954
    PERL5_CPAN_IS_RUNNING = 3954
    PERLBREW_HOME = /home/david/.perlbrew
    PERLBREW_MANPATH = /home/david/perl5/perlbrew/perls/perl-5.32.0/man
    PERLBREW_PATH = /home/david/perl5/perlbrew/bin:/home/david/perl5/perlbrew/perls/perl-5.32.0/bin
    PERLBREW_PERL = perl-5.32.0
    PERLBREW_ROOT = /home/david/perl5/perlbrew
    PERLBREW_SHELLRC_VERSION = 0.89
    PERLBREW_VERSION = 0.89
    PERLVER = 5.32.0-quadmath-int64
    PERL_INLINE_DIRECTORY = /home/david/.Inline-5.32.0-quadmath-int64
    PERL_MM_USE_DEFAULT = 1
    PERL_USE_UNSAFE_INC = 0
    SHELL = /bin/bash
    TERM = screen

Perl special variables (and OS-specific diagnostics, for MSWin32):

    $^X = /home/david/cpantesting/perl-5.32.0-quadmath-int64/bin/perl
    $UID/$EUID = 1000 / 1000
    $GID = 1000 24 25 27 29 30 44 46 109 1000
    $EGID = 1000 24 25 27 29 30 44 46 109 1000

Perl module toolchain versions installed:

    Module              Have    
    ------------------- --------
    CPAN                2.31    
    CPAN::Meta          2.150010
    Cwd                 3.78    
    ExtUtils::CBuilder  0.280234
    ExtUtils::Command   7.63_11 
    ExtUtils::Install   2.14    
    ExtUtils::MakeMaker 7.63_11 
    ExtUtils::Manifest  1.72    
    ExtUtils::ParseXS   3.40    
    File::Spec          3.78    
    JSON                4.04    
    JSON::PP            4.04    
    Module::Build       0.4231  
    Module::Signature   n/a     
    Parse::CPAN::Meta   2.150010
    Test::Harness       3.42    
    Test::More          1.302188
    YAML                1.30    
    YAML::Syck          n/a     
    version             0.9924  


--

Summary of my perl5 (revision 5 version 32 subversion 0) configuration:
   
  Platform:
    osname=linux
    osvers=4.19.0-13-686
    archname=i686-linux-64int-quadmath
    uname='linux cpantesting-linux-32bit 4.19.0-13-686 #1 smp debian 4.19.160-2 (2020-11-28) i686 gnulinux '
    config_args='-de -Dprefix=/home/david/cpantesting/perl-5.32.0-quadmath-int64 -Dusequadmath -Duse64bitint'
    hint=recommended
    useposix=true
    d_sigaction=define
    useithreads=undef
    usemultiplicity=undef
    use64bitint=define
    use64bitall=undef
    uselongdouble=undef
    usemymalloc=n
    default_inc_excludes_dot=define
    bincompat5005=undef
  Compiler:
    cc='cc'
    ccflags ='-fwrapv -fno-strict-aliasing -pipe -fstack-protector-strong -I/usr/local/include -D_LARGEFILE_SOURCE -D_FILE_OFFSET_BITS=64 -D_FORTIFY_SOURCE=2'
    optimize='-O2'
    cppflags='-fwrapv -fno-strict-aliasing -pipe -fstack-protector-strong -I/usr/local/include'
    ccversion=''
    gccversion='8.3.0'
    gccosandvers=''
    intsize=4
    longsize=4
    ptrsize=4
    doublesize=8
    byteorder=12345678
    doublekind=3
    d_longlong=define
    longlongsize=8
    d_longdbl=define
    longdblsize=12
    longdblkind=3
    ivtype='long long'
    ivsize=8
    nvtype='__float128'
    nvsize=16
    Off_t='off_t'
    lseeksize=8
    alignbytes=16
    prototype=define
  Linker and Libraries:
    ld='cc'
    ldflags =' -fstack-protector-strong -L/usr/local/lib'
    libpth=/usr/local/lib /usr/lib/gcc/i686-linux-gnu/8/include-fixed /usr/include/i386-linux-gnu /usr/lib /lib/i386-linux-gnu /lib/../lib /usr/lib/i386-linux-gnu /usr/lib/../lib /lib /lib64 /usr/lib64
    libs=-lpthread -lnsl -ldl -lm -lcrypt -lutil -lc -lquadmath
    perllibs=-lpthread -lnsl -ldl -lm -lcrypt -lutil -lc -lquadmath
    libc=libc-2.28.so
    so=so
    useshrplib=false
    libperl=libperl.a
    gnulibc_version='2.28'
  Dynamic Linking:
    dlsrc=dl_dlopen.xs
    dlext=so
    d_dlsymun=undef
    ccdlflags='-Wl,-E'
    cccdlflags='-fPIC'
    lddlflags='-shared -O2 -L/usr/local/lib -fstack-protector-strong'


Characteristics of this binary (from libperl): 
  Compile-time options:
    HAS_TIMES
    PERLIO_LAYERS
    PERL_COPY_ON_WRITE
    PERL_DONT_CREATE_GVSV
    PERL_MALLOC_WRAP
    PERL_OP_PARENT
    PERL_PRESERVE_IVUV
    USE_64_BIT_INT
    USE_LARGE_FILES
    USE_LOCALE
    USE_LOCALE_COLLATE
    USE_LOCALE_CTYPE
    USE_LOCALE_NUMERIC
    USE_LOCALE_TIME
    USE_PERLIO
    USE_PERL_ATOF
    USE_QUADMATH
  Built under linux
  Compiled at Jun  6 2021 23:44:14
  %ENV:
    PERL="5.32.0-quadmath-int64"
    PERL5LIB=""
    PERL5OPT=""
    PERL5_CPANPLUS_IS_RUNNING="3954"
    PERL5_CPAN_IS_RUNNING="3954"
    PERLBREW_HOME="/home/david/.perlbrew"
    PERLBREW_MANPATH="/home/david/perl5/perlbrew/perls/perl-5.32.0/man"
    PERLBREW_PATH="/home/david/perl5/perlbrew/bin:/home/david/perl5/perlbrew/perls/perl-5.32.0/bin"
    PERLBREW_PERL="perl-5.32.0"
    PERLBREW_ROOT="/home/david/perl5/perlbrew"
    PERLBREW_SHELLRC_VERSION="0.89"
    PERLBREW_VERSION="0.89"
    PERLVER="5.32.0-quadmath-int64"
    PERL_INLINE_DIRECTORY="/home/david/.Inline-5.32.0-quadmath-int64"
    PERL_MM_USE_DEFAULT="1"
    PERL_USE_UNSAFE_INC="0"
  @INC:
    /home/david/cpantesting/perl-5.32.0-quadmath-int64/lib/site_perl/5.32.0/i686-linux-64int-quadmath
    /home/david/cpantesting/perl-5.32.0-quadmath-int64/lib/site_perl/5.32.0
    /home/david/cpantesting/perl-5.32.0-quadmath-int64/lib/5.32.0/i686-linux-64int-quadmath
    /home/david/cpantesting/perl-5.32.0-quadmath-int64/lib/5.32.0