Org-Parser v0.555 Perl 5 v5.20.3 x86_64-linux

Status
Pass
From
Slaven Rezić
Dist
Org-Parser v0.555
Platform
Perl 5 v5.20.3 x86_64-linux
Date
2021-09-18 01:08:44
ID
f83aa03c-181c-11ec-ae8f-c8881f24ea8f
This distribution has been tested as part of the CPAN Testers
project, supporting the Perl programming language.  See
http://wiki.cpantesters.org/ for more information or email
questions to cpan-testers-discuss@perl.org


--
Dear perlancar,

This is a computer-generated report for Org-Parser-0.555
on perl 5.20.3, created by CPAN-Reporter-1.2018.

Thank you for uploading your work to CPAN.  Congratulations!
All tests were successful.

Sections of this report:

    * Tester comments
    * Program output
    * Prerequisites
    * Environment and other context

------------------------------
TESTER COMMENTS
------------------------------

Additional comments from tester:

none provided

------------------------------
PROGRAM OUTPUT
------------------------------

Output from '/usr/bin/make test':

PERL_DL_NONLAZY=1 "/opt/perl-5.20.3/bin/perl" "-MExtUtils::Command::MM" "-MTest::Harness" "-e" "undef *Test::Harness::Switches; test_harness(0, 'blib/lib', 'blib/arch')" t/*.t
t/00-compile.t ............... ok
t/01-basics.t ................ ok
t/author-critic.t ............ skipped: these tests are for testing by the author
t/author-pod-coverage.t ...... skipped: these tests are for testing by the author
t/author-pod-syntax.t ........ skipped: these tests are for testing by the author
t/base_element-field_name.t .. ok
t/base_element.t ............. ok
t/block.t .................... ok
t/comment.t .................. ok
t/document.t ................. ok
t/drawer.t ................... ok
t/fixed_width_section.t ...... ok
t/footnote.t ................. ok
t/headline-get_property.t .... ok
t/headline.t ................. ok
t/link_and_target.t .......... ok
t/list.t ..................... ok
t/radio_target.t ............. ok
t/regression-rt68443.t ....... ok
t/rt98375.t .................. ok
t/setting-todo.t ............. ok
t/setting.t .................. ok
t/table.t .................... ok
t/text.t ..................... ok
t/timerange.t ................ ok
t/timestamp.t ................ ok
t/unicode.t .................. ok
t/various.t .................. ok
All tests successful.
Files=28, Tests=120,  8 wallclock secs ( 0.11 usr  0.02 sys +  3.68 cusr  0.42 csys =  4.23 CPU)
Result: PASS

------------------------------
PREREQUISITES
------------------------------

Prerequisite modules loaded:

requires:

    Module                      Need     Have    
    --------------------------- -------- --------
    Cwd                         0        3.48_01 
    DateTime                    0        1.54    
    DateTime::Event::Recurrence 0        0.19    
    Digest::MD5                 0        2.53    
    experimental                0        0.025   
    File::Slurper               0        0.012   
    if                          0        0.0603  
    List::MoreUtils             0        0.430   
    locale                      0        1.03    
    Log::ger                    0.038    0.038   
    Module::List                0        0.004   
    Module::Load                0        0.32    
    Moo                         0        2.005004
    Moo::Role                   0        2.005004
    perl                        5.010001 5.020003
    Scalar::Util                0        1.58    
    Storable                    3.08     3.25    
    Time::HiRes                 0        1.9764  
    utf8                        0        1.13_01 
    warnings                    0        1.23    

build_requires:

    Module                      Need     Have    
    --------------------------- -------- --------
    ExtUtils::MakeMaker         0        7.62    
    File::Spec                  0        3.48_01 
    File::Temp                  0.2307   0.2311  
    FindBin                     0        1.52    
    IO::Handle                  0        1.48    
    IPC::Open3                  0        1.16    
    lib                         0        0.63    
    Module::Loaded              0        0.08    
    Org::Dump                   0.551    0.552   
    strict                      0        1.08    
    Test::Exception             0        0.43    
    Test::More                  0.98     1.302186

configure_requires:

    Module                      Need     Have    
    --------------------------- -------- --------
    ExtUtils::MakeMaker         0        7.62    


------------------------------
ENVIRONMENT AND OTHER CONTEXT
------------------------------

Environment variables:

    LANG = en_US.UTF-8
    PATH = /usr/local/bin:/usr/bin:/bin:/usr/local/sbin:/usr/sbin:/sbin:/home/cpansand/bin/linux-gnu:/home/cpansand/bin/sh:/home/cpansand/bin:/usr/games:/home/cpansand/devel:/home/eserte/src/srezic-misc/scripts
    PERL5LIB = /home/cpansand/.local/share/.cpan/build/2021091803/Org-Dump-0.552-2/blib/arch:/home/cpansand/.local/share/.cpan/build/2021091803/Org-Dump-0.552-2/blib/lib:/home/cpansand/.local/share/.cpan/build/2021091803/DateTime-Event-Recurrence-0.19-2/blib/arch:/home/cpansand/.local/share/.cpan/build/2021091803/DateTime-Event-Recurrence-0.19-2/blib/lib:/home/cpansand/.local/share/.cpan/build/2021091803/File-Slurper-Dash-0.001-2/blib/arch:/home/cpansand/.local/share/.cpan/build/2021091803/File-Slurper-Dash-0.001-2/blib/lib:/home/cpansand/.local/share/.cpan/build/2021091803/Data-Sah-Filter-perl-Str-replace_dashes_with_underscores-0.001-2/blib/arch:/home/cpansand/.local/share/.cpan/build/2021091803/Data-Sah-Filter-perl-Str-replace_dashes_with_underscores-0.001-2/blib/lib
    PERL5OPT = 
    PERL5_CPANPLUS_IS_RUNNING = 10470
    PERL5_CPAN_IS_RUNNING = 10470
    PERL5_CPAN_IS_RUNNING_IN_RECURSION = 1692,10470
    PERLDOC = -MPod::Perldoc::ToTextOverstrike
    PERL_BATCH = yes
    PERL_CANARY_STABILITY_NOPROMPT = 1
    PERL_CPAN_REPORTER_CONFIG = /var/tmp/cpansmoker-1023/2021091802/cpanreporter_000_config.ini
    PERL_EXTUTILS_AUTOINSTALL = --defaultdeps
    PERL_USE_UNSAFE_INC = 1
    SHELL = /usr/bin/zsh
    TERM = screen
    TMPDIR = /var/tmp/cpansmoker-1023/2021091802

Perl special variables (and OS-specific diagnostics, for MSWin32):

    $^X = /opt/perl-5.20.3/bin/perl
    $UID/$EUID = 1023 / 1023
    $GID = 1023 1023
    $EGID = 1023 1023

Perl module toolchain versions installed:

    Module              Have    
    ------------------- --------
    CPAN                2.28    
    CPAN::Meta          2.150010
    Cwd                 3.48_01 
    ExtUtils::CBuilder  0.280236
    ExtUtils::Command   7.62    
    ExtUtils::Install   2.06    
    ExtUtils::MakeMaker 7.62    
    ExtUtils::Manifest  1.70    
    ExtUtils::ParseXS   3.35    
    File::Spec          3.48_01 
    JSON                4.03    
    JSON::PP            4.06    
    Module::Build       0.4231  
    Module::Signature   n/a     
    Parse::CPAN::Meta   2.150010
    Test::Harness       3.42    
    Test::More          1.302186
    YAML                1.30    
    YAML::Syck          1.34    
    version             0.9929  


--

Summary of my perl5 (revision 5 version 20 subversion 3) configuration:
   
  Platform:
    osname=linux, osvers=4.15.0-154-generic, archname=x86_64-linux
    uname='linux cloud6.bbbike.org 4.15.0-154-generic #161-ubuntu smp fri jul 30 13:04:17 utc 2021 x86_64 x86_64 x86_64 gnulinux '
    config_args='-ds -e -Dprefix=/opt/perl-5.20.3 -Dcf_email=srezic@cpan.org'
    hint=recommended, useposix=true, d_sigaction=define
    useithreads=undef, usemultiplicity=undef
    use64bitint=define, use64bitall=define, uselongdouble=undef
    usemymalloc=n, bincompat5005=undef
  Compiler:
    cc='cc', ccflags ='-fwrapv -fno-strict-aliasing -pipe -fstack-protector -I/usr/local/include -D_LARGEFILE_SOURCE -D_FILE_OFFSET_BITS=64',
    optimize='-O2',
    cppflags='-fwrapv -fno-strict-aliasing -pipe -fstack-protector -I/usr/local/include'
    ccversion='', gccversion='7.5.0', gccosandvers=''
    intsize=4, longsize=8, ptrsize=8, doublesize=8, byteorder=12345678
    d_longlong=define, longlongsize=8, d_longdbl=define, longdblsize=16
    ivtype='long', ivsize=8, nvtype='double', nvsize=8, Off_t='off_t', lseeksize=8
    alignbytes=8, prototype=define
  Linker and Libraries:
    ld='cc', ldflags =' -fstack-protector -L/usr/local/lib'
    libpth=/usr/local/lib /usr/lib/gcc/x86_64-linux-gnu/7/include-fixed /usr/include/x86_64-linux-gnu /usr/lib /lib/x86_64-linux-gnu /lib/../lib /usr/lib/x86_64-linux-gnu /usr/lib/../lib /lib
    libs=-lpthread -lnsl -lgdbm -ldb -ldl -lm -lcrypt -lutil -lc
    perllibs=-lpthread -lnsl -ldl -lm -lcrypt -lutil -lc
    libc=libc-2.27.so, so=so, useshrplib=false, libperl=libperl.a
    gnulibc_version='2.27'
  Dynamic Linking:
    dlsrc=dl_dlopen.xs, dlext=so, d_dlsymun=undef, ccdlflags='-Wl,-E'
    cccdlflags='-fPIC', lddlflags='-shared -O2 -L/usr/local/lib -fstack-protector'


Characteristics of this binary (from libperl): 
  Compile-time options: HAS_TIMES PERLIO_LAYERS PERL_DONT_CREATE_GVSV
                        PERL_HASH_FUNC_ONE_AT_A_TIME_HARD PERL_MALLOC_WRAP
                        PERL_NEW_COPY_ON_WRITE PERL_PRESERVE_IVUV
                        USE_64_BIT_ALL USE_64_BIT_INT USE_LARGE_FILES
                        USE_LOCALE USE_LOCALE_COLLATE USE_LOCALE_CTYPE
                        USE_LOCALE_NUMERIC USE_PERLIO USE_PERL_ATOF
  Locally applied patches:
	Devel::PatchPerl 2.08
  Built under linux
  Compiled at Sep  5 2021 13:00:03
  %ENV:
    PERL5LIB="/home/cpansand/.local/share/.cpan/build/2021091803/Org-Dump-0.552-2/blib/arch:/home/cpansand/.local/share/.cpan/build/2021091803/Org-Dump-0.552-2/blib/lib:/home/cpansand/.local/share/.cpan/build/2021091803/DateTime-Event-Recurrence-0.19-2/blib/arch:/home/cpansand/.local/share/.cpan/build/2021091803/DateTime-Event-Recurrence-0.19-2/blib/lib:/home/cpansand/.local/share/.cpan/build/2021091803/File-Slurper-Dash-0.001-2/blib/arch:/home/cpansand/.local/share/.cpan/build/2021091803/File-Slurper-Dash-0.001-2/blib/lib:/home/cpansand/.local/share/.cpan/build/2021091803/Data-Sah-Filter-perl-Str-replace_dashes_with_underscores-0.001-2/blib/arch:/home/cpansand/.local/share/.cpan/build/2021091803/Data-Sah-Filter-perl-Str-replace_dashes_with_underscores-0.001-2/blib/lib"
    PERL5OPT=""
    PERL5_CPANPLUS_IS_RUNNING="10470"
    PERL5_CPAN_IS_RUNNING="10470"
    PERL5_CPAN_IS_RUNNING_IN_RECURSION="1692,10470"
    PERLDOC="-MPod::Perldoc::ToTextOverstrike"
    PERL_BATCH="yes"
    PERL_CANARY_STABILITY_NOPROMPT="1"
    PERL_CPAN_REPORTER_CONFIG="/var/tmp/cpansmoker-1023/2021091802/cpanreporter_000_config.ini"
    PERL_EXTUTILS_AUTOINSTALL="--defaultdeps"
    PERL_USE_UNSAFE_INC="1"
  @INC:
    /home/cpansand/.local/share/.cpan/build/2021091803/Org-Dump-0.552-2/blib/arch
    /home/cpansand/.local/share/.cpan/build/2021091803/Org-Dump-0.552-2/blib/lib
    /home/cpansand/.local/share/.cpan/build/2021091803/DateTime-Event-Recurrence-0.19-2/blib/arch
    /home/cpansand/.local/share/.cpan/build/2021091803/DateTime-Event-Recurrence-0.19-2/blib/lib
    /home/cpansand/.local/share/.cpan/build/2021091803/File-Slurper-Dash-0.001-2/blib/arch
    /home/cpansand/.local/share/.cpan/build/2021091803/File-Slurper-Dash-0.001-2/blib/lib
    /home/cpansand/.local/share/.cpan/build/2021091803/Data-Sah-Filter-perl-Str-replace_dashes_with_underscores-0.001-2/blib/arch
    /home/cpansand/.local/share/.cpan/build/2021091803/Data-Sah-Filter-perl-Str-replace_dashes_with_underscores-0.001-2/blib/lib
    /opt/perl-5.20.3/lib/site_perl/5.20.3/x86_64-linux
    /opt/perl-5.20.3/lib/site_perl/5.20.3
    /opt/perl-5.20.3/lib/5.20.3/x86_64-linux
    /opt/perl-5.20.3/lib/5.20.3
    .