Dancer2-Plugin-Auth-Extensible-Provider-DBIxClass v0.0902 Perl 5 v5.41.13 amd64-netbsd

Status
Pass
From
Carlos Guevara
Dist
Dancer2-Plugin-Auth-Extensible-Provider-DBIxClass v0.0902
Platform
Perl 5 v5.41.13 amd64-netbsd
Date
2025-04-29 19:41:39
ID
f825ab5c-2531-11f0-9560-8bd77c406b6a
This distribution has been tested as part of the CPAN Testers
project, supporting the Perl programming language.  See
http://wiki.cpantesters.org/ for more information or email
questions to cpan-testers-discuss@perl.org


--
Dear D Ruth Holloway,

This is a computer-generated report for Dancer2-Plugin-Auth-Extensible-Provider-DBIxClass-0.0902
on perl 5.41.13, created by CPAN-Reporter-1.2020.

Thank you for uploading your work to CPAN.  Congratulations!
All tests were successful.

Sections of this report:

    * Tester comments
    * Program output
    * Prerequisites
    * Environment and other context

------------------------------
TESTER COMMENTS
------------------------------

Additional comments from tester:

this report is from an automated smoke testing program
and was not reviewed by a human for accuracy

------------------------------
PROGRAM OUTPUT
------------------------------

Output from '/usr/bin/make test':

PERL_DL_NONLAZY=1 "/home/cpan/bin/perl/bin/perl5.41.13" "-MExtUtils::Command::MM" "-MTest::Harness" "-e" "undef *Test::Harness::Switches; test_harness(0, 'blib/lib', 'blib/arch')" t/*.t
t/00-compile.t ....................... ok
# 
# Versions for all modules listed in MYMETA.json (including optional ones):
# 
# === Configure Requires ===
# 
#     Module              Want Have
#     ------------------- ---- ----
#     ExtUtils::MakeMaker  any 7.74
# 
# === Build Requires ===
# 
#     Module              Want Have
#     ------------------- ---- ----
#     ExtUtils::MakeMaker  any 7.74
# 
# === Test Requires ===
# 
#     Module                                        Want       Have
#     -------------------------------------------- ----- ----------
#     DBIx::Class::Core                              any      undef
#     DBIx::Class::Schema                            any      undef
#     Dancer2                                        any      1.1.2
#     Dancer2::Plugin::Auth::Extensible            0.620      0.711
#     Dancer2::Plugin::Auth::Extensible::Test        any      0.711
#     Dancer2::Plugin::Auth::Extensible::Test::App   any      0.711
#     Dancer2::Plugin::DBIx::Class                   any     1.1001
#     DateTime::Format::SQLite                       any       0.11
#     ExtUtils::MakeMaker                            any       7.74
#     File::Spec                                     any       3.94
#     HTTP::Cookies                                  any       6.11
#     HTTP::Request::Common                          any       7.00
#     IO::Handle                                     any       1.55
#     IPC::Open3                                     any       1.24
#     Plack::Test                                    any      undef
#     SQL::Translator                                any       1.66
#     Test::Deep                                     any      1.205
#     Test::MockObject                               any 1.20200122
#     Test::More                                     any   1.302210
#     Test::Warn                                     any       0.37
#     base                                           any       2.27
#     lib                                            any       0.65
#     strict                                         any       1.13
#     warnings                                       any       1.74
# 
# === Test Recommends ===
# 
#     Module         Want     Have
#     ---------- -------- --------
#     CPAN::Meta 2.120900 2.150010
# 
# === Runtime Requires ===
# 
#     Module                                            Want       Have
#     ------------------------------------------------- ---- ----------
#     Carp                                               any       1.54
#     DBIx::Class::ResultClass::HashRefInflator          any      undef
#     Dancer2::Core::Types                               any      1.1.2
#     Dancer2::Plugin::Auth::Extensible::Role::Provider  any      0.711
#     DateTime                                           any       1.66
#     Modern::Perl                                       any 1.20241001
#     Moo                                                any   2.005005
#     Scalar::Util                                       any    1.68_01
#     String::CamelCase                                  any       0.04
#     namespace::clean                                   any       0.27
# 
t/00-report-prereqs.t ................ ok
t/01-deprecation.t ................... ok
t/02-provider-dbixclass.t ............ ok
t/03-provider-dbic-user_as_object.t .. ok
All tests successful.
Files=5, Tests=60,  5 wallclock secs ( 0.11 usr  0.03 sys +  4.46 cusr  0.58 csys =  5.18 CPU)
Result: PASS

------------------------------
PREREQUISITES
------------------------------

Prerequisite modules loaded:

requires:

    Module                                            Need     Have      
    ------------------------------------------------- -------- ----------
    Carp                                              0        1.54      
    Dancer2::Core::Types                              0        1.1.2     
    Dancer2::Plugin::Auth::Extensible::Role::Provider 0        0.711     
    DateTime                                          0        1.66      
    DBIx::Class::ResultClass::HashRefInflator         0        0         
    Modern::Perl                                      0        1.20241001
    Moo                                               0        2.005005  
    namespace::clean                                  0        0.27      
    perl                                              5.006    5.041013  
    Scalar::Util                                      0        1.68_01   
    String::CamelCase                                 0        0.04      

build_requires:

    Module                                            Need     Have      
    ------------------------------------------------- -------- ----------
    base                                              0        2.27      
    Dancer2                                           0        1.1.2     
    Dancer2::Plugin::Auth::Extensible                 0.620    0.711     
    Dancer2::Plugin::Auth::Extensible::Test           0        0.711     
  ! Dancer2::Plugin::Auth::Extensible::Test::App      0        broken    
    Dancer2::Plugin::DBIx::Class                      0        1.1001    
    DateTime::Format::SQLite                          0        0.11      
    DBIx::Class::Core                                 0        0         
    DBIx::Class::Schema                               0        0         
    ExtUtils::MakeMaker                               0        7.74      
    File::Spec                                        0        3.94      
    HTTP::Cookies                                     0        6.11      
    HTTP::Request::Common                             0        7.00      
    IO::Handle                                        0        1.55      
    IPC::Open3                                        0        1.24      
    lib                                               0        0.65      
    Plack::Test                                       0        0         
    SQL::Translator                                   0        1.66      
    strict                                            0        1.13      
    Test::Deep                                        0        1.205     
    Test::MockObject                                  0        1.20200122
    Test::More                                        0        1.302210  
    Test::Warn                                        0        0.37      
    warnings                                          0        1.74      

configure_requires:

    Module                                            Need     Have      
    ------------------------------------------------- -------- ----------
    ExtUtils::MakeMaker                               0        7.74      
    perl                                              5.006    5.041013  

opt_build_requires:

    Module                                            Need     Have      
    ------------------------------------------------- -------- ----------
    CPAN::Meta                                        2.120900 2.150010  


------------------------------
ENVIRONMENT AND OTHER CONTEXT
------------------------------

Environment variables:

    AUTOMATED_TESTING = 1
    DATE_MANIP_TEST_DM5 = 1
    LC_ALL = C
    NONINTERACTIVE_TESTING = 1
    NO_NETWORK_TESTING = 1
    PATH = /home/cpan/bin/perl/bin:/home/cpan/bin:/home/cpan/bin:/bin:/sbin:/usr/bin:/usr/sbin:/usr/X11R7/bin:/usr/pkg/bin:/usr/pkg/sbin:/usr/games:/usr/local/bin:/usr/local/sbin
    PERL5LIB = 
    PERL5OPT = 
    PERL5_CPANPLUS_IS_RUNNING = 593
    PERL5_CPAN_IS_RUNNING = 593
    PERL_MM_USE_DEFAULT = 1
    PERL_USE_UNSAFE_INC = 1
    SHELL = /usr/pkg/bin/bash
    TERM = screen
    TMPDIR = /home/cpan/tmp

Perl special variables (and OS-specific diagnostics, for MSWin32):

    $^X = /home/cpan/bin/perl/bin/perl5.41.13
    $UID/$EUID = 1003 / 1003
    $GID = 100 100
    $EGID = 100 100

Perl module toolchain versions installed:

    Module              Have    
    ------------------- --------
    CPAN                2.38    
    CPAN::Meta          2.150010
    Cwd                 3.94    
    ExtUtils::CBuilder  0.280241
    ExtUtils::Command   7.74    
    ExtUtils::Install   2.22    
    ExtUtils::MakeMaker 7.74    
    ExtUtils::Manifest  1.75    
    ExtUtils::ParseXS   3.57    
    File::Spec          3.94    
    JSON                4.10    
    JSON::PP            4.16    
    Module::Build       0.4234  
    Module::Signature   n/a     
    Parse::CPAN::Meta   2.150010
    Test2               1.302210
    Test::Harness       3.50    
    Test::More          1.302210
    YAML                1.31    
    YAML::Syck          1.34    
    version             0.9933  


--

Summary of my perl5 (revision 5 version 41 subversion 13) configuration:
  Commit id: 9f37e119ab361798a3ab7088b9c336e2b59878ea
  Platform:
    osname=netbsd
    osvers=10.1
    archname=amd64-netbsd
    uname='netbsd cjg-netbsd10 10.1 netbsd 10.1 (generic) #0: mon dec 16 13:08:11 utc 2024 mkrepro@mkrepro.netbsd.org:usrsrcsysarchamd64compilegeneric amd64 '
    config_args='-des -Dprefix=/home/cpan/bin/perl -Dscriptdir=/home/cpan/bin/perl/bin -Dusedevel -Duse64bitall'
    hint=recommended
    useposix=true
    d_sigaction=define
    useithreads=undef
    usemultiplicity=undef
    use64bitint=define
    use64bitall=define
    uselongdouble=undef
    usemymalloc=n
    default_inc_excludes_dot=define
  Compiler:
    cc='cc'
    ccflags ='-fwrapv -fno-strict-aliasing -pipe -fstack-protector-strong -I/usr/pkg/include -D_FORTIFY_SOURCE=2'
    optimize='-O'
    cppflags='-fwrapv -fno-strict-aliasing -pipe -fstack-protector-strong -I/usr/pkg/include'
    ccversion=''
    gccversion='10.5.0'
    gccosandvers=''
    intsize=4
    longsize=8
    ptrsize=8
    doublesize=8
    byteorder=12345678
    doublekind=3
    d_longlong=define
    longlongsize=8
    d_longdbl=define
    longdblsize=16
    longdblkind=3
    ivtype='long'
    ivsize=8
    nvtype='double'
    nvsize=8
    Off_t='off_t'
    lseeksize=8
    alignbytes=8
    prototype=define
  Linker and Libraries:
    ld='cc'
    ldflags =' -Wl,-rpath,/usr/pkg/lib -Wl,-rpath,/usr/local/lib -fstack-protector-strong -L/usr/pkg/lib'
    libpth=/usr/lib /usr/pkg/lib /lib
    libs=-lpthread -lm -lcrypt -lutil -lc -lposix
    perllibs=-lpthread -lm -lcrypt -lutil -lc -lposix
    libc=/lib/libc.so
    so=so
    useshrplib=false
    libperl=libperl.a
    gnulibc_version=''
  Dynamic Linking:
    dlsrc=dl_dlopen.xs
    dlext=so
    d_dlsymun=undef
    ccdlflags='-Wl,-E '
    cccdlflags='-DPIC -fPIC '
    lddlflags='-shared  -L/usr/pkg/lib -fstack-protector-strong'


Characteristics of this binary (from libperl): 
  Compile-time options:
    HAS_LONG_DOUBLE
    HAS_STRTOLD
    HAS_TIMES
    PERLIO_LAYERS
    PERL_COPY_ON_WRITE
    PERL_DONT_CREATE_GVSV
    PERL_HASH_FUNC_SIPHASH13
    PERL_HASH_USE_SBOX32
    PERL_MALLOC_WRAP
    PERL_OP_PARENT
    PERL_PRESERVE_IVUV
    PERL_USE_DEVEL
    PERL_USE_SAFE_PUTENV
    USE_64_BIT_ALL
    USE_64_BIT_INT
    USE_LARGE_FILES
    USE_LOCALE
    USE_LOCALE_COLLATE
    USE_LOCALE_CTYPE
    USE_LOCALE_NUMERIC
    USE_LOCALE_TIME
    USE_PERLIO
    USE_PERL_ATOF
  Built under netbsd
  Compiled at Apr 28 2025 18:39:35
  %ENV:
    PERL5LIB=""
    PERL5OPT=""
    PERL5_CPANPLUS_IS_RUNNING="593"
    PERL5_CPAN_IS_RUNNING="593"
    PERL_MM_USE_DEFAULT="1"
    PERL_USE_UNSAFE_INC="1"
  @INC:
    /home/cpan/bin/perl/lib/site_perl/5.41.13/amd64-netbsd
    /home/cpan/bin/perl/lib/site_perl/5.41.13
    /home/cpan/bin/perl/lib/5.41.13/amd64-netbsd
    /home/cpan/bin/perl/lib/5.41.13
    .