FFI-Platypus v1.10 Perl 5 v5.16.2 i686-linux-64int
- Status
- Pass
- From
- Chris Williams (BINGOS)
- Dist
-
FFI-Platypus v1.10
- Platform
- Perl 5 v5.16.2 i686-linux-64int
- Date
- 2020-04-16 01:09:45
- ID
- f5f04f4e-7f7e-11ea-9066-e374b0ba08e8
This distribution has been tested as part of the CPAN Testers
project, supporting the Perl programming language. See
http://wiki.cpantesters.org/ for more information or email
questions to cpan-testers-discuss@perl.org
--
Dear Graham Ollis,
This is a computer-generated error report created automatically by
CPANPLUS, version 0.9906. Testers personal comments may appear
at the end of this report.
Thank you for uploading your work to CPAN. Congratulations!
All tests were successful.
TEST RESULTS:
Below is the error stack from stage 'make test':
"/home/cpan/pit/64bit/perl-5.16.2/bin/perl" -MExtUtils::Command::MM -e 'cp_nonempty' -- lib/FFI/Platypus.bs blib/arch/auto/FFI/Platypus/Platypus.bs 644
CC t/ffi/align.c
CC t/ffi/align_array.c
CC t/ffi/align_fixed.c
CC t/ffi/align_string.c
CC t/ffi/basic.c
CC t/ffi/closure.c
CC t/ffi/color.c
CC t/ffi/complex_double.c
CC t/ffi/complex_float.c
CC t/ffi/double.c
CC t/ffi/float.c
CC t/ffi/gh117.c
CC t/ffi/gh174.c
CC t/ffi/longdouble.c
CC t/ffi/memcmp4.c
CC t/ffi/meta.c
CC t/ffi/pointer.c
CC t/ffi/record.c
CC t/ffi/sint16.c
CC t/ffi/sint32.c
CC t/ffi/sint64.c
CC t/ffi/sint8.c
CC t/ffi/string.c
CC t/ffi/string_array.c
CC t/ffi/uint16.c
CC t/ffi/uint32.c
CC t/ffi/uint64.c
CC t/ffi/uint8.c
CC t/ffi/variadic.c
LD t/ffi/libtest.so
PERL_DL_NONLAZY=1 "/home/cpan/pit/64bit/perl-5.16.2/bin/perl" "-MExtUtils::Command::MM" "-MTest::Harness" "-e" "undef *Test::Harness::Switches; test_harness(0, 'blib/lib', 'blib/arch')" t/*.t
#
#
#
# HARNESS_ACTIVE=1
# HARNESS_VERSION=3.42
# LANG=en_GB.UTF-8
# PERL5LIB=/home/cpan/pit/64bit/conf/perl-5.16.2/.cpanplus/5.16.2/build/_tQhSag2Sb/FFI-Platypus-1.10/blib/lib:/home/cpan/pit/64bit/conf/perl-5.16.2/.cpanplus/5.16.2/build/_tQhSag2Sb/FFI-Platypus-1.10/blib/arch:/home/cpan/pit/jail/JWCjNf2nij/lib/perl5/5.16.2/i686-linux-64int:/home/cpan/pit/jail/JWCjNf2nij/lib/perl5/5.16.2:/home/cpan/pit/jail/JWCjNf2nij/lib/perl5/i686-linux-64int:/home/cpan/pit/jail/JWCjNf2nij/lib/perl5:/home/cpan/pit/jail/JWCjNf2nij/lib/perl5:/home/cpan/pit/64bit/conf/perl-5.16.2/.cpanplus/5.16.2/build/_tQhSag2Sb/FFI-Platypus-1.10/blib/lib:/home/cpan/pit/64bit/conf/perl-5.16.2/.cpanplus/5.16.2/build/_tQhSag2Sb/FFI-Platypus-1.10/blib/arch
# PERL5_CPANPLUS_IS_RUNNING=23094
# PERL5_CPANPLUS_IS_VERSION=0.9906
# PERL5_MINISMOKEBOX=0.68
# PERL5_YACSMOKE_BASE=/home/cpan/pit/64bit/conf/perl-5.16.2
# PERL_DL_NONLAZY=1
# PERL_EXTUTILS_AUTOINSTALL=--defaultdeps
# PERL_LOCAL_LIB_ROOT=/home/cpan/pit/jail/JWCjNf2nij
# PERL_MB_OPT=--install_base "/home/cpan/pit/jail/JWCjNf2nij"
# PERL_MM_OPT=INSTALL_BASE=/home/cpan/pit/jail/JWCjNf2nij
# PERL_MM_USE_DEFAULT=1
# PERL_USE_UNSAFE_INC=0
# SHELL=/bin/bash
#
#
#
# PERL5LIB path
# /home/cpan/pit/64bit/conf/perl-5.16.2/.cpanplus/5.16.2/build/_tQhSag2Sb/FFI-Platypus-1.10/blib/lib
# /home/cpan/pit/64bit/conf/perl-5.16.2/.cpanplus/5.16.2/build/_tQhSag2Sb/FFI-Platypus-1.10/blib/arch
# /home/cpan/pit/jail/JWCjNf2nij/lib/perl5/5.16.2/i686-linux-64int
# /home/cpan/pit/jail/JWCjNf2nij/lib/perl5/5.16.2
# /home/cpan/pit/jail/JWCjNf2nij/lib/perl5/i686-linux-64int
# /home/cpan/pit/jail/JWCjNf2nij/lib/perl5
# /home/cpan/pit/jail/JWCjNf2nij/lib/perl5
# /home/cpan/pit/64bit/conf/perl-5.16.2/.cpanplus/5.16.2/build/_tQhSag2Sb/FFI-Platypus-1.10/blib/lib
# /home/cpan/pit/64bit/conf/perl-5.16.2/.cpanplus/5.16.2/build/_tQhSag2Sb/FFI-Platypus-1.10/blib/arch
#
#
#
# perl 5.016002
# Alien::Base -
# Capture::Tiny 0.48
# Devel::Hide -
# ExtUtils::CBuilder 0.280234
# ExtUtils::MakeMaker 7.44
# ExtUtils::ParseXS 3.35
# FFI::CheckLib 0.26
# IPC::Cmd 1.04
# JSON::PP 4.04
# List::Util 1.55
# Math::LongDouble -
# PkgConfig -
# Test::More 1.302172
# constant 1.33
# forks -
#
#
#
# mode : system
# Alien::FFI::pkgconfig->VERSION = undef
# Alien::FFI::pkgconfig->install_type = system
# Alien::FFI::pkgconfig->cflags =
# Alien::FFI::pkgconfig->libs = -lffi
# Alien::FFI::pkgconfig->version = 3.2.1
#
#
#
# ffi.platypus.memory.strdup_impl =libc
# ffi.platypus.memory.strndup_impl=libc
#
#
#
# Types:
# double : double, float complex
# float : float
# longdouble : double complex, long double, long double complex
# sint16 : int16_t, short, signed short
# sint32 : blksize_t, int, int32_t, intptr_t, long, ptrdiff_t, senum, signed int, signed long, ssize_t, time_t, wchar_t
# sint64 : blkcnt_t, int64_t, long long, off_t, signed long long
# sint8 : char, int8_t, signed char
# uint16 : uint16_t, unsigned short, ushort
# uint32 : enum, gid_t, mode_t, nlink_t, size_t, uid_t, uint, uint32_t, uintptr_t, ulong, unsigned int, unsigned long, wint_t
# uint64 : dev_t, ino_t, uint64_t, unsigned long long
# uint8 : bool, uchar, uint8_t, unsigned char
#
#
#
# ABIs:
# default_abi 1
# fastcall 4
# pascal 6
# register 7
# stdcall 5
# sysv 1
# thiscall 3
# unix64 2
#
#
#
# Probes:
# variadic 1
# bigendian64 0
# recordvalue 1
# longdouble 1
# abi 1
# bigendian 0
# alloca 1
#
#
#
# CPU Info:
# model name : Intel Core Processor (Haswell, no TSX, IBRS)
# flags : fpu vme de pse tsc msr pae mce cx8 apic sep mtrr pge mca cmov pat pse36 clflush mmx fxsr sse sse2 syscall nx rdtscp lm constant_tsc xtopology cpuid tsc_known_freq pni pclmulqdq ssse3 fma cx16 sse4_1 sse4_2 x2apic movbe popcnt tsc_deadline_timer aes xsave avx f16c rdrand hypervisor lahf_lm abm cpuid_fault ibrs ibpb fsgsbase bmi1 avx2 smep bmi2 erms invpcid xsaveopt arat
# address sizes : 40 bits physical, 48 bits virtual
#
#
#
# No LSB modules are available.
# Distributor ID: Debian
# Description: Debian GNU/Linux 10 (buster)
# Release: 10
# Codename: buster
#
#
#
# [PLATFORM]
# osname : linux
# cc : cc
# cxx : c++
# for : ---
# ld : cc
# ccflags : -fPIC -fwrapv -fno-strict-aliasing -pipe -fstack-protector -I/usr/local/include -D_LARGEFILE_SOURCE -D_FILE_OFFSET_BITS=64 -O2 -I/home/cpan/pit/64bit/conf/perl-5.16.2/.cpanplus/5.16.2/build/_tQhSag2Sb/FFI-Platypus-1.10/blib/lib/auto/share/dist/FFI-Platypus/include
# ldflags : -shared -O2 -L/usr/local/lib -fstack-protector
# object suffix : .o
# library prefix : lib
# library suffix : .so
# cc mm works : -MM
#
#
#
t/00_diag.t .............................. ok
t/01_use.t ............................... ok
t/ffi_build.t ............................ ok
t/ffi_build_file_base.t .................. ok
t/ffi_build_file_c.t ..................... ok
t/ffi_build_file_cxx.t ................... ok
t/ffi_build_file_library.t ............... ok
t/ffi_build_file_object.t ................ ok
t/ffi_build_mm.t ......................... ok
t/ffi_build_platform.t ................... ok
t/ffi_platypus.t ......................... ok
t/ffi_platypus_api.t ..................... ok
t/ffi_platypus_buffer.t .................. ok
t/ffi_platypus_bundle.t .................. ok
t/ffi_platypus_closure.t ................. ok
t/ffi_platypus_constant.t ................ ok
t/ffi_platypus_declare.t ................. ok
t/ffi_platypus_dl.t ...................... ok
t/ffi_platypus_function.t ................ ok
t/ffi_platypus_function_wrapper.t ........ ok
t/ffi_platypus_internal.t ................ ok
t/ffi_platypus_lang.t .................... ok
t/ffi_platypus_lang_asm.t ................ ok
t/ffi_platypus_lang_c.t .................. ok
t/ffi_platypus_lang_win32.t .............. ok
t/ffi_platypus_legacy.t .................. ok
t/ffi_platypus_memory.t .................. ok
t/ffi_platypus_record.t .................. ok
t/ffi_platypus_record_meta.t ............. ok
t/ffi_platypus_record_tiearray.t ......... ok
t/ffi_platypus_shareconfig.t ............. ok
t/ffi_platypus_type.t .................... ok
t/ffi_platypus_type_pointersizebuffer.t .. ok
t/ffi_platypus_type_stringarray.t ........ ok
t/ffi_platypus_type_stringpointer.t ...... ok
t/ffi_platypus_typeparser.t .............. ok
t/ffi_platypus_typeparser_version0.t ..... ok
t/ffi_platypus_typeparser_version1.t ..... ok
t/ffi_probe.t ............................ ok
t/ffi_probe_runner.t ..................... ok
t/ffi_probe_runner_builder.t ............. ok
t/ffi_probe_runner_result.t .............. ok
t/ffi_temp.t ............................. ok
t/forks.t ................................ skipped: Test requires forks
t/gh117.t ................................ ok
t/gh129.t ................................ ok
t/memory.t ............................... skipped: tested only in CI
t/threads.t .............................. skipped: Test requires a threading Perl
t/type_complex_double.t .................. skipped: Test requires support for double complex
t/type_complex_float.t ................... skipped: Test requires support for float complex
t/type_custom.t .......................... ok
t/type_double.t .......................... ok
t/type_float.t ........................... ok
t/type_longdouble.t ...................... ok
t/type_longdouble__array.t ............... ok
t/type_longdouble__hide.t ................ skipped: test requires Devel::Hide 0.0010
t/type_longdouble__ptr.t ................. ok
t/type_opaque.t .......................... ok
t/type_record.t .......................... ok
t/type_record_value.t .................... ok
t/type_sint16.t .......................... ok
t/type_sint32.t .......................... ok
t/type_sint64.t .......................... ok
t/type_sint8.t ........................... ok
t/type_string.t .......................... ok
t/type_uint16.t .......................... ok
t/type_uint32.t .......................... ok
t/type_uint64.t .......................... ok
t/type_uint8.t ........................... ok
All tests successful.
Files=69, Tests=338, 8 wallclock secs ( 0.41 usr 0.05 sys + 6.40 cusr 0.75 csys = 7.61 CPU)
Result: PASS
PREREQUISITES:
Here is a list of prerequisites you specified and versions we
managed to load:
Module Name Have Want
Capture::Tiny 0.48 0
ExtUtils::CBuilder 0.280234 0
ExtUtils::MakeMaker 7.44 7.12
FFI::CheckLib 0.26 0.05
IPC::Cmd 1.04 0
JSON::PP 4.04 0
List::Util 1.55 1.45
Test::More 1.302172 0.98
constant 1.33 1.32
Perl module toolchain versions installed:
Module Name Have
CPANPLUS 0.9906
CPANPLUS::Dist::Build 0.90
Cwd 3.75
ExtUtils::CBuilder 0.280234
ExtUtils::Command 7.44
ExtUtils::Install 2.14
ExtUtils::MakeMaker 7.44
ExtUtils::Manifest 1.72
ExtUtils::ParseXS 3.35
File::Spec 3.75
Module::Build 0.4231
Pod::Parser 1.51
Pod::Simple 3.20
Test2 1.302172
Test::Harness 3.42
Test::More 1.302172
version 0.9924
******************************** NOTE ********************************
The comments above are created mechanically, possibly without manual
checking by the sender. As there are many people performing automatic
tests on each upload to CPAN, it is likely that you will receive
identical messages about the same problem.
If you believe that the message is mistaken, please reply to the first
one with correction and/or additional informations, and do not take
it personally. We appreciate your patience. :)
**********************************************************************
Additional comments:
This report was machine-generated by CPANPLUS::Dist::YACSmoke 1.08.
Powered by minismokebox version 0.68
CPANPLUS is prefering Build.PL
------------------------------
ENVIRONMENT AND OTHER CONTEXT
------------------------------
Environment variables:
AUTOMATED_TESTING = 1
LANG = en_GB.UTF-8
LANGUAGE = en_GB:en
NONINTERACTIVE_TESTING = 1
PATH = /usr/local/bin:/usr/bin:/bin:/usr/local/games:/usr/games
PERL5LIB = /home/cpan/pit/jail/JWCjNf2nij/lib/perl5:/home/cpan/pit/64bit/conf/perl-5.16.2/.cpanplus/5.16.2/build/_tQhSag2Sb/FFI-Platypus-1.10/blib/lib:/home/cpan/pit/64bit/conf/perl-5.16.2/.cpanplus/5.16.2/build/_tQhSag2Sb/FFI-Platypus-1.10/blib/arch
PERL5_CPANPLUS_IS_RUNNING = 23094
PERL5_CPANPLUS_IS_VERSION = 0.9906
PERL5_MINISMOKEBOX = 0.68
PERL5_YACSMOKE_BASE = /home/cpan/pit/64bit/conf/perl-5.16.2
PERL_EXTUTILS_AUTOINSTALL = --defaultdeps
PERL_LOCAL_LIB_ROOT = /home/cpan/pit/jail/JWCjNf2nij
PERL_MB_OPT = --install_base "/home/cpan/pit/jail/JWCjNf2nij"
PERL_MM_OPT = INSTALL_BASE=/home/cpan/pit/jail/JWCjNf2nij
PERL_MM_USE_DEFAULT = 1
PERL_USE_UNSAFE_INC = 0
SHELL = /bin/bash
TERM = screen
Perl special variables (and OS-specific diagnostics, for MSWin32):
Perl: $^X = /home/cpan/pit/64bit/perl-5.16.2/bin/perl
UID: $< = 1001
EUID: $> = 1001
GID: $( = 1001 1001
EGID: $) = 1001 1001
-------------------------------
--
Summary of my perl5 (revision 5 version 16 subversion 2) configuration:
Platform:
osname=linux, osvers=4.19.0-6-686, archname=i686-linux-64int
uname='linux dagobah 4.19.0-6-686 #1 smp debian 4.19.67-2+deb10u2 (2019-11-11) i686 gnulinux '
config_args='-des -Dprefix=/home/cpan/pit/64bit/perl-5.16.2 -Duse64bitint'
hint=recommended, useposix=true, d_sigaction=define
useithreads=undef, usemultiplicity=undef
useperlio=define, d_sfio=undef, uselargefiles=define, usesocks=undef
use64bitint=define, use64bitall=undef, uselongdouble=undef
usemymalloc=n, bincompat5005=undef
Compiler:
cc='cc', ccflags ='-fwrapv -fno-strict-aliasing -pipe -fstack-protector -I/usr/local/include -D_LARGEFILE_SOURCE -D_FILE_OFFSET_BITS=64',
optimize='-O2',
cppflags='-fwrapv -fno-strict-aliasing -pipe -fstack-protector -I/usr/local/include'
ccversion='', gccversion='8.3.0', gccosandvers=''
intsize=4, longsize=4, ptrsize=4, doublesize=8, byteorder=12345678
d_longlong=define, longlongsize=8, d_longdbl=define, longdblsize=12
ivtype='long long', ivsize=8, nvtype='double', nvsize=8, Off_t='off_t', lseeksize=8
alignbytes=4, prototype=define
Linker and Libraries:
ld='cc', ldflags =' -fstack-protector -L/usr/local/lib'
libpth=/usr/local/lib /lib/i386-linux-gnu /lib/../lib /usr/lib/i386-linux-gnu /usr/lib/../lib /lib /usr/lib /lib64 /usr/lib64
libs=-lnsl -lgdbm -ldl -lm -lcrypt -lutil -lc
perllibs=-lnsl -ldl -lm -lcrypt -lutil -lc
libc=libc-2.28.so, so=so, useshrplib=false, libperl=libperl.a
gnulibc_version='2.28'
Dynamic Linking:
dlsrc=dl_dlopen.xs, dlext=so, d_dlsymun=undef, ccdlflags='-Wl,-E'
cccdlflags='-fPIC', lddlflags='-shared -O2 -L/usr/local/lib -fstack-protector'
Characteristics of this binary (from libperl):
Compile-time options: HAS_TIMES PERLIO_LAYERS PERL_DONT_CREATE_GVSV
PERL_MALLOC_WRAP PERL_PRESERVE_IVUV USE_64_BIT_INT
USE_LARGE_FILES USE_LOCALE USE_LOCALE_COLLATE
USE_LOCALE_CTYPE USE_LOCALE_NUMERIC USE_PERLIO
USE_PERL_ATOF
Locally applied patches:
Devel::PatchPerl 1.80
Built under linux
Compiled at Nov 29 2019 10:48:07
%ENV:
PERL5LIB="/home/cpan/pit/jail/JWCjNf2nij/lib/perl5:/home/cpan/pit/64bit/conf/perl-5.16.2/.cpanplus/5.16.2/build/_tQhSag2Sb/FFI-Platypus-1.10/blib/lib:/home/cpan/pit/64bit/conf/perl-5.16.2/.cpanplus/5.16.2/build/_tQhSag2Sb/FFI-Platypus-1.10/blib/arch"
PERL5_CPANPLUS_IS_RUNNING="23094"
PERL5_CPANPLUS_IS_VERSION="0.9906"
PERL5_MINISMOKEBOX="0.68"
PERL5_YACSMOKE_BASE="/home/cpan/pit/64bit/conf/perl-5.16.2"
PERL_EXTUTILS_AUTOINSTALL="--defaultdeps"
PERL_LOCAL_LIB_ROOT="/home/cpan/pit/jail/JWCjNf2nij"
PERL_MB_OPT="--install_base "/home/cpan/pit/jail/JWCjNf2nij""
PERL_MM_OPT="INSTALL_BASE=/home/cpan/pit/jail/JWCjNf2nij"
PERL_MM_USE_DEFAULT="1"
PERL_USE_UNSAFE_INC="0"
@INC:
/home/cpan/pit/jail/JWCjNf2nij/lib/perl5/5.16.2/i686-linux-64int
/home/cpan/pit/jail/JWCjNf2nij/lib/perl5/5.16.2
/home/cpan/pit/jail/JWCjNf2nij/lib/perl5/i686-linux-64int
/home/cpan/pit/jail/JWCjNf2nij/lib/perl5
/home/cpan/pit/64bit/conf/perl-5.16.2/.cpanplus/5.16.2/build/_tQhSag2Sb/FFI-Platypus-1.10/blib/lib
/home/cpan/pit/64bit/conf/perl-5.16.2/.cpanplus/5.16.2/build/_tQhSag2Sb/FFI-Platypus-1.10/blib/arch
/home/cpan/pit/64bit/perl-5.16.2/lib/site_perl/5.16.2/i686-linux-64int
/home/cpan/pit/64bit/perl-5.16.2/lib/site_perl/5.16.2
/home/cpan/pit/64bit/perl-5.16.2/lib/5.16.2/i686-linux-64int
/home/cpan/pit/64bit/perl-5.16.2/lib/5.16.2
.