Beam-Wire v1.021 Perl 5 v5.24.3 armv7l-linux

Status
Pass
From
Nigel Horne
Dist
Beam-Wire v1.021
Platform
Perl 5 v5.24.3 armv7l-linux
Date
2018-03-31 01:00:51
ID
f4c002a6-347e-11e8-91ce-d3e3deac0b3f
This distribution has been tested as part of the CPAN Testers
project, supporting the Perl programming language.  See
http://wiki.cpantesters.org/ for more information or email
questions to cpan-testers-discuss@perl.org


--
Dear Doug Bell,

This is a computer-generated report for Beam-Wire-1.021
on perl 5.24.3, created by CPAN-Reporter-1.2018.

Thank you for uploading your work to CPAN.  Congratulations!
All tests were successful.

Sections of this report:

    * Tester comments
    * Program output
    * Prerequisites
    * Environment and other context

------------------------------
TESTER COMMENTS
------------------------------

Additional comments from tester:

this report is from an automated smoke testing program
and was not reviewed by a human for accuracy

------------------------------
PROGRAM OUTPUT
------------------------------

Output from '/usr/bin/make test':

PERL_DL_NONLAZY=1 "/mnt/nas/home/pi2/njh/perl5/perlbrew/perls/perl-5.24.3-ld/bin/perl5.24.3" "-MExtUtils::Command::MM" "-MTest::Harness" "-e" "undef *Test::Harness::Switches; test_harness(0, 'blib/lib', 'blib/arch')" t/*.t t/container/*.t t/dependency/*.t t/deprecated/*.t t/method/*.t t/regression/*.t t/service/*.t
# 
# Versions for all modules listed in MYMETA.json (including optional ones):
# 
# === Configure Requires ===
# 
#     Module                       Want     Have
#     ------------------------ -------- --------
#     CPAN::Meta::Requirements 2.120620    2.140
#     ExtUtils::MakeMaker           any     7.30
#     Module::Metadata              any 1.000031
# 
# === Build Requires ===
# 
#     Module              Want Have
#     ------------------- ---- ----
#     ExtUtils::MakeMaker  any 7.30
# 
# === Test Requires ===
# 
#     Module                  Want     Have
#     ------------------- -------- --------
#     ExtUtils::MakeMaker      any     7.30
#     File::Spec               any  3.63_01
#     IO::Handle               any     1.36
#     IPC::Open3               any     1.20
#     Test::Deep               any    1.127
#     Test::Differences       0.64     0.64
#     Test::Exception          any     0.43
#     Test::Lib                any    0.002
#     Test::More          1.001005 1.302130
# 
# === Test Recommends ===
# 
#     Module         Want     Have
#     ---------- -------- --------
#     CPAN::Meta 2.120900 2.150005
# 
# === Runtime Requires ===
# 
#     Module           Want     Have
#     --------------- ----- --------
#     Beam::Emitter     any    1.007
#     Beam::Service     any    0.001
#     Config::Any      0.23     0.32
#     Data::DPath      0.51     0.57
#     Module::Runtime   any    0.016
#     Moo               any 2.003004
#     Path::Tiny      0.055    0.104
#     Throwable         any 0.200013
#     Types::Standard   any 1.002001
#     YAML              any     1.24
# 
# === Runtime Recommends ===
# 
#     Module Want    Have
#     ------ ---- -------
#     JSON    any 2.97001
# 
t/00-report-prereqs.t .............. ok
t/00-compile.t ..................... ok
t/container/inner.t ................ ok
t/container/config.t ............... ok
t/container/override.t ............. ok
t/dependency/anonymous.t ........... ok
t/dependency/call.t ................ ok
t/dependency/config.t .............. ok
t/dependency/value.t ............... ok
t/deprecated/event_listeners.t ..... ok
t/deprecated/method_call.t ......... ok
t/exception.t ...................... ok
t/method/create_service.t .......... ok
t/method/is_meta.t ................. ok
t/regression/60_unprefixed_meta.t .. ok
t/service/attributes.t ............. ok
t/service/class_args.t ............. ok
t/service/config.t ................. ok
t/service/lifecycle.t .............. ok
t/service/event_listener.t ......... ok
t/service/extends.t ................ ok
t/service/method.t ................. ok
t/service/value.t .................. ok
t/service/with_args.t .............. ok
t/service/with.t ................... ok
All tests successful.
Files=25, Tests=81, 25 wallclock secs ( 1.06 usr  0.25 sys + 68.74 cusr 21.36 csys = 91.41 CPU)
Result: PASS

------------------------------
PREREQUISITES
------------------------------

Prerequisite modules loaded:

requires:

    Module                   Need     Have    
    ------------------------ -------- --------
    Beam::Emitter            0        1.007   
    Beam::Service            0        0.001   
    Config::Any              0.23     0.32    
    Data::DPath              0.51     0.57    
    Module::Runtime          0        0.016   
    Moo                      0        2.003004
    Path::Tiny               0.055    0.104   
    Throwable                0        0.200013
    Types::Standard          0        1.002001
    YAML                     0        1.24    

build_requires:

    Module                   Need     Have    
    ------------------------ -------- --------
    ExtUtils::MakeMaker      0        7.30    
    File::Spec               0        3.63_01 
    IO::Handle               0        1.36    
    IPC::Open3               0        1.20    
    Test::Deep               0        1.127   
    Test::Differences        0.64     0.64    
    Test::Exception          0        0.43    
    Test::Lib                0        0.002   
    Test::More               1.001005 1.302130

configure_requires:

    Module                   Need     Have    
    ------------------------ -------- --------
    CPAN::Meta::Requirements 2.120620 2.140   
    ExtUtils::MakeMaker      0        7.30    
    Module::Metadata         0        1.000031


------------------------------
ENVIRONMENT AND OTHER CONTEXT
------------------------------

Environment variables:

    AUTOMATED_TESTING = 1
    HARNESS_OPTIONS = j4
    LANG = en_GB.UTF-8
    PATH = /home/njh/perl5/perlbrew/bin:/home/njh/perl5/perlbrew/perls/perl-5.24.3-ld/bin:src/njh/smoker/bin:/usr/bin:/bin
    PERL5LIB = /home/njh/.cpan/build/Throwable-0.200013-15/blib/arch:/home/njh/.cpan/build/Throwable-0.200013-15/blib/lib:/home/njh/.cpan/build/Data-DPath-0.57-3/blib/arch:/home/njh/.cpan/build/Data-DPath-0.57-3/blib/lib:/home/njh/.cpan/build/Iterator-Util-0.02-3/blib/arch:/home/njh/.cpan/build/Iterator-Util-0.02-3/blib/lib:/home/njh/.cpan/build/Iterator-0.03-3/blib/arch:/home/njh/.cpan/build/Iterator-0.03-3/blib/lib:/home/njh/.cpan/build/Config-Any-0.32-5/blib/arch:/home/njh/.cpan/build/Config-Any-0.32-5/blib/lib:/home/njh/.cpan/build/Beam-Service-0.001-3/blib/arch:/home/njh/.cpan/build/Beam-Service-0.001-3/blib/lib:/home/njh/.cpan/build/Beam-Emitter-1.007-3/blib/arch:/home/njh/.cpan/build/Beam-Emitter-1.007-3/blib/lib:/home/njh/.cpan/build/Type-Tiny-1.002001-18/blib/arch:/home/njh/.cpan/build/Type-Tiny-1.002001-18/blib/lib:/home/njh/.cpan/build/Test-Lib-0.002-6/blib/arch:/home/njh/.cpan/build/Test-Lib-0.002-6/blib/lib:/home/njh/.cpan/build/Test-API-0.010-3/blib/arch:/home/njh/.cpan/build/Test-API-0.010-3/blib/lib:/home/njh/.cpan/build/Moo-2.003004-35/blib/arch:/home/njh/.cpan/build/Moo-2.003004-35/blib/lib:/home/njh/.cpan/build/Sub-Quote-2.005000-35/blib/arch:/home/njh/.cpan/build/Sub-Quote-2.005000-35/blib/lib:/home/njh/.cpan/build/Role-Tiny-2.000006-21/blib/arch:/home/njh/.cpan/build/Role-Tiny-2.000006-21/blib/lib:/home/njh/.cpan/build/Class-Method-Modifiers-2.12-29/blib/arch:/home/njh/.cpan/build/Class-Method-Modifiers-2.12-29/blib/lib:/home/njh/.cpan/build/Data-Tools-1.15-1/blib/arch:/home/njh/.cpan/build/Data-Tools-1.15-1/blib/lib
    PERL5OPT = 
    PERL5_CPANPLUS_IS_RUNNING = 25461
    PERL5_CPAN_IS_RUNNING = 25461
    PERLBREW_BASHRC_VERSION = 0.80
    PERLBREW_HOME = /home/njh/.perlbrew
    PERLBREW_MANPATH = /home/njh/perl5/perlbrew/perls/perl-5.24.3-ld/man
    PERLBREW_PATH = /home/njh/perl5/perlbrew/bin:/home/njh/perl5/perlbrew/perls/perl-5.24.3-ld/bin
    PERLBREW_PERL = perl-5.24.3-ld
    PERLBREW_ROOT = /home/njh/perl5/perlbrew
    PERLBREW_VERSION = 0.80
    SHELL = /bin/sh

Perl special variables (and OS-specific diagnostics, for MSWin32):

    $^X = /mnt/nas/home/pi2/njh/perl5/perlbrew/perls/perl-5.24.3-ld/bin/perl5.24.3
    $UID/$EUID = 1000 / 1000
    $GID = 1000 4 20 24 25 27 29 30 44 46 60 100 101 108 997 998 999 1000
    $EGID = 1000 4 20 24 25 27 29 30 44 46 60 100 101 108 997 998 999 1000

Perl module toolchain versions installed:

    Module              Have      
    ------------------- ----------
    CPAN                2.16      
    CPAN::Meta          2.150005  
    Cwd                 3.63_01   
    ExtUtils::CBuilder  0.280225  
    ExtUtils::Command   7.30      
    ExtUtils::Install   2.06      
    ExtUtils::MakeMaker 7.30      
    ExtUtils::Manifest  1.70      
    ExtUtils::ParseXS   3.31      
    File::Spec          3.63_01   
    JSON                2.97001   
    JSON::PP            2.27300_01
    Module::Build       0.4224    
    Module::Signature   n/a       
    Parse::CPAN::Meta   1.4417_001
    Test::Harness       3.36_01   
    Test::More          1.302130  
    YAML                1.24      
    YAML::Syck          1.30      
    version             0.9916    


--

Summary of my perl5 (revision 5 version 24 subversion 3) configuration:
   
  Platform:
    osname=linux, osvers=4.9.41-v7+, archname=armv7l-linux
    uname='linux pi2 4.9.41-v7+ #1023 smp tue aug 8 16:00:15 bst 2017 armv7l gnulinux '
    config_args='-de -Dprefix=/home/njh/perl5/perlbrew/perls/perl-5.24.3-ld -Dusedevel -Duselongdouble -Accflags= -Aeval:scriptdir=/home/njh/perl5/perlbrew/perls/perl-5.24.3-ld/bin'
    hint=recommended, useposix=true, d_sigaction=define
    useithreads=undef, usemultiplicity=undef
    use64bitint=undef, use64bitall=undef, uselongdouble=define
    usemymalloc=n, bincompat5005=undef
  Compiler:
    cc='cc', ccflags ='-fwrapv -fno-strict-aliasing -pipe -fstack-protector-strong -I/usr/local/include -D_LARGEFILE_SOURCE -D_FILE_OFFSET_BITS=64 -D_FORTIFY_SOURCE=2',
    optimize='-O2',
    cppflags='-fwrapv -fno-strict-aliasing -pipe -fstack-protector-strong -I/usr/local/include'
    ccversion='', gccversion='6.3.0 20170516', gccosandvers=''
    intsize=4, longsize=4, ptrsize=4, doublesize=8, byteorder=1234, doublekind=3
    d_longlong=define, longlongsize=8, d_longdbl=define, longdblsize=8, longdblkind=0
    ivtype='long', ivsize=4, nvtype='long double', nvsize=8, Off_t='off_t', lseeksize=8
    alignbytes=8, prototype=define
  Linker and Libraries:
    ld='cc', ldflags =' -fstack-protector-strong -L/usr/local/lib'
    libpth=/usr/local/lib /usr/lib/gcc/arm-linux-gnueabihf/6/include-fixed /usr/include/arm-linux-gnueabihf /usr/lib /lib/arm-linux-gnueabihf /lib /usr/lib/arm-linux-gnueabihf
    libs=-lpthread -lnsl -lgdbm -ldb -ldl -lm -lcrypt -lutil -lc -lgdbm_compat
    perllibs=-lpthread -lnsl -ldl -lm -lcrypt -lutil -lc
    libc=libc-2.24.so, so=so, useshrplib=false, libperl=libperl.a
    gnulibc_version='2.24'
  Dynamic Linking:
    dlsrc=dl_dlopen.xs, dlext=so, d_dlsymun=undef, ccdlflags='-Wl,-E'
    cccdlflags='-fPIC', lddlflags='-shared -O2 -L/usr/local/lib -fstack-protector-strong'


Characteristics of this binary (from libperl): 
  Compile-time options: HAS_TIMES PERLIO_LAYERS PERL_COPY_ON_WRITE
                        PERL_DONT_CREATE_GVSV
                        PERL_HASH_FUNC_ONE_AT_A_TIME_HARD PERL_MALLOC_WRAP
                        PERL_PRESERVE_IVUV PERL_USE_DEVEL USE_LARGE_FILES
                        USE_LOCALE USE_LOCALE_COLLATE USE_LOCALE_CTYPE
                        USE_LOCALE_NUMERIC USE_LOCALE_TIME USE_PERLIO
                        USE_PERL_ATOF
  Built under linux
  Compiled at Oct  4 2017 04:18:35
  %ENV:
    PERL5LIB="/home/njh/.cpan/build/Throwable-0.200013-15/blib/arch:/home/njh/.cpan/build/Throwable-0.200013-15/blib/lib:/home/njh/.cpan/build/Data-DPath-0.57-3/blib/arch:/home/njh/.cpan/build/Data-DPath-0.57-3/blib/lib:/home/njh/.cpan/build/Iterator-Util-0.02-3/blib/arch:/home/njh/.cpan/build/Iterator-Util-0.02-3/blib/lib:/home/njh/.cpan/build/Iterator-0.03-3/blib/arch:/home/njh/.cpan/build/Iterator-0.03-3/blib/lib:/home/njh/.cpan/build/Config-Any-0.32-5/blib/arch:/home/njh/.cpan/build/Config-Any-0.32-5/blib/lib:/home/njh/.cpan/build/Beam-Service-0.001-3/blib/arch:/home/njh/.cpan/build/Beam-Service-0.001-3/blib/lib:/home/njh/.cpan/build/Beam-Emitter-1.007-3/blib/arch:/home/njh/.cpan/build/Beam-Emitter-1.007-3/blib/lib:/home/njh/.cpan/build/Type-Tiny-1.002001-18/blib/arch:/home/njh/.cpan/build/Type-Tiny-1.002001-18/blib/lib:/home/njh/.cpan/build/Test-Lib-0.002-6/blib/arch:/home/njh/.cpan/build/Test-Lib-0.002-6/blib/lib:/home/njh/.cpan/build/Test-API-0.010-3/blib/arch:/home/njh/.cpan/build/Test-API-0.010-3/blib/lib:/home/njh/.cpan/build/Moo-2.003004-35/blib/arch:/home/njh/.cpan/build/Moo-2.003004-35/blib/lib:/home/njh/.cpan/build/Sub-Quote-2.005000-35/blib/arch:/home/njh/.cpan/build/Sub-Quote-2.005000-35/blib/lib:/home/njh/.cpan/build/Role-Tiny-2.000006-21/blib/arch:/home/njh/.cpan/build/Role-Tiny-2.000006-21/blib/lib:/home/njh/.cpan/build/Class-Method-Modifiers-2.12-29/blib/arch:/home/njh/.cpan/build/Class-Method-Modifiers-2.12-29/blib/lib:/home/njh/.cpan/build/Data-Tools-1.15-1/blib/arch:/home/njh/.cpan/build/Data-Tools-1.15-1/blib/lib"
    PERL5OPT=""
    PERL5_CPANPLUS_IS_RUNNING="25461"
    PERL5_CPAN_IS_RUNNING="25461"
    PERLBREW_BASHRC_VERSION="0.80"
    PERLBREW_HOME="/home/njh/.perlbrew"
    PERLBREW_MANPATH="/home/njh/perl5/perlbrew/perls/perl-5.24.3-ld/man"
    PERLBREW_PATH="/home/njh/perl5/perlbrew/bin:/home/njh/perl5/perlbrew/perls/perl-5.24.3-ld/bin"
    PERLBREW_PERL="perl-5.24.3-ld"
    PERLBREW_ROOT="/home/njh/perl5/perlbrew"
    PERLBREW_VERSION="0.80"
  @INC:
    /home/njh/.cpan/build/Throwable-0.200013-15/blib/arch
    /home/njh/.cpan/build/Throwable-0.200013-15/blib/lib
    /home/njh/.cpan/build/Data-DPath-0.57-3/blib/arch
    /home/njh/.cpan/build/Data-DPath-0.57-3/blib/lib
    /home/njh/.cpan/build/Iterator-Util-0.02-3/blib/arch
    /home/njh/.cpan/build/Iterator-Util-0.02-3/blib/lib
    /home/njh/.cpan/build/Iterator-0.03-3/blib/arch
    /home/njh/.cpan/build/Iterator-0.03-3/blib/lib
    /home/njh/.cpan/build/Config-Any-0.32-5/blib/arch
    /home/njh/.cpan/build/Config-Any-0.32-5/blib/lib
    /home/njh/.cpan/build/Beam-Service-0.001-3/blib/arch
    /home/njh/.cpan/build/Beam-Service-0.001-3/blib/lib
    /home/njh/.cpan/build/Beam-Emitter-1.007-3/blib/arch
    /home/njh/.cpan/build/Beam-Emitter-1.007-3/blib/lib
    /home/njh/.cpan/build/Type-Tiny-1.002001-18/blib/arch
    /home/njh/.cpan/build/Type-Tiny-1.002001-18/blib/lib
    /home/njh/.cpan/build/Test-Lib-0.002-6/blib/arch
    /home/njh/.cpan/build/Test-Lib-0.002-6/blib/lib
    /home/njh/.cpan/build/Test-API-0.010-3/blib/arch
    /home/njh/.cpan/build/Test-API-0.010-3/blib/lib
    /home/njh/.cpan/build/Moo-2.003004-35/blib/arch
    /home/njh/.cpan/build/Moo-2.003004-35/blib/lib
    /home/njh/.cpan/build/Sub-Quote-2.005000-35/blib/arch
    /home/njh/.cpan/build/Sub-Quote-2.005000-35/blib/lib
    /home/njh/.cpan/build/Role-Tiny-2.000006-21/blib/arch
    /home/njh/.cpan/build/Role-Tiny-2.000006-21/blib/lib
    /home/njh/.cpan/build/Class-Method-Modifiers-2.12-29/blib/arch
    /home/njh/.cpan/build/Class-Method-Modifiers-2.12-29/blib/lib
    /home/njh/.cpan/build/Data-Tools-1.15-1/blib/arch
    /home/njh/.cpan/build/Data-Tools-1.15-1/blib/lib
    /home/njh/perl5/perlbrew/perls/perl-5.24.3-ld/lib/site_perl/5.24.3/armv7l-linux
    /home/njh/perl5/perlbrew/perls/perl-5.24.3-ld/lib/site_perl/5.24.3
    /home/njh/perl5/perlbrew/perls/perl-5.24.3-ld/lib/5.24.3/armv7l-linux
    /home/njh/perl5/perlbrew/perls/perl-5.24.3-ld/lib/5.24.3
    .