Dist-Zilla-PluginBundle-GitLab v1.0002 Perl 5 v5.30.2 amd64-freebsd

Status
Pass
From
Slaven Rezić
Dist
Dist-Zilla-PluginBundle-GitLab v1.0002
Platform
Perl 5 v5.30.2 amd64-freebsd
Date
2022-01-09 18:42:54
ID
f49d1230-717b-11ec-ab8e-c22a1f24ea8f
This distribution has been tested as part of the CPAN Testers
project, supporting the Perl programming language.  See
http://wiki.cpantesters.org/ for more information or email
questions to cpan-testers-discuss@perl.org


--
Dear D Ruth Holloway,

This is a computer-generated report for Dist-Zilla-PluginBundle-GitLab-1.0002
on perl 5.30.2, created by CPAN-Reporter-1.2018.

Thank you for uploading your work to CPAN.  Congratulations!
All tests were successful.

Sections of this report:

    * Tester comments
    * Program output
    * Prerequisites
    * Environment and other context

------------------------------
TESTER COMMENTS
------------------------------

Additional comments from tester:

none provided

------------------------------
PROGRAM OUTPUT
------------------------------

Output from '/usr/bin/make test':

PERL_DL_NONLAZY=1 "/usr/perl5.30.2p/bin/perl5.30.2" "-MExtUtils::Command::MM" "-MTest::Harness" "-e" "undef *Test::Harness::Switches; test_harness(0, 'blib/lib', 'blib/arch')" t/*.t t/tests/dist/zilla/app/command/*.t t/tests/dist/zilla/plugin/gitlab/*.t t/tests/dist/zilla/pluginbundle/*.t
t/00-compile.t ............................. ok
# 
# Versions for all modules listed in MYMETA.json (including optional ones):
# 
# === Configure Requires ===
# 
#     Module              Want Have
#     ------------------- ---- ----
#     ExtUtils::MakeMaker  any 7.64
# 
# === Build Requires ===
# 
#     Module              Want Have
#     ------------------- ---- ----
#     ExtUtils::MakeMaker  any 7.64
# 
# === Test Requires ===
# 
#     Module                Want     Have
#     --------------------- ---- --------
#     ExtUtils::MakeMaker    any     7.64
#     File::Spec             any     3.78
#     FindBin                any     1.52
#     IO::Handle             any     1.45
#     IPC::Open3             any     1.20
#     Path::Tiny             any    0.120
#     Test2::Tools::Compare  any 0.000141
#     Test2::Tools::Explain  any     0.02
#     Test2::Tools::JSON     any     0.05
#     Test2::V0              any 0.000141
#     Test::DZil             any    6.024
#     Test::More             any 1.302188
#     lib                    any     0.65
#     strict                 any     1.11
#     warnings               any     1.44
# 
# === Test Recommends ===
# 
#     Module         Want     Have
#     ---------- -------- --------
#     CPAN::Meta 2.120900 2.150010
# 
# === Runtime Requires ===
# 
#     Module                                Want       Have
#     ------------------------------------- ---- ----------
#     Carp                                   any       1.50
#     Class::Load                            any       0.25
#     Cwd                                    any       3.78
#     Data::Dumper                           any      2.183
#     Dist::Zilla::App                       any      6.024
#     Dist::Zilla::Dist::Minter              any      6.024
#     Dist::Zilla::Role::AfterMint           any      6.024
#     Dist::Zilla::Role::AfterRelease        any      6.024
#     Dist::Zilla::Role::MetaProvider        any      6.024
#     Dist::Zilla::Role::PluginBundle::Easy  any      6.024
#     Dist::Zilla::Role::TextTemplate        any      6.024
#     File::Basename                         any       2.85
#     Git::Wrapper                           any      0.048
#     HTTP::Tiny                             any      0.076
#     JSON::MaybeXS                          any   1.004003
#     List::Util                             any       1.60
#     Modern::Perl                           any 1.20200211
#     Moose                                  any     2.2200
#     Try::Tiny                              any       0.31
#     URL::Encode                            any       0.03
# 
t/00-report-prereqs.t ...................... ok
t/tests/dist/zilla/app/command/gl.t ........ skipped: Tests for dzil gl commands not yet written.
t/tests/dist/zilla/plugin/gitlab/create.t .. skipped: Tests not yet written.
t/tests/dist/zilla/plugin/gitlab/meta.t .... skipped: Tests not yet written.
t/tests/dist/zilla/plugin/gitlab/update.t .. ok
t/tests/dist/zilla/pluginbundle/gitlab.t ... skipped: Tests not yet written.
All tests successful.
Files=7, Tests=8,  3 wallclock secs ( 0.04 usr  0.03 sys +  3.11 cusr  0.51 csys =  3.69 CPU)
Result: PASS

------------------------------
PREREQUISITES
------------------------------

Prerequisite modules loaded:

requires:

    Module                                Need  Have      
    ------------------------------------- ----- ----------
    Carp                                  0     1.50      
    Class::Load                           0     0.25      
    Cwd                                   0     3.78      
    Data::Dumper                          0     2.183     
    Dist::Zilla::App                      0     6.024     
    Dist::Zilla::Dist::Minter             0     6.024     
    Dist::Zilla::Role::AfterMint          0     6.024     
    Dist::Zilla::Role::AfterRelease       0     6.024     
    Dist::Zilla::Role::MetaProvider       0     6.024     
    Dist::Zilla::Role::PluginBundle::Easy 0     6.024     
    Dist::Zilla::Role::TextTemplate       0     6.024     
    File::Basename                        0     2.85      
    Git::Wrapper                          0     0.048     
    HTTP::Tiny                            0     0.076     
    JSON::MaybeXS                         0     1.004003  
    List::Util                            0     1.60      
    Modern::Perl                          0     1.20200211
    Moose                                 0     2.2200    
    perl                                  5.008 5.030002  
    Try::Tiny                             0     0.31      
    URL::Encode                           0     0.03      

build_requires:

    Module                                Need  Have      
    ------------------------------------- ----- ----------
    ExtUtils::MakeMaker                   0     7.64      
    File::Spec                            0     3.78      
    FindBin                               0     1.52      
    IO::Handle                            0     1.45      
    IPC::Open3                            0     1.20      
    lib                                   0     0.65      
    Path::Tiny                            0     0.120     
    strict                                0     1.11      
    Test2::Tools::Compare                 0     0.000141  
    Test2::Tools::Explain                 0     0.02      
    Test2::Tools::JSON                    0     0.05      
    Test2::V0                             0     0.000141  
    Test::DZil                            0     6.024     
    Test::More                            0     1.302188  
    warnings                              0     1.44      

configure_requires:

    Module                                Need  Have      
    ------------------------------------- ----- ----------
    ExtUtils::MakeMaker                   0     7.64      


------------------------------
ENVIRONMENT AND OTHER CONTEXT
------------------------------

Environment variables:

    PATH = /usr/local/bin:/usr/bin:/bin:/usr/local/sbin:/usr/sbin:/sbin:/home/cpansand/bin/sh:/home/cpansand/bin:/usr/games:/home/cpansand/devel:/usr/home/eserte/src/srezic-misc/scripts
    PERL5LIB = 
    PERL5OPT = 
    PERL5_CPANPLUS_IS_RUNNING = 45176
    PERL5_CPAN_IS_RUNNING = 45176
    PERL5_CPAN_IS_RUNNING_IN_RECURSION = 44535,45176
    PERL_BATCH = yes
    PERL_CANARY_STABILITY_NOPROMPT = 1
    PERL_CPAN_REPORTER_CONFIG = /var/tmp/cpansmoker-1023/2022010917/cpanreporter_000_config.ini
    PERL_EXTUTILS_AUTOINSTALL = --defaultdeps
    PERL_USE_UNSAFE_INC = 1
    SHELL = /bin/sh
    TMPDIR = /var/tmp/cpansmoker-1023/2022010917

Perl special variables (and OS-specific diagnostics, for MSWin32):

    $^X = /usr/perl5.30.2p/bin/perl5.30.2
    $UID/$EUID = 1023 / 1023
    $GID = 1023 1023
    $EGID = 1023 1023

Perl module toolchain versions installed:

    Module              Have    
    ------------------- --------
    CPAN                2.29    
    CPAN::Meta          2.150010
    Cwd                 3.78    
    ExtUtils::CBuilder  0.280235
    ExtUtils::Command   7.64    
    ExtUtils::Install   2.20    
    ExtUtils::MakeMaker 7.64    
    ExtUtils::Manifest  1.72    
    ExtUtils::ParseXS   3.40    
    File::Spec          3.78    
    JSON                4.03    
    JSON::PP            4.06    
    Module::Build       0.4231  
    Module::Signature   0.88    
    Parse::CPAN::Meta   2.150010
    Test::Harness       3.42    
    Test::More          1.302188
    YAML                1.30    
    YAML::Syck          1.34    
    version             0.9924  


--

Summary of my perl5 (revision 5 version 30 subversion 2) configuration:
   
  Platform:
    osname=freebsd
    osvers=12.1-stable
    archname=amd64-freebsd
    uname='freebsd cloud1.bbbike.org 12.1-stable freebsd 12.1-stable 300cf9f9b89(stable12) generic amd64 '
    config_args='-ds -e -Dprefix=/usr/perl5.30.2p -Dcf_email=srezic@cpan.org -Doptimize=-O2 -pipe'
    hint=recommended
    useposix=true
    d_sigaction=define
    useithreads=undef
    usemultiplicity=undef
    use64bitint=define
    use64bitall=define
    uselongdouble=undef
    usemymalloc=n
    default_inc_excludes_dot=define
    bincompat5005=undef
  Compiler:
    cc='cc'
    ccflags ='-DHAS_FPSETMASK -DHAS_FLOATINGPOINT_H -fno-strict-aliasing -pipe -fstack-protector-strong -I/usr/local/include'
    optimize='-O2 -pipe'
    cppflags='-DHAS_FPSETMASK -DHAS_FLOATINGPOINT_H -fno-strict-aliasing -pipe -fstack-protector-strong -I/usr/local/include'
    ccversion=''
    gccversion='FreeBSD Clang 9.0.1 (git@github.com:llvm/llvm-project.git c1a0a213378a458fbea1a5c77b315c7dce08fd05)'
    gccosandvers=''
    intsize=4
    longsize=8
    ptrsize=8
    doublesize=8
    byteorder=12345678
    doublekind=3
    d_longlong=define
    longlongsize=8
    d_longdbl=define
    longdblsize=16
    longdblkind=3
    ivtype='long'
    ivsize=8
    nvtype='double'
    nvsize=8
    Off_t='off_t'
    lseeksize=8
    alignbytes=8
    prototype=define
  Linker and Libraries:
    ld='cc'
    ldflags ='-pthread -Wl,-E  -fstack-protector-strong -L/usr/local/lib'
    libpth=/usr/lib /usr/local/lib /usr/lib/clang/9.0.1/lib /usr/lib
    libs=-lpthread -lgdbm -ldl -lm -lcrypt -lutil -lc
    perllibs=-lpthread -ldl -lm -lcrypt -lutil -lc
    libc=
    so=so
    useshrplib=false
    libperl=libperl.a
    gnulibc_version=''
  Dynamic Linking:
    dlsrc=dl_dlopen.xs
    dlext=so
    d_dlsymun=undef
    ccdlflags=' '
    cccdlflags='-DPIC -fPIC'
    lddlflags='-shared  -L/usr/local/lib -fstack-protector-strong'


Characteristics of this binary (from libperl): 
  Compile-time options:
    HAS_TIMES
    PERLIO_LAYERS
    PERL_COPY_ON_WRITE
    PERL_DONT_CREATE_GVSV
    PERL_MALLOC_WRAP
    PERL_OP_PARENT
    PERL_PRESERVE_IVUV
    USE_64_BIT_ALL
    USE_64_BIT_INT
    USE_LARGE_FILES
    USE_LOCALE
    USE_LOCALE_COLLATE
    USE_LOCALE_CTYPE
    USE_LOCALE_NUMERIC
    USE_LOCALE_TIME
    USE_PERLIO
    USE_PERL_ATOF
  Built under freebsd
  Compiled at Mar 14 2020 21:35:07
  %ENV:
    PERL5LIB=""
    PERL5OPT=""
    PERL5_CPANPLUS_IS_RUNNING="45176"
    PERL5_CPAN_IS_RUNNING="45176"
    PERL5_CPAN_IS_RUNNING_IN_RECURSION="44535,45176"
    PERL_BATCH="yes"
    PERL_CANARY_STABILITY_NOPROMPT="1"
    PERL_CPAN_REPORTER_CONFIG="/var/tmp/cpansmoker-1023/2022010917/cpanreporter_000_config.ini"
    PERL_EXTUTILS_AUTOINSTALL="--defaultdeps"
    PERL_USE_UNSAFE_INC="1"
  @INC:
    /usr/perl5.30.2p/lib/site_perl/5.30.2/amd64-freebsd
    /usr/perl5.30.2p/lib/site_perl/5.30.2
    /usr/perl5.30.2p/lib/5.30.2/amd64-freebsd
    /usr/perl5.30.2p/lib/5.30.2
    .