FFI-Platypus v2.09 Perl 5 v5.10.1 x86_64-linux
- Status
- Pass
- From
- Slaven Rezić
- Dist
-
FFI-Platypus v2.09
- Platform
- Perl 5 v5.10.1 x86_64-linux
- Date
- 2024-10-12 21:07:13
- ID
- f3f02b8e-88dd-11ef-a5b7-58216e8775ea
This distribution has been tested as part of the CPAN Testers
project, supporting the Perl programming language. See
http://wiki.cpantesters.org/ for more information or email
questions to cpan-testers-discuss@perl.org
--
Dear Graham Ollis,
This is a computer-generated report for FFI-Platypus-2.09
on perl 5.10.1, created by CPAN-Reporter-1.2018.
Thank you for uploading your work to CPAN. Congratulations!
All tests were successful.
Sections of this report:
* Tester comments
* Program output
* Prerequisites
* Environment and other context
------------------------------
TESTER COMMENTS
------------------------------
Additional comments from tester:
none provided
------------------------------
PROGRAM OUTPUT
------------------------------
Output from 'make test':
"/opt/perl-5.10.1/bin/perl" -MExtUtils::Command::MM -e 'cp_nonempty' -- lib/FFI/Platypus.bs blib/arch/auto/FFI/Platypus/Platypus.bs 644
CC t/ffi/align.c
CC t/ffi/align_array.c
CC t/ffi/align_fixed.c
CC t/ffi/align_string.c
CC t/ffi/basic.c
CC t/ffi/closure.c
CC t/ffi/color.c
CC t/ffi/complex_double.c
CC t/ffi/complex_float.c
CC t/ffi/double.c
CC t/ffi/float.c
CC t/ffi/gh117.c
CC t/ffi/gh174.c
CC t/ffi/longdouble.c
CC t/ffi/memcmp4.c
CC t/ffi/meta.c
CC t/ffi/pointer.c
CC t/ffi/record.c
CC t/ffi/sint16.c
CC t/ffi/sint32.c
CC t/ffi/sint64.c
CC t/ffi/sint8.c
CC t/ffi/string.c
CC t/ffi/string_array.c
CC t/ffi/uint16.c
CC t/ffi/uint32.c
CC t/ffi/uint64.c
CC t/ffi/uint8.c
CC t/ffi/variadic.c
LD t/ffi/libtest.so
PERL_DL_NONLAZY=1 "/opt/perl-5.10.1/bin/perl" "-MExtUtils::Command::MM" "-MTest::Harness" "-e" "undef *Test::Harness::Switches; test_harness(0, 'blib/lib', 'blib/arch')" t/*.t
#
#
#
# HARNESS_ACTIVE=1
# HARNESS_VERSION=3.44
# LANG=en_US.UTF-8
# PERL5LIB=/home/e/eserte/.cpan/build/2024101222/FFI-Platypus-2.09-7/blib/lib:/home/e/eserte/.cpan/build/2024101222/FFI-Platypus-2.09-7/blib/arch:/home/e/eserte/.cpan/build/2024101222/constant-1.33-4/blib/arch:/home/e/eserte/.cpan/build/2024101222/constant-1.33-4/blib/lib:/home/e/eserte/.cpan/build/2024101222/constant-1.33-4/blib/arch:/home/e/eserte/.cpan/build/2024101222/constant-1.33-4/blib/lib
# PERL5OPT=
# PERL5_CPANPLUS_IS_RUNNING=30650
# PERL5_CPAN_IS_RUNNING=30650
# PERL5_CPAN_IS_RUNNING_IN_RECURSION=8203,30650
# PERLDOC=-MPod::Perldoc::ToTextOverstrike
# PERL_BATCH=yes
# PERL_CANARY_STABILITY_NOPROMPT=1
# PERL_CPAN_REPORTER_CONFIG=/var/tmp/cpansmoker-1000/2024101222/cpanreporter_000_config.ini
# PERL_DL_NONLAZY=1
# PERL_EXTUTILS_AUTOINSTALL=--defaultdeps
# PERL_USE_UNSAFE_INC=1
# SHELL=/bin/zsh
# STDPERL=perl
#
#
#
# PERL5LIB path
# /home/e/eserte/.cpan/build/2024101222/FFI-Platypus-2.09-7/blib/lib
# /home/e/eserte/.cpan/build/2024101222/FFI-Platypus-2.09-7/blib/arch
# /home/e/eserte/.cpan/build/2024101222/constant-1.33-4/blib/arch
# /home/e/eserte/.cpan/build/2024101222/constant-1.33-4/blib/lib
# /home/e/eserte/.cpan/build/2024101222/constant-1.33-4/blib/arch
# /home/e/eserte/.cpan/build/2024101222/constant-1.33-4/blib/lib
#
#
#
# perl 5.010001 linux x86_64-linux
# Alien::Base 2.56
# Alien::FFI -
# Capture::Tiny 0.48
# Devel::Hide 0.0015
# ExtUtils::CBuilder 0.280236
# ExtUtils::MakeMaker 7.64
# ExtUtils::ParseXS 3.44
# FFI::CheckLib 0.28
# File::Spec::Functions 3.75
# IPC::Cmd 1.04
# JSON::PP 4.11
# List::Util 1.63
# Math::LongDouble -
# PkgConfig -
# Test2::API 1.302191
# Test2::V0 0.000145
# autodie 2.06_01
# constant 1.33
# forks -
# parent 0.238
#
#
#
# mode : system
# Alien::FFI::pkgconfig->VERSION =
# Alien::FFI::pkgconfig->install_type = system
# Alien::FFI::pkgconfig->cflags =
# Alien::FFI::pkgconfig->libs = -lffi
# Alien::FFI::pkgconfig->version = 3.2.1
#
#
#
# ffi.platypus.memory.strdup_impl =libc
# ffi.platypus.memory.strndup_impl=libc
#
#
#
# Types:
# complex_double : double complex
# complex_float : float complex
# complex_longdouble : long double complex
# double : double
# float : float
# longdouble : long double
# sint16 : int16_t, short, signed short
# sint32 : int, int32_t, senum, signed int, wchar_t
# sint64 : blkcnt_t, blksize_t, int64_t, intmax_t, intptr_t, long, long long, off_t, ptrdiff_t, signed long, signed long long, ssize_t, time_t
# sint8 : char, int8_t, signed char
# uint16 : uint16_t, unsigned short, ushort
# uint32 : enum, gid_t, mode_t, uid_t, uint, uint32_t, unsigned int, wint_t
# uint64 : dev_t, ino_t, nlink_t, size_t, uint64_t, uintmax_t, uintptr_t, ulong, unsigned long, unsigned long long
# uint8 : bool, uchar, uint8_t, unsigned char
#
#
#
# ABIs:
# default_abi 2
# fastcall 4
# pascal 6
# register 7
# stdcall 5
# sysv 1
# thiscall 3
# unix64 2
#
#
#
# Probes:
# bigendian64 0
# recordvalue 1
# longdouble 1
# abi 1
# bigendian 0
# alloca 1
# variadic 1
# strnlen 1
#
#
#
# CPU Info:
# model name : Intel(R) Core(TM) i7-6700T CPU @ 2.80GHz
# flags : fpu vme de pse tsc msr pae mce cx8 apic sep mtrr pge mca cmov pat pse36 clflush dts acpi mmx fxsr sse sse2 ss ht tm pbe syscall nx pdpe1gb rdtscp lm constant_tsc art arch_perfmon pebs bts rep_good nopl xtopology nonstop_tsc aperfmperf pni pclmulqdq dtes64 monitor ds_cpl vmx smx est tm2 ssse3 sdbg fma cx16 xtpr pdcm pcid sse4_1 sse4_2 x2apic movbe popcnt tsc_deadline_timer aes xsave avx f16c rdrand lahf_lm abm 3dnowprefetch invpcid_single kaiser tpr_shadow vnmi flexpriority ept vpid fsgsbase tsc_adjust bmi1 hle avx2 smep bmi2 erms invpcid rtm mpx rdseed adx smap clflushopt intel_pt xsaveopt xsavec xgetbv1 xsaves dtherm ida arat pln pts hwp hwp_notify hwp_act_window hwp_epp
# address sizes : 39 bits physical, 48 bits virtual
#
#
#
# No LSB modules are available.
# Distributor ID: Debian
# Description: Debian GNU/Linux 9.13 (stretch)
# Release: 9.13
# Codename: stretch
#
#
#
# [PLATFORM]
# osname : linux
# cc : cc
# cxx : c++
# cxxld : c++
# for : ---
# ld : cc
# ccflags : -fPIC -fwrapv -fno-strict-aliasing -pipe -fstack-protector -I/usr/local/include -D_LARGEFILE_SOURCE -D_FILE_OFFSET_BITS=64 -O2 -I/home/e/eserte/.cpan/build/2024101222/FFI-Platypus-2.09-7/blib/lib/auto/share/dist/FFI-Platypus/include
# ldflags : -shared -O2 -L/usr/local/lib -fstack-protector
# object suffix : .o
# library prefix : lib
# library suffix : .so
# cc mm works : -MM
#
#
#
t/00_diag.t .............................. ok
t/ffi_build.t ............................ ok
t/ffi_build_file_base.t .................. ok
t/ffi_build_file_c.t ..................... ok
t/ffi_build_file_cxx.t ................... ok
t/ffi_build_file_library.t ............... ok
t/ffi_build_file_object.t ................ ok
t/ffi_build_mm.t ......................... ok
t/ffi_build_platform.t ................... ok
t/ffi_build_plugin.t ..................... ok
t/ffi_build_plugindata.t ................. ok
t/ffi_platypus.t ......................... ok
t/ffi_platypus_api.t ..................... ok
t/ffi_platypus_buffer.t .................. ok
t/ffi_platypus_bundle.t .................. ok
t/ffi_platypus_closure.t ................. ok
t/ffi_platypus_constant.t ................ ok
t/ffi_platypus_dl.t ...................... ok
t/ffi_platypus_function.t ................ ok
t/ffi_platypus_function_wrapper.t ........ ok
t/ffi_platypus_internal.t ................ ok
t/ffi_platypus_lang.t .................... ok
t/ffi_platypus_lang_asm.t ................ ok
t/ffi_platypus_lang_c.t .................. ok
t/ffi_platypus_lang_win32.t .............. ok
t/ffi_platypus_legacy.t .................. ok
t/ffi_platypus_memory.t .................. ok
t/ffi_platypus_record.t .................. ok
t/ffi_platypus_record_meta.t ............. ok
t/ffi_platypus_record_tiearray.t ......... ok
t/ffi_platypus_shareconfig.t ............. ok
t/ffi_platypus_type.t .................... ok
t/ffi_platypus_type_pointersizebuffer.t .. ok
t/ffi_platypus_type_stringarray.t ........ ok
t/ffi_platypus_type_stringpointer.t ...... ok
t/ffi_platypus_type_widestring.t ......... ok
t/ffi_platypus_typeparser.t .............. ok
t/ffi_platypus_typeparser_version0.t ..... ok
t/ffi_platypus_typeparser_version1.t ..... ok
t/ffi_platypus_typeparser_version2.t ..... ok
t/ffi_probe.t ............................ ok
t/ffi_probe_runner.t ..................... ok
t/ffi_probe_runner_builder.t ............. ok
t/ffi_probe_runner_result.t .............. ok
t/ffi_temp.t ............................. ok
t/forks.t ................................ skipped: Test requires forks
t/gh117.t ................................ ok
t/gh129.t ................................ ok
t/gh323.t ................................ ok
t/memory.t ............................... skipped: tested only in CI
t/threads.t .............................. skipped: Test requires a threading Perl
t/type_complex_double.t .................. skipped: Test requires support for double complex
t/type_complex_float.t ................... skipped: Test requires support for float complex
t/type_custom.t .......................... ok
t/type_double.t .......................... ok
t/type_float.t ........................... ok
t/type_longdouble.t ...................... ok
t/type_longdouble__array.t ............... ok
t/type_longdouble__hide.t ................ ok
t/type_longdouble__ptr.t ................. ok
t/type_opaque.t .......................... ok
t/type_record.t .......................... ok
t/type_record_value.t .................... ok
t/type_sint16.t .......................... ok
t/type_sint32.t .......................... ok
t/type_sint64.t .......................... ok
t/type_sint8.t ........................... ok
t/type_string.t .......................... ok
t/type_uint16.t .......................... ok
t/type_uint32.t .......................... ok
t/type_uint64.t .......................... ok
t/type_uint8.t ........................... ok
All tests successful.
Files=72, Tests=313, 12 wallclock secs ( 0.27 usr 0.04 sys + 6.97 cusr 0.79 csys = 8.07 CPU)
Result: PASS
------------------------------
PREREQUISITES
------------------------------
Prerequisite modules loaded:
requires:
Module Need Have
--------------------- -------- --------
autodie 0 2.06_01
Capture::Tiny 0 0.48
constant 1.32 1.33
ExtUtils::MakeMaker 7.12 7.64
FFI::CheckLib 0.05 0.28
File::Spec::Functions 0 3.75
IPC::Cmd 0 1.04
JSON::PP 0 4.11
List::Util 1.45 1.63
parent 0 0.238
perl 5.008004 5.010001
build_requires:
Module Need Have
--------------------- -------- --------
Capture::Tiny 0 0.48
ExtUtils::CBuilder 0 0.280236
Test2::API 1.302015 1.302191
Test2::V0 0.000121 0.000145
configure_requires:
Module Need Have
--------------------- -------- --------
Capture::Tiny 0 0.48
ExtUtils::MakeMaker 7.12 7.64
ExtUtils::ParseXS 3.30 3.44
IPC::Cmd 0 1.04
JSON::PP 0 4.11
parent 0 0.238
perl 5.006 5.010001
------------------------------
ENVIRONMENT AND OTHER CONTEXT
------------------------------
Environment variables:
LANG = en_US.UTF-8
PATH = /usr/local/bin:/usr/bin:/bin:/usr/local/sbin:/usr/sbin:/sbin:/home/e/eserte/bin/linux-gnu:/home/e/eserte/bin/sh:/home/e/eserte/bin:/home/e/eserte/bin/pistachio-perl/bin:/usr/games:/home/e/eserte/devel:/home/e/eserte/work2/fzf/bin:/home/e/eserte/src/srezic-misc/scripts
PERL5LIB = /home/e/eserte/.cpan/build/2024101222/constant-1.33-4/blib/arch:/home/e/eserte/.cpan/build/2024101222/constant-1.33-4/blib/lib
PERL5OPT =
PERL5_CPANPLUS_IS_RUNNING = 30650
PERL5_CPAN_IS_RUNNING = 30650
PERL5_CPAN_IS_RUNNING_IN_RECURSION = 8203,30650
PERLDOC = -MPod::Perldoc::ToTextOverstrike
PERL_BATCH = yes
PERL_CANARY_STABILITY_NOPROMPT = 1
PERL_CPAN_REPORTER_CONFIG = /var/tmp/cpansmoker-1000/2024101222/cpanreporter_000_config.ini
PERL_EXTUTILS_AUTOINSTALL = --defaultdeps
PERL_USE_UNSAFE_INC = 1
SHELL = /bin/zsh
STDPERL = perl
TERM = xterm
TMPDIR = /var/tmp/cpansmoker-1000/2024101222
Perl special variables (and OS-specific diagnostics, for MSWin32):
$^X = /opt/perl-5.10.1/bin/perl
$UID/$EUID = 1000 / 1000
$GID = 1000 4 24 25 27 29 30 33 44 46 108 111 115 128 134 1000 1024
$EGID = 1000 4 24 25 27 29 30 33 44 46 108 111 115 128 134 1000 1024
Perl module toolchain versions installed:
Module Have
------------------- --------
CPAN 2.34
CPAN::Meta 2.143240
Cwd 3.75
ExtUtils::CBuilder 0.280236
ExtUtils::Command 7.64
ExtUtils::Install 2.06
ExtUtils::MakeMaker 7.64
ExtUtils::Manifest 1.70
ExtUtils::ParseXS 3.44
File::Spec 3.75
JSON 4.09
JSON::PP 4.11
Module::Build 0.4231
Module::Signature n/a
Parse::CPAN::Meta 1.4414
Test::Harness 3.44
Test::More 1.302191
YAML 1.30
YAML::Syck 1.34
version 0.9929
--
Summary of my perl5 (revision 5 version 10 subversion 1) configuration:
Platform:
osname=linux, osvers=4.9.0-18-amd64, archname=x86_64-linux
uname='linux cabulja 4.9.0-18-amd64 #1 smp debian 4.9.303-1 (2022-03-07) x86_64 gnulinux '
config_args='-ds -e -Dprefix=/opt/perl-5.10.1 -Dcf_email=srezic@cpan.org'
hint=recommended, useposix=true, d_sigaction=define
useithreads=undef, usemultiplicity=undef
useperlio=define, d_sfio=undef, uselargefiles=define, usesocks=undef
use64bitint=define, use64bitall=define, uselongdouble=undef
usemymalloc=n, bincompat5005=undef
Compiler:
cc='cc', ccflags ='-fwrapv -fno-strict-aliasing -pipe -fstack-protector -I/usr/local/include -D_LARGEFILE_SOURCE -D_FILE_OFFSET_BITS=64',
optimize='-O2',
cppflags='-fwrapv -fno-strict-aliasing -pipe -fstack-protector -I/usr/local/include'
ccversion='', gccversion='6.3.0 20170516', gccosandvers=''
intsize=4, longsize=8, ptrsize=8, doublesize=8, byteorder=12345678
d_longlong=define, longlongsize=8, d_longdbl=define, longdblsize=16
ivtype='long', ivsize=8, nvtype='double', nvsize=8, Off_t='off_t', lseeksize=8
alignbytes=8, prototype=define
Linker and Libraries:
ld='cc', ldflags =' -fstack-protector -L/usr/local/lib'
libpth=/usr/local/lib /lib/x86_64-linux-gnu /lib/../lib /usr/lib/x86_64-linux-gnu /usr/lib/../lib /lib /usr/lib
libs=-lnsl -lgdbm -ldb -ldl -lm -lcrypt -lutil -lc -lgdbm_compat
perllibs=-lnsl -ldl -lm -lcrypt -lutil -lc
libc=libc-2.24.so, so=so, useshrplib=false, libperl=libperl.a
gnulibc_version='2.24'
Dynamic Linking:
dlsrc=dl_dlopen.xs, dlext=so, d_dlsymun=undef, ccdlflags='-Wl,-E'
cccdlflags='-fPIC', lddlflags='-shared -O2 -L/usr/local/lib -fstack-protector'
Characteristics of this binary (from libperl):
Compile-time options: PERL_DONT_CREATE_GVSV PERL_MALLOC_WRAP USE_64_BIT_ALL
USE_64_BIT_INT USE_LARGE_FILES USE_PERLIO
Locally applied patches:
Devel::PatchPerl 2.08
Built under linux
Compiled at Aug 16 2022 07:47:24
%ENV:
PERL5LIB="/home/e/eserte/.cpan/build/2024101222/constant-1.33-4/blib/arch:/home/e/eserte/.cpan/build/2024101222/constant-1.33-4/blib/lib"
PERL5OPT=""
PERL5_CPANPLUS_IS_RUNNING="30650"
PERL5_CPAN_IS_RUNNING="30650"
PERL5_CPAN_IS_RUNNING_IN_RECURSION="8203,30650"
PERLDOC="-MPod::Perldoc::ToTextOverstrike"
PERL_BATCH="yes"
PERL_CANARY_STABILITY_NOPROMPT="1"
PERL_CPAN_REPORTER_CONFIG="/var/tmp/cpansmoker-1000/2024101222/cpanreporter_000_config.ini"
PERL_EXTUTILS_AUTOINSTALL="--defaultdeps"
PERL_USE_UNSAFE_INC="1"
@INC:
/home/e/eserte/.cpan/build/2024101222/constant-1.33-4/blib/arch
/home/e/eserte/.cpan/build/2024101222/constant-1.33-4/blib/lib
/opt/perl-5.10.1/lib/5.10.1/x86_64-linux
/opt/perl-5.10.1/lib/5.10.1
/opt/perl-5.10.1/lib/site_perl/5.10.1/x86_64-linux
/opt/perl-5.10.1/lib/site_perl/5.10.1
.