Encode v3.16 Perl 5 v5.10.1 MSWin32-x86-multi-thread

Status
Pass
From
NONAME
Dist
Encode v3.16
Platform
Perl 5 v5.10.1 MSWin32-x86-multi-thread
Date
2021-10-15 19:59:30
ID
f31d4b0a-6cff-1014-aaa6-c405032c038b
This distribution has been tested as part of the CPAN Testers
project, supporting the Perl programming language.  See
http://wiki.cpantesters.org/ for more information or email
questions to cpan-testers-discuss@perl.org


--
Dear DANKOGAI,

This is a computer-generated report for Encode-3.16
on perl 5.10.1, created by App::cpanminus::reporter 0.17 (1.7042).

Thank you for uploading your work to CPAN.  Congratulations!
All tests were successful.

Sections of this report:

    * Tester comments
    * Program output
    * Prerequisites
    * Environment and other context

------------------------------
TESTER COMMENTS
------------------------------

Additional comments from tester:

none provided

------------------------------
PROGRAM OUTPUT
------------------------------

Output from '':

Building and testing Encode-3.16
cp lib/Encode/JP/H2Z.pm blib\lib\Encode\JP\H2Z.pm
cp lib/Encode/JP/JIS7.pm blib\lib\Encode\JP\JIS7.pm
cp lib/Encode/Alias.pm blib\lib\Encode\Alias.pm
cp Encode/README.e2x blib\lib\Encode\README.e2x
cp lib/Encode/MIME/Header/ISO_2022_JP.pm blib\lib\Encode\MIME\Header\ISO_2022_JP.pm
cp lib/Encode/PerlIO.pod blib\lib\Encode\PerlIO.pod
cp lib/Encode/GSM0338.pm blib\lib\Encode\GSM0338.pm
cp Encode.pm blib\lib\Encode.pm
cp Encode/Makefile_PL.e2x blib\lib\Encode\Makefile_PL.e2x
cp Encode/Changes.e2x blib\lib\Encode\Changes.e2x
cp lib/Encode/Encoding.pm blib\lib\Encode\Encoding.pm
cp Encode/ConfigLocal_PM.e2x blib\lib\Encode\ConfigLocal_PM.e2x
cp Encode/encode.h blib\lib\Encode\encode.h
cp lib/Encode/KR/2022_KR.pm blib\lib\Encode\KR\2022_KR.pm
cp lib/Encode/Guess.pm blib\lib\Encode\Guess.pm
cp encoding.pm blib\lib\encoding.pm
cp lib/Encode/MIME/Name.pm blib\lib\Encode\MIME\Name.pm
cp Encode/_T.e2x blib\lib\Encode\_T.e2x
cp lib/Encode/Config.pm blib\lib\Encode\Config.pm
cp lib/Encode/Encoder.pm blib\lib\Encode\Encoder.pm
cp lib/Encode/MIME/Header.pm blib\lib\Encode\MIME\Header.pm
cp Encode/_PM.e2x blib\lib\Encode\_PM.e2x
cp lib/Encode/CN/HZ.pm blib\lib\Encode\CN\HZ.pm
cp lib/Encode/CJKConstants.pm blib\lib\Encode\CJKConstants.pm
cp lib/Encode/Supported.pod blib\lib\Encode\Supported.pod
cp lib/Encode/Unicode/UTF7.pm blib\lib\Encode\Unicode\UTF7.pm
cp Byte.pm ..\blib\lib\Encode\Byte.pm
Running Mkbootstrap for Byte ()
C:\"Strawberry\perl\bin\perl.exe" -MExtUtils::Command -e chmod -- 644 "Byte.bs"
C:\"Strawberry\perl\bin\perl.exe" -MExtUtils::Command::MM -e cp_nonempty -- Byte.bs ..\blib\arch\auto\Encode\Byte\Byte.bs 644
C:\"Strawberry\perl\bin\perl.exe"  ..\bin\enc2xs -"Q" -"O" -o byte_t.c -f byte_t.fnm
Reading iso-8859-2 (iso-8859-2)
Reading iso-8859-3 (iso-8859-3)
Reading iso-8859-4 (iso-8859-4)
Reading iso-8859-5 (iso-8859-5)
Reading iso-8859-6 (iso-8859-6)
Reading iso-8859-7 (iso-8859-7)
Reading iso-8859-8 (iso-8859-8)
Reading iso-8859-9 (iso-8859-9)
Reading iso-8859-10 (iso-8859-10)
Reading iso-8859-11 (iso-8859-11)
Reading iso-8859-13 (iso-8859-13)
Reading iso-8859-14 (iso-8859-14)
Reading iso-8859-15 (iso-8859-15)
Reading iso-8859-16 (iso-8859-16)
Reading AdobeStandardEncoding (AdobeStandardEncoding)
Reading cp1006 (cp1006)
Reading cp1250 (cp1250)
Reading cp1251 (cp1251)
Reading cp1253 (cp1253)
Reading cp1254 (cp1254)
Reading cp1255 (cp1255)
Reading cp1256 (cp1256)
Reading cp1257 (cp1257)
Reading cp1258 (cp1258)
Reading cp424 (cp424)
Reading cp437 (cp437)
Reading cp737 (cp737)
Reading cp775 (cp775)
Reading cp850 (cp850)
Reading cp852 (cp852)
Reading cp855 (cp855)
Reading cp856 (cp856)
Reading cp857 (cp857)
Reading cp858 (cp858)
Reading cp860 (cp860)
Reading cp861 (cp861)
Reading cp862 (cp862)
Reading cp863 (cp863)
Reading cp864 (cp864)
Reading cp865 (cp865)
Reading cp866 (cp866)
Reading cp869 (cp869)
Reading cp874 (cp874)
Reading hp-roman8 (hp-roman8)
Reading koi8-f (koi8-f)
Reading koi8-r (koi8-r)
Reading koi8-u (koi8-u)
Reading MacArabic (MacArabic)
Reading MacCentralEurRoman (MacCentralEurRoman)
Reading MacCroatian (MacCroatian)
Reading MacCyrillic (MacCyrillic)
Reading MacFarsi (MacFarsi)
Reading MacGreek (MacGreek)
Reading MacHebrew (MacHebrew)
Reading MacIcelandic (MacIcelandic)
Reading MacRomanian (MacRomanian)
Reading MacRumanian (MacRumanian)
Reading MacRoman (MacRoman)
Reading MacSami (MacSami)
Reading MacThai (MacThai)
Reading MacTurkish (MacTurkish)
Reading MacUkrainian (MacUkrainian)
Reading nextstep (nextstep)
Reading viscii (viscii)
C:\"Strawberry\perl\bin\perl.exe" "C:\home\tennis\perl5\lib\perl5\ExtUtils\xsubpp"  -nolinenumbers -typemap C:\strawberry\perl\lib\ExtUtils\typemap  Byte.xs > Byte.xsc
C:\"Strawberry\perl\bin\perl.exe" -MExtUtils::Command -e mv -- Byte.xsc Byte.c
gcc -c -IEncode -I../Encode 	-s -O2 -DWIN32 -DHAVE_DES_FCRYPT  -DUSE_SITECUSTOMIZE -DPERL_IMPLICIT_CONTEXT -DPERL_IMPLICIT_SYS -fno-strict-aliasing -DPERL_MSVCRT_READFIX -s -O2 	  -DVERSION=\"2.04\" 	-DXS_VERSION=\"2.04\"  "-IC:\strawberry\perl\lib\CORE"   Byte.c
gcc -c -IEncode -I../Encode 	-s -O2 -DWIN32 -DHAVE_DES_FCRYPT  -DUSE_SITECUSTOMIZE -DPERL_IMPLICIT_CONTEXT -DPERL_IMPLICIT_SYS -fno-strict-aliasing -DPERL_MSVCRT_READFIX -s -O2 	  -DVERSION=\"2.04\" 	-DXS_VERSION=\"2.04\"  "-IC:\strawberry\perl\lib\CORE"   byte_t.c
C:\"Strawberry\perl\bin\perl.exe" -MExtUtils::Mksymlists \
     -e "Mksymlists('NAME'=>\"Encode::Byte\", 'DLBASE' => 'Byte', 'DL_FUNCS' => {  }, 'FUNCLIST' => [], 'IMPORTS' => {  }, 'DL_VARS' => []);"
g++ Byte.def -o ..\blib\arch\auto\Encode\Byte\Byte.dll -mdll -s -L"C:\strawberry\perl\lib\CORE" -L"C:\strawberry\c\lib" Byte.o 	byte_t.o   "C:\strawberry\perl\lib\CORE\libperl510.a" -lmoldname -lkernel32 -luser32 -lgdi32 -lwinspool -lcomdlg32 -ladvapi32 -lshell32 -lole32 -loleaut32 -lnetapi32 -luuid -lws2_32 -lmpr -lwinmm -lversion -lodbc32 -lodbccp32 -Wl,--enable-auto-image-base
C:\"Strawberry\perl\bin\perl.exe" -MExtUtils::Command -e chmod -- 755 ..\blib\arch\auto\Encode\Byte\Byte.dll
cp CN.pm ..\blib\lib\Encode\CN.pm
Running Mkbootstrap for CN ()
C:\"Strawberry\perl\bin\perl.exe" -MExtUtils::Command -e chmod -- 644 "CN.bs"
C:\"Strawberry\perl\bin\perl.exe" -MExtUtils::Command::MM -e cp_nonempty -- CN.bs ..\blib\arch\auto\Encode\CN\CN.bs 644
C:\"Strawberry\perl\bin\perl.exe"  ..\bin\enc2xs -"Q" -o cp_00_t.c -f cp_00_t.fnm
Reading cp936 (cp936)
C:\"Strawberry\perl\bin\perl.exe"  ..\bin\enc2xs -"Q" -o eu_01_t.c -f eu_01_t.fnm
Reading euc-cn (euc-cn)
C:\"Strawberry\perl\bin\perl.exe"  ..\bin\enc2xs -"Q" -o gb_02_t.c -f gb_02_t.fnm
Reading gb12345-raw (gb12345-raw)
C:\"Strawberry\perl\bin\perl.exe"  ..\bin\enc2xs -"Q" -o gb_03_t.c -f gb_03_t.fnm
Reading gb2312-raw (gb2312-raw)
C:\"Strawberry\perl\bin\perl.exe"  ..\bin\enc2xs -"Q" -o ir_04_t.c -f ir_04_t.fnm
Reading iso-ir-165 (iso-ir-165)
C:\"Strawberry\perl\bin\perl.exe"  ..\bin\enc2xs -"Q" -o ma_05_t.c -f ma_05_t.fnm
Reading MacChineseSimp (MacChineseSimp)
C:\"Strawberry\perl\bin\perl.exe" "C:\home\tennis\perl5\lib\perl5\ExtUtils\xsubpp" -noprototypes -nolinenumbers -typemap C:\strawberry\perl\lib\ExtUtils\typemap  CN.xs > CN.xsc
C:\"Strawberry\perl\bin\perl.exe" -MExtUtils::Command -e mv -- CN.xsc CN.c
gcc -c -IEncode -I../Encode 	-s -O2 -DWIN32 -DHAVE_DES_FCRYPT  -DUSE_SITECUSTOMIZE -DPERL_IMPLICIT_CONTEXT -DPERL_IMPLICIT_SYS -fno-strict-aliasing -DPERL_MSVCRT_READFIX -s -O2 	  -DVERSION=\"2.03\" 	-DXS_VERSION=\"2.03\"  "-IC:\strawberry\perl\lib\CORE"   CN.c
gcc -c -IEncode -I../Encode 	-s -O2 -DWIN32 -DHAVE_DES_FCRYPT  -DUSE_SITECUSTOMIZE -DPERL_IMPLICIT_CONTEXT -DPERL_IMPLICIT_SYS -fno-strict-aliasing -DPERL_MSVCRT_READFIX -s -O2 	  -DVERSION=\"2.03\" 	-DXS_VERSION=\"2.03\"  "-IC:\strawberry\perl\lib\CORE"   cp_00_t.c
gcc -c -IEncode -I../Encode 	-s -O2 -DWIN32 -DHAVE_DES_FCRYPT  -DUSE_SITECUSTOMIZE -DPERL_IMPLICIT_CONTEXT -DPERL_IMPLICIT_SYS -fno-strict-aliasing -DPERL_MSVCRT_READFIX -s -O2 	  -DVERSION=\"2.03\" 	-DXS_VERSION=\"2.03\"  "-IC:\strawberry\perl\lib\CORE"   eu_01_t.c
gcc -c -IEncode -I../Encode 	-s -O2 -DWIN32 -DHAVE_DES_FCRYPT  -DUSE_SITECUSTOMIZE -DPERL_IMPLICIT_CONTEXT -DPERL_IMPLICIT_SYS -fno-strict-aliasing -DPERL_MSVCRT_READFIX -s -O2 	  -DVERSION=\"2.03\" 	-DXS_VERSION=\"2.03\"  "-IC:\strawberry\perl\lib\CORE"   gb_02_t.c
gcc -c -IEncode -I../Encode 	-s -O2 -DWIN32 -DHAVE_DES_FCRYPT  -DUSE_SITECUSTOMIZE -DPERL_IMPLICIT_CONTEXT -DPERL_IMPLICIT_SYS -fno-strict-aliasing -DPERL_MSVCRT_READFIX -s -O2 	  -DVERSION=\"2.03\" 	-DXS_VERSION=\"2.03\"  "-IC:\strawberry\perl\lib\CORE"   gb_03_t.c
gcc -c -IEncode -I../Encode 	-s -O2 -DWIN32 -DHAVE_DES_FCRYPT  -DUSE_SITECUSTOMIZE -DPERL_IMPLICIT_CONTEXT -DPERL_IMPLICIT_SYS -fno-strict-aliasing -DPERL_MSVCRT_READFIX -s -O2 	  -DVERSION=\"2.03\" 	-DXS_VERSION=\"2.03\"  "-IC:\strawberry\perl\lib\CORE"   ir_04_t.c
gcc -c -IEncode -I../Encode 	-s -O2 -DWIN32 -DHAVE_DES_FCRYPT  -DUSE_SITECUSTOMIZE -DPERL_IMPLICIT_CONTEXT -DPERL_IMPLICIT_SYS -fno-strict-aliasing -DPERL_MSVCRT_READFIX -s -O2 	  -DVERSION=\"2.03\" 	-DXS_VERSION=\"2.03\"  "-IC:\strawberry\perl\lib\CORE"   ma_05_t.c
C:\"Strawberry\perl\bin\perl.exe" -MExtUtils::Mksymlists \
     -e "Mksymlists('NAME'=>\"Encode::CN\", 'DLBASE' => 'CN', 'DL_FUNCS' => {  }, 'FUNCLIST' => [], 'IMPORTS' => {  }, 'DL_VARS' => []);"
g++ CN.def -o ..\blib\arch\auto\Encode\CN\CN.dll -mdll -s -L"C:\strawberry\perl\lib\CORE" -L"C:\strawberry\c\lib" CN.o 	cp_00_t.o 	eu_01_t.o 	gb_02_t.o 	gb_03_t.o 	ir_04_t.o 	ma_05_t.o   "C:\strawberry\perl\lib\CORE\libperl510.a" -lmoldname -lkernel32 -luser32 -lgdi32 -lwinspool -lcomdlg32 -ladvapi32 -lshell32 -lole32 -loleaut32 -lnetapi32 -luuid -lws2_32 -lmpr -lwinmm -lversion -lodbc32 -lodbccp32 -Wl,--enable-auto-image-base
C:\"Strawberry\perl\bin\perl.exe" -MExtUtils::Command -e chmod -- 755 ..\blib\arch\auto\Encode\CN\CN.dll
cp EBCDIC.pm ..\blib\lib\Encode\EBCDIC.pm
Running Mkbootstrap for EBCDIC ()
C:\"Strawberry\perl\bin\perl.exe" -MExtUtils::Command -e chmod -- 644 "EBCDIC.bs"
C:\"Strawberry\perl\bin\perl.exe" -MExtUtils::Command::MM -e cp_nonempty -- EBCDIC.bs ..\blib\arch\auto\Encode\EBCDIC\EBCDIC.bs 644
C:\"Strawberry\perl\bin\perl.exe"  ..\bin\enc2xs -"Q" -"O" -o ebcdic_t.c -f ebcdic_t.fnm
Reading cp37 (cp37)
Reading cp1026 (cp1026)
Reading cp1047 (cp1047)
Reading cp500 (cp500)
Reading cp875 (cp875)
Reading posix-bc (posix-bc)
C:\"Strawberry\perl\bin\perl.exe" "C:\home\tennis\perl5\lib\perl5\ExtUtils\xsubpp"  -nolinenumbers -typemap C:\strawberry\perl\lib\ExtUtils\typemap  EBCDIC.xs > EBCDIC.xsc
C:\"Strawberry\perl\bin\perl.exe" -MExtUtils::Command -e mv -- EBCDIC.xsc EBCDIC.c
gcc -c -IEncode -I../Encode 	-s -O2 -DWIN32 -DHAVE_DES_FCRYPT  -DUSE_SITECUSTOMIZE -DPERL_IMPLICIT_CONTEXT -DPERL_IMPLICIT_SYS -fno-strict-aliasing -DPERL_MSVCRT_READFIX -s -O2 	  -DVERSION=\"2.02\" 	-DXS_VERSION=\"2.02\"  "-IC:\strawberry\perl\lib\CORE"   EBCDIC.c
gcc -c -IEncode -I../Encode 	-s -O2 -DWIN32 -DHAVE_DES_FCRYPT  -DUSE_SITECUSTOMIZE -DPERL_IMPLICIT_CONTEXT -DPERL_IMPLICIT_SYS -fno-strict-aliasing -DPERL_MSVCRT_READFIX -s -O2 	  -DVERSION=\"2.02\" 	-DXS_VERSION=\"2.02\"  "-IC:\strawberry\perl\lib\CORE"   ebcdic_t.c
C:\"Strawberry\perl\bin\perl.exe" -MExtUtils::Mksymlists \
     -e "Mksymlists('NAME'=>\"Encode::EBCDIC\", 'DLBASE' => 'EBCDIC', 'DL_FUNCS' => {  }, 'FUNCLIST' => [], 'IMPORTS' => {  }, 'DL_VARS' => []);"
g++ EBCDIC.def -o ..\blib\arch\auto\Encode\EBCDIC\EBCDIC.dll -mdll -s -L"C:\strawberry\perl\lib\CORE" -L"C:\strawberry\c\lib" EBCDIC.o 	ebcdic_t.o   "C:\strawberry\perl\lib\CORE\libperl510.a" -lmoldname -lkernel32 -luser32 -lgdi32 -lwinspool -lcomdlg32 -ladvapi32 -lshell32 -lole32 -loleaut32 -lnetapi32 -luuid -lws2_32 -lmpr -lwinmm -lversion -lodbc32 -lodbccp32 -Wl,--enable-auto-image-base
C:\"Strawberry\perl\bin\perl.exe" -MExtUtils::Command -e chmod -- 755 ..\blib\arch\auto\Encode\EBCDIC\EBCDIC.dll
cp JP.pm ..\blib\lib\Encode\JP.pm
Running Mkbootstrap for JP ()
C:\"Strawberry\perl\bin\perl.exe" -MExtUtils::Command -e chmod -- 644 "JP.bs"
C:\"Strawberry\perl\bin\perl.exe" -MExtUtils::Command::MM -e cp_nonempty -- JP.bs ..\blib\arch\auto\Encode\JP\JP.bs 644
C:\"Strawberry\perl\bin\perl.exe"  ..\bin\enc2xs -"Q" -o cp_00_t.c -f cp_00_t.fnm
Reading cp932 (cp932)
C:\"Strawberry\perl\bin\perl.exe"  ..\bin\enc2xs -"Q" -o eu_01_t.c -f eu_01_t.fnm
Reading euc-jp (euc-jp)
C:\"Strawberry\perl\bin\perl.exe"  ..\bin\enc2xs -"Q" -o ji_02_t.c -f ji_02_t.fnm
Reading jis0201-raw (jis0201-raw)
C:\"Strawberry\perl\bin\perl.exe"  ..\bin\enc2xs -"Q" -o ji_03_t.c -f ji_03_t.fnm
Reading jis0208-raw (jis0208-raw)
C:\"Strawberry\perl\bin\perl.exe"  ..\bin\enc2xs -"Q" -o ji_04_t.c -f ji_04_t.fnm
Reading jis0212-raw (jis0212-raw)
C:\"Strawberry\perl\bin\perl.exe"  ..\bin\enc2xs -"Q" -o ma_05_t.c -f ma_05_t.fnm
Reading MacJapanese (MacJapanese)
C:\"Strawberry\perl\bin\perl.exe"  ..\bin\enc2xs -"Q" -o sh_06_t.c -f sh_06_t.fnm
Reading shiftjis (shiftjis)
C:\"Strawberry\perl\bin\perl.exe" "C:\home\tennis\perl5\lib\perl5\ExtUtils\xsubpp"  -nolinenumbers -typemap C:\strawberry\perl\lib\ExtUtils\typemap  JP.xs > JP.xsc
C:\"Strawberry\perl\bin\perl.exe" -MExtUtils::Command -e mv -- JP.xsc JP.c
gcc -c -IEncode -I../Encode 	-s -O2 -DWIN32 -DHAVE_DES_FCRYPT  -DUSE_SITECUSTOMIZE -DPERL_IMPLICIT_CONTEXT -DPERL_IMPLICIT_SYS -fno-strict-aliasing -DPERL_MSVCRT_READFIX -s -O2 	  -DVERSION=\"2.05\" 	-DXS_VERSION=\"2.05\"  "-IC:\strawberry\perl\lib\CORE"   JP.c
gcc -c -IEncode -I../Encode 	-s -O2 -DWIN32 -DHAVE_DES_FCRYPT  -DUSE_SITECUSTOMIZE -DPERL_IMPLICIT_CONTEXT -DPERL_IMPLICIT_SYS -fno-strict-aliasing -DPERL_MSVCRT_READFIX -s -O2 	  -DVERSION=\"2.05\" 	-DXS_VERSION=\"2.05\"  "-IC:\strawberry\perl\lib\CORE"   cp_00_t.c
gcc -c -IEncode -I../Encode 	-s -O2 -DWIN32 -DHAVE_DES_FCRYPT  -DUSE_SITECUSTOMIZE -DPERL_IMPLICIT_CONTEXT -DPERL_IMPLICIT_SYS -fno-strict-aliasing -DPERL_MSVCRT_READFIX -s -O2 	  -DVERSION=\"2.05\" 	-DXS_VERSION=\"2.05\"  "-IC:\strawberry\perl\lib\CORE"   eu_01_t.c
gcc -c -IEncode -I../Encode 	-s -O2 -DWIN32 -DHAVE_DES_FCRYPT  -DUSE_SITECUSTOMIZE -DPERL_IMPLICIT_CONTEXT -DPERL_IMPLICIT_SYS -fno-strict-aliasing -DPERL_MSVCRT_READFIX -s -O2 	  -DVERSION=\"2.05\" 	-DXS_VERSION=\"2.05\"  "-IC:\strawberry\perl\lib\CORE"   ji_02_t.c
gcc -c -IEncode -I../Encode 	-s -O2 -DWIN32 -DHAVE_DES_FCRYPT  -DUSE_SITECUSTOMIZE -DPERL_IMPLICIT_CONTEXT -DPERL_IMPLICIT_SYS -fno-strict-aliasing -DPERL_MSVCRT_READFIX -s -O2 	  -DVERSION=\"2.05\" 	-DXS_VERSION=\"2.05\"  "-IC:\strawberry\perl\lib\CORE"   ji_03_t.c
gcc -c -IEncode -I../Encode 	-s -O2 -DWIN32 -DHAVE_DES_FCRYPT  -DUSE_SITECUSTOMIZE -DPERL_IMPLICIT_CONTEXT -DPERL_IMPLICIT_SYS -fno-strict-aliasing -DPERL_MSVCRT_READFIX -s -O2 	  -DVERSION=\"2.05\" 	-DXS_VERSION=\"2.05\"  "-IC:\strawberry\perl\lib\CORE"   ji_04_t.c
gcc -c -IEncode -I../Encode 	-s -O2 -DWIN32 -DHAVE_DES_FCRYPT  -DUSE_SITECUSTOMIZE -DPERL_IMPLICIT_CONTEXT -DPERL_IMPLICIT_SYS -fno-strict-aliasing -DPERL_MSVCRT_READFIX -s -O2 	  -DVERSION=\"2.05\" 	-DXS_VERSION=\"2.05\"  "-IC:\strawberry\perl\lib\CORE"   ma_05_t.c
gcc -c -IEncode -I../Encode 	-s -O2 -DWIN32 -DHAVE_DES_FCRYPT  -DUSE_SITECUSTOMIZE -DPERL_IMPLICIT_CONTEXT -DPERL_IMPLICIT_SYS -fno-strict-aliasing -DPERL_MSVCRT_READFIX -s -O2 	  -DVERSION=\"2.05\" 	-DXS_VERSION=\"2.05\"  "-IC:\strawberry\perl\lib\CORE"   sh_06_t.c
C:\"Strawberry\perl\bin\perl.exe" -MExtUtils::Mksymlists \
     -e "Mksymlists('NAME'=>\"Encode::JP\", 'DLBASE' => 'JP', 'DL_FUNCS' => {  }, 'FUNCLIST' => [], 'IMPORTS' => {  }, 'DL_VARS' => []);"
g++ JP.def -o ..\blib\arch\auto\Encode\JP\JP.dll -mdll -s -L"C:\strawberry\perl\lib\CORE" -L"C:\strawberry\c\lib" JP.o 	cp_00_t.o 	eu_01_t.o 	ji_02_t.o 	ji_03_t.o 	ji_04_t.o 	ma_05_t.o 	sh_06_t.o   "C:\strawberry\perl\lib\CORE\libperl510.a" -lmoldname -lkernel32 -luser32 -lgdi32 -lwinspool -lcomdlg32 -ladvapi32 -lshell32 -lole32 -loleaut32 -lnetapi32 -luuid -lws2_32 -lmpr -lwinmm -lversion -lodbc32 -lodbccp32 -Wl,--enable-auto-image-base
C:\"Strawberry\perl\bin\perl.exe" -MExtUtils::Command -e chmod -- 755 ..\blib\arch\auto\Encode\JP\JP.dll
cp KR.pm ..\blib\lib\Encode\KR.pm
Running Mkbootstrap for KR ()
C:\"Strawberry\perl\bin\perl.exe" -MExtUtils::Command -e chmod -- 644 "KR.bs"
C:\"Strawberry\perl\bin\perl.exe" -MExtUtils::Command::MM -e cp_nonempty -- KR.bs ..\blib\arch\auto\Encode\KR\KR.bs 644
C:\"Strawberry\perl\bin\perl.exe"  ..\bin\enc2xs -"Q" -o cp_00_t.c -f cp_00_t.fnm
Reading cp949 (cp949)
C:\"Strawberry\perl\bin\perl.exe"  ..\bin\enc2xs -"Q" -o eu_01_t.c -f eu_01_t.fnm
Reading euc-kr (euc-kr)
C:\"Strawberry\perl\bin\perl.exe"  ..\bin\enc2xs -"Q" -o jo_02_t.c -f jo_02_t.fnm
Reading johab (johab)
C:\"Strawberry\perl\bin\perl.exe"  ..\bin\enc2xs -"Q" -o ks_03_t.c -f ks_03_t.fnm
Reading ksc5601-raw (ksc5601-raw)
C:\"Strawberry\perl\bin\perl.exe"  ..\bin\enc2xs -"Q" -o ma_04_t.c -f ma_04_t.fnm
Reading MacKorean (MacKorean)
C:\"Strawberry\perl\bin\perl.exe" "C:\home\tennis\perl5\lib\perl5\ExtUtils\xsubpp"  -nolinenumbers -typemap C:\strawberry\perl\lib\ExtUtils\typemap  KR.xs > KR.xsc
C:\"Strawberry\perl\bin\perl.exe" -MExtUtils::Command -e mv -- KR.xsc KR.c
gcc -c -IEncode -I../Encode 	-s -O2 -DWIN32 -DHAVE_DES_FCRYPT  -DUSE_SITECUSTOMIZE -DPERL_IMPLICIT_CONTEXT -DPERL_IMPLICIT_SYS -fno-strict-aliasing -DPERL_MSVCRT_READFIX -s -O2 	  -DVERSION=\"2.03\" 	-DXS_VERSION=\"2.03\"  "-IC:\strawberry\perl\lib\CORE"   KR.c
gcc -c -IEncode -I../Encode 	-s -O2 -DWIN32 -DHAVE_DES_FCRYPT  -DUSE_SITECUSTOMIZE -DPERL_IMPLICIT_CONTEXT -DPERL_IMPLICIT_SYS -fno-strict-aliasing -DPERL_MSVCRT_READFIX -s -O2 	  -DVERSION=\"2.03\" 	-DXS_VERSION=\"2.03\"  "-IC:\strawberry\perl\lib\CORE"   cp_00_t.c
gcc -c -IEncode -I../Encode 	-s -O2 -DWIN32 -DHAVE_DES_FCRYPT  -DUSE_SITECUSTOMIZE -DPERL_IMPLICIT_CONTEXT -DPERL_IMPLICIT_SYS -fno-strict-aliasing -DPERL_MSVCRT_READFIX -s -O2 	  -DVERSION=\"2.03\" 	-DXS_VERSION=\"2.03\"  "-IC:\strawberry\perl\lib\CORE"   eu_01_t.c
gcc -c -IEncode -I../Encode 	-s -O2 -DWIN32 -DHAVE_DES_FCRYPT  -DUSE_SITECUSTOMIZE -DPERL_IMPLICIT_CONTEXT -DPERL_IMPLICIT_SYS -fno-strict-aliasing -DPERL_MSVCRT_READFIX -s -O2 	  -DVERSION=\"2.03\" 	-DXS_VERSION=\"2.03\"  "-IC:\strawberry\perl\lib\CORE"   jo_02_t.c
gcc -c -IEncode -I../Encode 	-s -O2 -DWIN32 -DHAVE_DES_FCRYPT  -DUSE_SITECUSTOMIZE -DPERL_IMPLICIT_CONTEXT -DPERL_IMPLICIT_SYS -fno-strict-aliasing -DPERL_MSVCRT_READFIX -s -O2 	  -DVERSION=\"2.03\" 	-DXS_VERSION=\"2.03\"  "-IC:\strawberry\perl\lib\CORE"   ks_03_t.c
gcc -c -IEncode -I../Encode 	-s -O2 -DWIN32 -DHAVE_DES_FCRYPT  -DUSE_SITECUSTOMIZE -DPERL_IMPLICIT_CONTEXT -DPERL_IMPLICIT_SYS -fno-strict-aliasing -DPERL_MSVCRT_READFIX -s -O2 	  -DVERSION=\"2.03\" 	-DXS_VERSION=\"2.03\"  "-IC:\strawberry\perl\lib\CORE"   ma_04_t.c
C:\"Strawberry\perl\bin\perl.exe" -MExtUtils::Mksymlists \
     -e "Mksymlists('NAME'=>\"Encode::KR\", 'DLBASE' => 'KR', 'DL_FUNCS' => {  }, 'FUNCLIST' => [], 'IMPORTS' => {  }, 'DL_VARS' => []);"
g++ KR.def -o ..\blib\arch\auto\Encode\KR\KR.dll -mdll -s -L"C:\strawberry\perl\lib\CORE" -L"C:\strawberry\c\lib" KR.o 	cp_00_t.o 	eu_01_t.o 	jo_02_t.o 	ks_03_t.o 	ma_04_t.o   "C:\strawberry\perl\lib\CORE\libperl510.a" -lmoldname -lkernel32 -luser32 -lgdi32 -lwinspool -lcomdlg32 -ladvapi32 -lshell32 -lole32 -loleaut32 -lnetapi32 -luuid -lws2_32 -lmpr -lwinmm -lversion -lodbc32 -lodbccp32 -Wl,--enable-auto-image-base
C:\"Strawberry\perl\bin\perl.exe" -MExtUtils::Command -e chmod -- 755 ..\blib\arch\auto\Encode\KR\KR.dll
cp Symbol.pm ..\blib\lib\Encode\Symbol.pm
Running Mkbootstrap for Symbol ()
C:\"Strawberry\perl\bin\perl.exe" -MExtUtils::Command -e chmod -- 644 "Symbol.bs"
C:\"Strawberry\perl\bin\perl.exe" -MExtUtils::Command::MM -e cp_nonempty -- Symbol.bs ..\blib\arch\auto\Encode\Symbol\Symbol.bs 644
C:\"Strawberry\perl\bin\perl.exe"  ..\bin\enc2xs -"Q" -"O" -o symbol_t.c -f symbol_t.fnm
Reading AdobeSymbol (AdobeSymbol)
Reading AdobeZdingbat (AdobeZdingbat)
Reading dingbats (dingbats)
Reading MacDingbats (MacDingbats)
Reading MacSymbol (MacSymbol)
Reading symbol (symbol)
C:\"Strawberry\perl\bin\perl.exe" "C:\home\tennis\perl5\lib\perl5\ExtUtils\xsubpp"  -nolinenumbers -typemap C:\strawberry\perl\lib\ExtUtils\typemap  Symbol.xs > Symbol.xsc
C:\"Strawberry\perl\bin\perl.exe" -MExtUtils::Command -e mv -- Symbol.xsc Symbol.c
gcc -c -IEncode -I../Encode 	-s -O2 -DWIN32 -DHAVE_DES_FCRYPT  -DUSE_SITECUSTOMIZE -DPERL_IMPLICIT_CONTEXT -DPERL_IMPLICIT_SYS -fno-strict-aliasing -DPERL_MSVCRT_READFIX -s -O2 	  -DVERSION=\"2.02\" 	-DXS_VERSION=\"2.02\"  "-IC:\strawberry\perl\lib\CORE"   Symbol.c
gcc -c -IEncode -I../Encode 	-s -O2 -DWIN32 -DHAVE_DES_FCRYPT  -DUSE_SITECUSTOMIZE -DPERL_IMPLICIT_CONTEXT -DPERL_IMPLICIT_SYS -fno-strict-aliasing -DPERL_MSVCRT_READFIX -s -O2 	  -DVERSION=\"2.02\" 	-DXS_VERSION=\"2.02\"  "-IC:\strawberry\perl\lib\CORE"   symbol_t.c
C:\"Strawberry\perl\bin\perl.exe" -MExtUtils::Mksymlists \
     -e "Mksymlists('NAME'=>\"Encode::Symbol\", 'DLBASE' => 'Symbol', 'DL_FUNCS' => {  }, 'FUNCLIST' => [], 'IMPORTS' => {  }, 'DL_VARS' => []);"
g++ Symbol.def -o ..\blib\arch\auto\Encode\Symbol\Symbol.dll -mdll -s -L"C:\strawberry\perl\lib\CORE" -L"C:\strawberry\c\lib" Symbol.o 	symbol_t.o   "C:\strawberry\perl\lib\CORE\libperl510.a" -lmoldname -lkernel32 -luser32 -lgdi32 -lwinspool -lcomdlg32 -ladvapi32 -lshell32 -lole32 -loleaut32 -lnetapi32 -luuid -lws2_32 -lmpr -lwinmm -lversion -lodbc32 -lodbccp32 -Wl,--enable-auto-image-base
C:\"Strawberry\perl\bin\perl.exe" -MExtUtils::Command -e chmod -- 755 ..\blib\arch\auto\Encode\Symbol\Symbol.dll
cp TW.pm ..\blib\lib\Encode\TW.pm
Running Mkbootstrap for TW ()
C:\"Strawberry\perl\bin\perl.exe" -MExtUtils::Command -e chmod -- 644 "TW.bs"
C:\"Strawberry\perl\bin\perl.exe" -MExtUtils::Command::MM -e cp_nonempty -- TW.bs ..\blib\arch\auto\Encode\TW\TW.bs 644
C:\"Strawberry\perl\bin\perl.exe"  ..\bin\enc2xs -"Q" -o bi_00_t.c -f bi_00_t.fnm
Reading big5-eten (big5-eten)
C:\"Strawberry\perl\bin\perl.exe"  ..\bin\enc2xs -"Q" -o bi_01_t.c -f bi_01_t.fnm
Reading big5-hkscs (big5-hkscs)
C:\"Strawberry\perl\bin\perl.exe"  ..\bin\enc2xs -"Q" -o cp_02_t.c -f cp_02_t.fnm
Reading cp950 (cp950)
C:\"Strawberry\perl\bin\perl.exe"  ..\bin\enc2xs -"Q" -o ma_03_t.c -f ma_03_t.fnm
Reading MacChineseTrad (MacChineseTrad)
C:\"Strawberry\perl\bin\perl.exe" "C:\home\tennis\perl5\lib\perl5\ExtUtils\xsubpp"  -nolinenumbers -typemap C:\strawberry\perl\lib\ExtUtils\typemap  TW.xs > TW.xsc
C:\"Strawberry\perl\bin\perl.exe" -MExtUtils::Command -e mv -- TW.xsc TW.c
gcc -c -IEncode -I../Encode 	-s -O2 -DWIN32 -DHAVE_DES_FCRYPT  -DUSE_SITECUSTOMIZE -DPERL_IMPLICIT_CONTEXT -DPERL_IMPLICIT_SYS -fno-strict-aliasing -DPERL_MSVCRT_READFIX -s -O2 	  -DVERSION=\"2.03\" 	-DXS_VERSION=\"2.03\"  "-IC:\strawberry\perl\lib\CORE"   TW.c
gcc -c -IEncode -I../Encode 	-s -O2 -DWIN32 -DHAVE_DES_FCRYPT  -DUSE_SITECUSTOMIZE -DPERL_IMPLICIT_CONTEXT -DPERL_IMPLICIT_SYS -fno-strict-aliasing -DPERL_MSVCRT_READFIX -s -O2 	  -DVERSION=\"2.03\" 	-DXS_VERSION=\"2.03\"  "-IC:\strawberry\perl\lib\CORE"   bi_00_t.c
gcc -c -IEncode -I../Encode 	-s -O2 -DWIN32 -DHAVE_DES_FCRYPT  -DUSE_SITECUSTOMIZE -DPERL_IMPLICIT_CONTEXT -DPERL_IMPLICIT_SYS -fno-strict-aliasing -DPERL_MSVCRT_READFIX -s -O2 	  -DVERSION=\"2.03\" 	-DXS_VERSION=\"2.03\"  "-IC:\strawberry\perl\lib\CORE"   bi_01_t.c
gcc -c -IEncode -I../Encode 	-s -O2 -DWIN32 -DHAVE_DES_FCRYPT  -DUSE_SITECUSTOMIZE -DPERL_IMPLICIT_CONTEXT -DPERL_IMPLICIT_SYS -fno-strict-aliasing -DPERL_MSVCRT_READFIX -s -O2 	  -DVERSION=\"2.03\" 	-DXS_VERSION=\"2.03\"  "-IC:\strawberry\perl\lib\CORE"   cp_02_t.c
gcc -c -IEncode -I../Encode 	-s -O2 -DWIN32 -DHAVE_DES_FCRYPT  -DUSE_SITECUSTOMIZE -DPERL_IMPLICIT_CONTEXT -DPERL_IMPLICIT_SYS -fno-strict-aliasing -DPERL_MSVCRT_READFIX -s -O2 	  -DVERSION=\"2.03\" 	-DXS_VERSION=\"2.03\"  "-IC:\strawberry\perl\lib\CORE"   ma_03_t.c
C:\"Strawberry\perl\bin\perl.exe" -MExtUtils::Mksymlists \
     -e "Mksymlists('NAME'=>\"Encode::TW\", 'DLBASE' => 'TW', 'DL_FUNCS' => {  }, 'FUNCLIST' => [], 'IMPORTS' => {  }, 'DL_VARS' => []);"
g++ TW.def -o ..\blib\arch\auto\Encode\TW\TW.dll -mdll -s -L"C:\strawberry\perl\lib\CORE" -L"C:\strawberry\c\lib" TW.o 	bi_00_t.o 	bi_01_t.o 	cp_02_t.o 	ma_03_t.o   "C:\strawberry\perl\lib\CORE\libperl510.a" -lmoldname -lkernel32 -luser32 -lgdi32 -lwinspool -lcomdlg32 -ladvapi32 -lshell32 -lole32 -loleaut32 -lnetapi32 -luuid -lws2_32 -lmpr -lwinmm -lversion -lodbc32 -lodbccp32 -Wl,--enable-auto-image-base
C:\"Strawberry\perl\bin\perl.exe" -MExtUtils::Command -e chmod -- 755 ..\blib\arch\auto\Encode\TW\TW.dll
cp Unicode.pm ..\blib\lib\Encode\Unicode.pm
Running Mkbootstrap for Unicode ()
C:\"Strawberry\perl\bin\perl.exe" -MExtUtils::Command -e chmod -- 644 "Unicode.bs"
C:\"Strawberry\perl\bin\perl.exe" -MExtUtils::Command::MM -e cp_nonempty -- Unicode.bs ..\blib\arch\auto\Encode\Unicode\Unicode.bs 644
C:\"Strawberry\perl\bin\perl.exe" "C:\home\tennis\perl5\lib\perl5\ExtUtils\xsubpp"  -typemap C:\strawberry\perl\lib\ExtUtils\typemap  Unicode.xs > Unicode.xsc
C:\"Strawberry\perl\bin\perl.exe" -MExtUtils::Command -e mv -- Unicode.xsc Unicode.c
gcc -c -IEncode -I../Encode 	-s -O2 -DWIN32 -DHAVE_DES_FCRYPT  -DUSE_SITECUSTOMIZE -DPERL_IMPLICIT_CONTEXT -DPERL_IMPLICIT_SYS -fno-strict-aliasing -DPERL_MSVCRT_READFIX -s -O2 	  -DVERSION=\"2.19\" 	-DXS_VERSION=\"2.19\"  "-IC:\strawberry\perl\lib\CORE"   Unicode.c
C:\"Strawberry\perl\bin\perl.exe" -MExtUtils::Mksymlists \
     -e "Mksymlists('NAME'=>\"Encode::Unicode\", 'DLBASE' => 'Unicode', 'DL_FUNCS' => {  }, 'FUNCLIST' => [], 'IMPORTS' => {  }, 'DL_VARS' => []);"
g++ Unicode.def -o ..\blib\arch\auto\Encode\Unicode\Unicode.dll -mdll -s -L"C:\strawberry\perl\lib\CORE" -L"C:\strawberry\c\lib" Unicode.o   "C:\strawberry\perl\lib\CORE\libperl510.a" -lmoldname -lkernel32 -luser32 -lgdi32 -lwinspool -lcomdlg32 -ladvapi32 -lshell32 -lole32 -loleaut32 -lnetapi32 -luuid -lws2_32 -lmpr -lwinmm -lversion -lodbc32 -lodbccp32 -Wl,--enable-auto-image-base
C:\"Strawberry\perl\bin\perl.exe" -MExtUtils::Command -e chmod -- 755 ..\blib\arch\auto\Encode\Unicode\Unicode.dll
Running Mkbootstrap for Encode ()
C:\"Strawberry\perl\bin\perl.exe" -MExtUtils::Command -e chmod -- 644 "Encode.bs"
C:\"Strawberry\perl\bin\perl.exe" -MExtUtils::Command::MM -e cp_nonempty -- Encode.bs blib\arch\auto\Encode\Encode.bs 644
C:\"Strawberry\perl\bin\perl.exe" "C:\home\tennis\perl5\lib\perl5\ExtUtils\xsubpp"  -typemap C:\strawberry\perl\lib\ExtUtils\typemap  Encode.xs > Encode.xsc
C:\"Strawberry\perl\bin\perl.exe" -MExtUtils::Command -e mv -- Encode.xsc Encode.c
C:\"Strawberry\perl\bin\perl.exe"  bin\enc2xs -"Q" -"O" -o def_t.c -f def_t.fnm
Reading iso-8859-1 (iso-8859-1)
Reading ascii (ascii)
Reading cp1252 (cp1252)
Reading ascii-ctrl (ascii-ctrl)
Reading null (null)
gcc -c  -IEncode 	-s -O2 -DWIN32 -DHAVE_DES_FCRYPT  -DUSE_SITECUSTOMIZE -DPERL_IMPLICIT_CONTEXT -DPERL_IMPLICIT_SYS -fno-strict-aliasing -DPERL_MSVCRT_READFIX -s -O2 	  -DVERSION=\"3.16\" 	-DXS_VERSION=\"3.16\"  "-IC:\strawberry\perl\lib\CORE"   Encode.c
gcc -c  -IEncode 	-s -O2 -DWIN32 -DHAVE_DES_FCRYPT  -DUSE_SITECUSTOMIZE -DPERL_IMPLICIT_CONTEXT -DPERL_IMPLICIT_SYS -fno-strict-aliasing -DPERL_MSVCRT_READFIX -s -O2 	  -DVERSION=\"3.16\" 	-DXS_VERSION=\"3.16\"  "-IC:\strawberry\perl\lib\CORE"   def_t.c
gcc -c  -IEncode 	-s -O2 -DWIN32 -DHAVE_DES_FCRYPT  -DUSE_SITECUSTOMIZE -DPERL_IMPLICIT_CONTEXT -DPERL_IMPLICIT_SYS -fno-strict-aliasing -DPERL_MSVCRT_READFIX -s -O2 	  -DVERSION=\"3.16\" 	-DXS_VERSION=\"3.16\"  "-IC:\strawberry\perl\lib\CORE"   encengine.c
C:\"Strawberry\perl\bin\perl.exe" -MExtUtils::Mksymlists \
     -e "Mksymlists('NAME'=>\"Encode\", 'DLBASE' => 'Encode', 'DL_FUNCS' => {  }, 'FUNCLIST' => [], 'IMPORTS' => {  }, 'DL_VARS' => []);"
g++ Encode.def -o blib\arch\auto\Encode\Encode.dll -mdll -s -L"C:\strawberry\perl\lib\CORE" -L"C:\strawberry\c\lib" Encode.o 	def_t.o 	encengine.o   "C:\strawberry\perl\lib\CORE\libperl510.a" -lmoldname -lkernel32 -luser32 -lgdi32 -lwinspool -lcomdlg32 -ladvapi32 -lshell32 -lole32 -loleaut32 -lnetapi32 -luuid -lws2_32 -lmpr -lwinmm -lversion -lodbc32 -lodbccp32 -Wl,--enable-auto-image-base
C:\"Strawberry\perl\bin\perl.exe" -MExtUtils::Command -e chmod -- 755 blib\arch\auto\Encode\Encode.dll
C:\"Strawberry\perl\bin\perl.exe" -MExtUtils::Command -e cp -- bin/enc2xs blib\script\enc2xs
pl2bat.bat blib\script\enc2xs
C:\"Strawberry\perl\bin\perl.exe" -MExtUtils::Command -e cp -- bin/encguess blib\script\encguess
pl2bat.bat blib\script\encguess
C:\"Strawberry\perl\bin\perl.exe" -MExtUtils::Command -e cp -- bin/piconv blib\script\piconv
pl2bat.bat blib\script\piconv
C:\"Strawberry\perl\bin\perl.exe" -MExtUtils::Command::MM -e cp_nonempty -- Encode.bs blib\arch\auto\Encode\Encode.bs 644
C:\"Strawberry\perl\bin\perl.exe" -MExtUtils::Command::MM -e cp_nonempty -- Byte.bs ..\blib\arch\auto\Encode\Byte\Byte.bs 644
C:\"Strawberry\perl\bin\perl.exe" -MExtUtils::Command::MM -e cp_nonempty -- CN.bs ..\blib\arch\auto\Encode\CN\CN.bs 644
C:\"Strawberry\perl\bin\perl.exe" -MExtUtils::Command::MM -e cp_nonempty -- EBCDIC.bs ..\blib\arch\auto\Encode\EBCDIC\EBCDIC.bs 644
C:\"Strawberry\perl\bin\perl.exe" -MExtUtils::Command::MM -e cp_nonempty -- JP.bs ..\blib\arch\auto\Encode\JP\JP.bs 644
C:\"Strawberry\perl\bin\perl.exe" -MExtUtils::Command::MM -e cp_nonempty -- KR.bs ..\blib\arch\auto\Encode\KR\KR.bs 644
C:\"Strawberry\perl\bin\perl.exe" -MExtUtils::Command::MM -e cp_nonempty -- Symbol.bs ..\blib\arch\auto\Encode\Symbol\Symbol.bs 644
C:\"Strawberry\perl\bin\perl.exe" -MExtUtils::Command::MM -e cp_nonempty -- TW.bs ..\blib\arch\auto\Encode\TW\TW.bs 644
C:\"Strawberry\perl\bin\perl.exe" -MExtUtils::Command::MM -e cp_nonempty -- Unicode.bs ..\blib\arch\auto\Encode\Unicode\Unicode.bs 644
C:\"Strawberry\perl\bin\perl.exe" -MExtUtils::Command::MM -e cp_nonempty -- Byte.bs ..\blib\arch\auto\Encode\Byte\Byte.bs 644
'No tests defined for Encode::Byte extension.'
C:\"Strawberry\perl\bin\perl.exe" -MExtUtils::Command::MM -e cp_nonempty -- CN.bs ..\blib\arch\auto\Encode\CN\CN.bs 644
'No tests defined for Encode::CN extension.'
C:\"Strawberry\perl\bin\perl.exe" -MExtUtils::Command::MM -e cp_nonempty -- EBCDIC.bs ..\blib\arch\auto\Encode\EBCDIC\EBCDIC.bs 644
'No tests defined for Encode::EBCDIC extension.'
C:\"Strawberry\perl\bin\perl.exe" -MExtUtils::Command::MM -e cp_nonempty -- JP.bs ..\blib\arch\auto\Encode\JP\JP.bs 644
'No tests defined for Encode::JP extension.'
C:\"Strawberry\perl\bin\perl.exe" -MExtUtils::Command::MM -e cp_nonempty -- KR.bs ..\blib\arch\auto\Encode\KR\KR.bs 644
'No tests defined for Encode::KR extension.'
C:\"Strawberry\perl\bin\perl.exe" -MExtUtils::Command::MM -e cp_nonempty -- Symbol.bs ..\blib\arch\auto\Encode\Symbol\Symbol.bs 644
'No tests defined for Encode::Symbol extension.'
C:\"Strawberry\perl\bin\perl.exe" -MExtUtils::Command::MM -e cp_nonempty -- TW.bs ..\blib\arch\auto\Encode\TW\TW.bs 644
'No tests defined for Encode::TW extension.'
C:\"Strawberry\perl\bin\perl.exe" -MExtUtils::Command::MM -e cp_nonempty -- Unicode.bs ..\blib\arch\auto\Encode\Unicode\Unicode.bs 644
'No tests defined for Encode::Unicode extension.'
C:\"Strawberry\perl\bin\perl.exe" "-MExtUtils::Command::MM" "-MTest::Harness" "-e" "undef *Test::Harness::Switches; test_harness(0, 'blib\lib', 'blib\arch')" t/*.t
t/Aliases.t ................ ok
t/at-cn.t .................. ok
t/at-tw.t .................. ok
t/CJKT.t ................... ok
t/cow.t .................... ok
t/decode.t ................. ok
t/enc_data.t ............... ok
t/enc_eucjp.t .............. ok
t/enc_module.t ............. ok
t/enc_utf8.t ............... ok
t/Encode.t ................. ok
t/Encoder.t ................ ok
t/encoding-locale.t ........ ok
t/encoding.t ............... ok
t/fallback.t ............... ok
t/from_to.t ................ ok
t/grow.t ................... ok
t/gsm0338.t ................ ok
t/guess.t .................. ok
t/isa.t .................... ok
t/jis7-fallback.t .......... ok
t/jperl.t .................. ok
t/magic.t .................. ok
t/mime-header.t ............ ok
t/mime-name.t .............. ok
t/mime_header_iso2022jp.t .. ok
t/perlio.t ................. ok
t/piconv.t ................. ok
t/rt113164.t ............... ok
t/rt65541.t ................ ok
t/rt76824.t ................ ok
t/rt85489.t ................ ok
t/rt86327.t ................ ok
t/taint.t .................. ok
t/truncated_utf8.t ......... ok
t/undef.t .................. ok
t/Unicode.t ................ ok
# temp file: C:\Users\user\AppData\Local\Temp\GIMkJgFY3T
t/Unicode_trailing_nul.t ... ok
t/use-Encode-Alias.t ....... ok
t/utf8ref.t ................ ok
t/utf8strict.t ............. ok
t/utf8warnings.t ........... ok
t/whatwg-aliases.t ......... skipped: For maintainers only
t/xml.t .................... ok
All tests successful.

Test Summary Report
-------------------
t/truncated_utf8.t       (Wstat: 0 Tests: 9 Failed: 0)
  TODO passed:   9
Files=44, Tests=7778, 28 wallclock secs ( 1.62 usr +  0.30 sys =  1.92 CPU)
Result: PASS

------------------------------
PREREQUISITES
------------------------------

Prerequisite modules loaded:

    No requirements found

------------------------------
ENVIRONMENT AND OTHER CONTEXT
------------------------------

Environment variables:

    COMSPEC = C:\windows\system32\cmd.exe
    NUMBER_OF_PROCESSORS = 4
    PATH = C:\home\tennis\perl5\bin;C:\windows\system32;C:\windows;C:\windows\System32\Wbem;C:\windows\System32\WindowsPowerShell\v1.0\;C:\Strawberry\c\bin;C:\Strawberry\perl\site\bin;C:\Strawberry\perl\bin
    PERL5LIB = C:\home\tennis\perl5\lib\perl5
    PERL_LOCAL_LIB_ROOT = C:\home\tennis\perl5
    PERL_MB_OPT = --install_base "C:\\home\\tennis\\perl5"
    PERL_MM_OPT = INSTALL_BASE=C:\\home\\tennis\\perl5
    PROCESSOR_IDENTIFIER = x86 Family 6 Model 37 Stepping 5, GenuineIntel
    TEMP = C:\Users\user\AppData\Local\Temp
    TERM = dumb

Perl special variables (and OS-specific diagnostics, for MSWin32):

    EGID = 0
    EUID = 0
    EXECUTABLE_NAME = C:\Strawberry\perl\bin\perl.exe
    GID = 0
    UID = 0
    Win32::FsType = NTFS
    Win32::GetOSName = Win7
    Win32::GetOSVersion = Service Pack 1, 6, 1, 7601, 2, 1, 0, 256, 1
    Win32::IsAdminUser = 0

Perl module toolchain versions installed:

    Module              Have    
    ------------------- --------
    CPAN                1.9600  
    CPAN::Meta          2.150010
    Cwd                 3.62    
    ExtUtils::CBuilder  0.280224
    ExtUtils::Command   7.63_05 
    ExtUtils::Install   2.14    
    ExtUtils::MakeMaker 7.63_05 
    ExtUtils::Manifest  1.70    
    ExtUtils::ParseXS   3.30    
    File::Spec          3.62    
    JSON                2.94    
    JSON::PP            2.97001 
    Module::Build       0.42_28 
    Module::Signature   0.66    
    Parse::CPAN::Meta   2.150010
    Test::Harness       3.36    
    Test::More          1.302188
    YAML                1.26    
    YAML::Syck          n/a     
    version             0.9924  


--

Summary of my perl5 (revision 5 version 10 subversion 1) configuration:
   
  Platform:
    osname=MSWin32, osvers=5.1, archname=MSWin32-x86-multi-thread
    uname='Win32 strawberryperl 5.10.1.5 #1 Sun May 15 09:44:53 2011 i386'
    config_args='undef'
    hint=recommended, useposix=true, d_sigaction=undef
    useithreads=define, usemultiplicity=define
    useperlio=define, d_sfio=undef, uselargefiles=define, usesocks=undef
    use64bitint=undef, use64bitall=undef, uselongdouble=undef
    usemymalloc=n, bincompat5005=undef
  Compiler:
    cc='gcc', ccflags =' -s -O2 -DWIN32 -DHAVE_DES_FCRYPT  -DUSE_SITECUSTOMIZE -DPERL_IMPLICIT_CONTEXT -DPERL_IMPLICIT_SYS -fno-strict-aliasing -DPERL_MSVCRT_READFIX',
    optimize='-s -O2',
    cppflags='-DWIN32'
    ccversion='', gccversion='3.4.5', gccosandvers=''
    intsize=4, longsize=4, ptrsize=4, doublesize=8, byteorder=1234
    d_longlong=undef, longlongsize=8, d_longdbl=define, longdblsize=12
    ivtype='long', ivsize=4, nvtype='double', nvsize=8, Off_t='long long', lseeksize=8
    alignbytes=8, prototype=define
  Linker and Libraries:
    ld='g++', ldflags ='-s -L"C:\strawberry\perl\lib\CORE" -L"C:\strawberry\c\lib"'
    libpth=C:\strawberry\c\lib
    libs= -lmoldname -lkernel32 -luser32 -lgdi32 -lwinspool -lcomdlg32 -ladvapi32 -lshell32 -lole32 -loleaut32 -lnetapi32 -luuid -lws2_32 -lmpr -lwinmm -lversion -lodbc32 -lodbccp32
    perllibs= -lmoldname -lkernel32 -luser32 -lgdi32 -lwinspool -lcomdlg32 -ladvapi32 -lshell32 -lole32 -loleaut32 -lnetapi32 -luuid -lws2_32 -lmpr -lwinmm -lversion -lodbc32 -lodbccp32
    libc=, so=dll, useshrplib=true, libperl=libperl510.a
    gnulibc_version=''
  Dynamic Linking:
    dlsrc=dl_win32.xs, dlext=dll, d_dlsymun=undef, ccdlflags=' '
    cccdlflags=' ', lddlflags='-mdll -s -L"C:\strawberry\perl\lib\CORE" -L"C:\strawberry\c\lib"'


Characteristics of this binary (from libperl): 
  Compile-time options: MULTIPLICITY PERL_DONT_CREATE_GVSV
                        PERL_IMPLICIT_CONTEXT PERL_IMPLICIT_SYS
                        PERL_MALLOC_WRAP PL_OP_SLAB_ALLOC USE_ITHREADS
                        USE_LARGE_FILES USE_PERLIO USE_SITECUSTOMIZE
  Built under MSWin32
  Compiled at May 15 2011 09:50:23
  %ENV:
    PERL5LIB="C:\home\tennis\perl5\lib\perl5"
    PERL_LOCAL_LIB_ROOT="C:\home\tennis\perl5"
    PERL_MB_OPT="--install_base "C:\\home\\tennis\\perl5""
    PERL_MM_OPT="INSTALL_BASE=C:\\home\\tennis\\perl5"
  @INC:
    C:\home\tennis\perl5\lib\perl5/MSWin32-x86-multi-thread
    C:\home\tennis\perl5\lib\perl5
    C:/Strawberry/perl/lib
    C:/Strawberry/perl/site/lib
    C:\strawberry\perl\vendor\lib
    .