Portable-Dist v1.09 Perl 5 v5.37.2 x86_64-linux
- Status
- Pass
- From
- Nedzad Hrnjica (NHRNJICA)
- Dist
-
Portable-Dist v1.09
- Platform
- Perl 5 v5.37.2 x86_64-linux
- Date
- 2022-08-25 16:28:27
- ID
- f2e6c812-2492-11ed-bcf5-22a630f29030
This distribution has been tested as part of the CPAN Testers
project, supporting the Perl programming language. See
http://wiki.cpantesters.org/ for more information or email
questions to cpan-testers-discuss@perl.org
--
Dear KMX,
This is a computer-generated report for Portable-Dist-1.09
on perl 5.37.2, created by App::cpanminus::reporter 0.17 (1.7046).
Thank you for uploading your work to CPAN. Congratulations!
All tests were successful.
Sections of this report:
* Tester comments
* Program output
* Prerequisites
* Environment and other context
------------------------------
TESTER COMMENTS
------------------------------
Additional comments from tester:
none provided
------------------------------
PROGRAM OUTPUT
------------------------------
Output from '':
Building and testing Portable-Dist-1.09
cp lib/Portable/Dist.pm blib/lib/Portable/Dist.pm
Manifying 1 pod document
PERL_DL_NONLAZY=1 "/home/liveapp/.plenv/versions/5.37.2/bin/perl5.37.2" "-MExtUtils::Command::MM" "-MTest::Harness" "-e" "undef *Test::Harness::Switches; test_harness(0, 'blib/lib', 'blib/arch')" t/*.t
t/01_compile.t .. ok
$UMASK being true is deprecated it will be false by default in the future. This change is being made because this not the behavior of the unix command `chmod`. This warning can be disabled by putting explicitly setting $File::chmod::UMASK to false (0) to act like system chmod, or any non 2 true value see Github issue #5 at t/02_run.t line 40.
$UMASK being true is deprecated it will be false by default in the future. This change is being made because this not the behavior of the unix command `chmod`. This warning can be disabled by putting explicitly setting $File::chmod::UMASK to false (0) to act like system chmod, or any non 2 true value see Github issue #5 at t/02_run.t line 40.
$UMASK being true is deprecated it will be false by default in the future. This change is being made because this not the behavior of the unix command `chmod`. This warning can be disabled by putting explicitly setting $File::chmod::UMASK to false (0) to act like system chmod, or any non 2 true value see Github issue #5 at t/02_run.t line 40.
$UMASK being true is deprecated it will be false by default in the future. This change is being made because this not the behavior of the unix command `chmod`. This warning can be disabled by putting explicitly setting $File::chmod::UMASK to false (0) to act like system chmod, or any non 2 true value see Github issue #5 at t/02_run.t line 40.
$UMASK being true is deprecated it will be false by default in the future. This change is being made because this not the behavior of the unix command `chmod`. This warning can be disabled by putting explicitly setting $File::chmod::UMASK to false (0) to act like system chmod, or any non 2 true value see Github issue #5 at t/02_run.t line 40.
$UMASK being true is deprecated it will be false by default in the future. This change is being made because this not the behavior of the unix command `chmod`. This warning can be disabled by putting explicitly setting $File::chmod::UMASK to false (0) to act like system chmod, or any non 2 true value see Github issue #5 at t/02_run.t line 40.
$UMASK being true is deprecated it will be false by default in the future. This change is being made because this not the behavior of the unix command `chmod`. This warning can be disabled by putting explicitly setting $File::chmod::UMASK to false (0) to act like system chmod, or any non 2 true value see Github issue #5 at t/02_run.t line 40.
$UMASK being true is deprecated it will be false by default in the future. This change is being made because this not the behavior of the unix command `chmod`. This warning can be disabled by putting explicitly setting $File::chmod::UMASK to false (0) to act like system chmod, or any non 2 true value see Github issue #5 at t/02_run.t line 40.
$UMASK being true is deprecated it will be false by default in the future. This change is being made because this not the behavior of the unix command `chmod`. This warning can be disabled by putting explicitly setting $File::chmod::UMASK to false (0) to act like system chmod, or any non 2 true value see Github issue #5 at /home/liveapp/.plenv/versions/5.37.2/lib/perl5/site_perl/5.37.2/File/IgnoreReadonly.pm line 111.
$UMASK being true is deprecated it will be false by default in the future. This change is being made because this not the behavior of the unix command `chmod`. This warning can be disabled by putting explicitly setting $File::chmod::UMASK to false (0) to act like system chmod, or any non 2 true value see Github issue #5 at /home/liveapp/.plenv/versions/5.37.2/lib/perl5/site_perl/5.37.2/File/IgnoreReadonly.pm line 111.
$UMASK being true is deprecated it will be false by default in the future. This change is being made because this not the behavior of the unix command `chmod`. This warning can be disabled by putting explicitly setting $File::chmod::UMASK to false (0) to act like system chmod, or any non 2 true value see Github issue #5 at /home/liveapp/.plenv/versions/5.37.2/lib/perl5/site_perl/5.37.2/File/IgnoreReadonly.pm line 111.
$UMASK being true is deprecated it will be false by default in the future. This change is being made because this not the behavior of the unix command `chmod`. This warning can be disabled by putting explicitly setting $File::chmod::UMASK to false (0) to act like system chmod, or any non 2 true value see Github issue #5 at /home/liveapp/cpantesters.new/5.37.2/.cpanm_temp/work/1661444622.3620236/Portable-Dist-1.09/blib/lib/Portable/Dist.pm line 241.
$UMASK being true is deprecated it will be false by default in the future. This change is being made because this not the behavior of the unix command `chmod`. This warning can be disabled by putting explicitly setting $File::chmod::UMASK to false (0) to act like system chmod, or any non 2 true value see Github issue #5 at /home/liveapp/.plenv/versions/5.37.2/lib/perl5/site_perl/5.37.2/File/IgnoreReadonly.pm line 111.
$UMASK being true is deprecated it will be false by default in the future. This change is being made because this not the behavior of the unix command `chmod`. This warning can be disabled by putting explicitly setting $File::chmod::UMASK to false (0) to act like system chmod, or any non 2 true value see Github issue #5 at /home/liveapp/.plenv/versions/5.37.2/lib/perl5/site_perl/5.37.2/File/IgnoreReadonly.pm line 111.
$UMASK being true is deprecated it will be false by default in the future. This change is being made because this not the behavior of the unix command `chmod`. This warning can be disabled by putting explicitly setting $File::chmod::UMASK to false (0) to act like system chmod, or any non 2 true value see Github issue #5 at /home/liveapp/.plenv/versions/5.37.2/lib/perl5/site_perl/5.37.2/File/IgnoreReadonly.pm line 111.
$UMASK being true is deprecated it will be false by default in the future. This change is being made because this not the behavior of the unix command `chmod`. This warning can be disabled by putting explicitly setting $File::chmod::UMASK to false (0) to act like system chmod, or any non 2 true value see Github issue #5 at /home/liveapp/.plenv/versions/5.37.2/lib/perl5/site_perl/5.37.2/File/IgnoreReadonly.pm line 111.
$UMASK being true is deprecated it will be false by default in the future. This change is being made because this not the behavior of the unix command `chmod`. This warning can be disabled by putting explicitly setting $File::chmod::UMASK to false (0) to act like system chmod, or any non 2 true value see Github issue #5 at /home/liveapp/.plenv/versions/5.37.2/lib/perl5/site_perl/5.37.2/File/IgnoreReadonly.pm line 111.
t/02_run.t ...... ok
t/03_batch.t .... skipped: Tests only runnable on Win32
All tests successful.
Files=3, Tests=44, 1 wallclock secs ( 0.03 usr 0.00 sys + 0.18 cusr 0.04 csys = 0.25 CPU)
Result: PASS
------------------------------
PREREQUISITES
------------------------------
Prerequisite modules loaded:
runtime:
Module Need Have
--------------------- ----- --------
File::chmod 0.32 0.42
File::Copy::Recursive 0.35 0.45
File::Find::Rule 0.30 0.34
File::IgnoreReadonly 0.01 0.01
File::Remove 1.42 1.61
File::Slurper 0.008 0.013
File::Spec 3.47 3.86
Object::Tiny 1.04 1.09
Params::Util 0.31 1.102
perl 5.008 5.037002
Test::More 0.47 1.302191
build:
Module Need Have
--------------------- ----- --------
ExtUtils::MakeMaker 0 7.64
configure:
Module Need Have
--------------------- ----- --------
ExtUtils::MakeMaker 0 7.64
------------------------------
ENVIRONMENT AND OTHER CONTEXT
------------------------------
Environment variables:
LANG = C.UTF-8
PATH = /home/liveapp/.plenv/versions/5.37.2/bin:/home/liveapp/.plenv/libexec:/home/liveapp/.plenv/plugins/perl-build/bin:/home/liveapp/.plenv/shims:/home/liveapp/.plenv/bin:/usr/local/sbin:/usr/local/bin:/usr/sbin:/usr/bin:/sbin:/bin:/usr/games:/usr/local/games:/snap/bin
PERL_CPANM_HOME = /home/liveapp/cpantesters.new/5.37.2/.cpanm_temp
SHELL = /bin/bash
TERM = xterm-256color
Perl special variables (and OS-specific diagnostics, for MSWin32):
EGID = 1001 27 1001
EUID = 1001
EXECUTABLE_NAME = /home/liveapp/.plenv/versions/5.37.2/bin/perl5.37.2
GID = 1001 27 1001
UID = 1001
Perl module toolchain versions installed:
Module Have
------------------- --------
CPAN 2.34
CPAN::Meta 2.150010
Cwd 3.86
ExtUtils::CBuilder 0.280237
ExtUtils::Command 7.64
ExtUtils::Install 2.20
ExtUtils::MakeMaker 7.64
ExtUtils::Manifest 1.73
ExtUtils::ParseXS 3.45
File::Spec 3.86
JSON n/a
JSON::PP 4.10
Module::Build 0.4231
Module::Signature n/a
Parse::CPAN::Meta 2.150010
Test::Harness 3.44
Test::More 1.302191
YAML n/a
YAML::Syck n/a
version 0.9929
--
Summary of my perl5 (revision 5 version 37 subversion 2) configuration:
Platform:
osname=linux
osvers=5.4.0-91-generic
archname=x86_64-linux
uname='linux supremeadmin 5.4.0-91-generic #102-ubuntu smp fri nov 5 16:31:28 utc 2021 x86_64 x86_64 x86_64 gnulinux '
config_args='-Dprefix=/home/liveapp/.plenv/versions/5.37.2 -de -Dversiononly -Dusedevel -A'eval:scriptdir=/home/liveapp/.plenv/versions/5.37.2/bin''
hint=recommended
useposix=true
d_sigaction=define
useithreads=undef
usemultiplicity=undef
use64bitint=define
use64bitall=define
uselongdouble=undef
usemymalloc=n
default_inc_excludes_dot=define
Compiler:
cc='cc'
ccflags ='-fwrapv -fno-strict-aliasing -pipe -fstack-protector-strong -I/usr/local/include -D_LARGEFILE_SOURCE -D_FILE_OFFSET_BITS=64'
optimize='-O2'
cppflags='-fwrapv -fno-strict-aliasing -pipe -fstack-protector-strong -I/usr/local/include'
ccversion=''
gccversion='9.4.0'
gccosandvers=''
intsize=4
longsize=8
ptrsize=8
doublesize=8
byteorder=12345678
doublekind=3
d_longlong=define
longlongsize=8
d_longdbl=define
longdblsize=16
longdblkind=3
ivtype='long'
ivsize=8
nvtype='double'
nvsize=8
Off_t='off_t'
lseeksize=8
alignbytes=8
prototype=define
Linker and Libraries:
ld='cc'
ldflags =' -fstack-protector-strong -L/usr/local/lib'
libpth=/usr/local/lib /usr/lib/x86_64-linux-gnu /usr/lib /lib/x86_64-linux-gnu /lib
libs=-lpthread -lnsl -ldl -lm -lcrypt -lutil -lc
perllibs=-lpthread -lnsl -ldl -lm -lcrypt -lutil -lc
libc=libc-2.31.so
so=so
useshrplib=false
libperl=libperl.a
gnulibc_version='2.31'
Dynamic Linking:
dlsrc=dl_dlopen.xs
dlext=so
d_dlsymun=undef
ccdlflags='-Wl,-E'
cccdlflags='-fPIC'
lddlflags='-shared -O2 -L/usr/local/lib -fstack-protector-strong'
Characteristics of this binary (from libperl):
Compile-time options:
HAS_TIMES
PERLIO_LAYERS
PERL_COPY_ON_WRITE
PERL_DONT_CREATE_GVSV
PERL_MALLOC_WRAP
PERL_OP_PARENT
PERL_PRESERVE_IVUV
PERL_USE_DEVEL
PERL_USE_SAFE_PUTENV
USE_64_BIT_ALL
USE_64_BIT_INT
USE_LARGE_FILES
USE_LOCALE
USE_LOCALE_COLLATE
USE_LOCALE_CTYPE
USE_LOCALE_NUMERIC
USE_LOCALE_TIME
USE_PERLIO
USE_PERL_ATOF
Built under linux
Compiled at Aug 6 2022 07:20:28
%ENV:
PERL_CPANM_HOME="/home/liveapp/cpantesters.new/5.37.2/.cpanm_temp"
@INC:
/home/liveapp/.plenv/versions/5.37.2/lib/perl5/site_perl/5.37.2/x86_64-linux
/home/liveapp/.plenv/versions/5.37.2/lib/perl5/site_perl/5.37.2
/home/liveapp/.plenv/versions/5.37.2/lib/perl5/5.37.2/x86_64-linux
/home/liveapp/.plenv/versions/5.37.2/lib/perl5/5.37.2