CHI v0.61 Perl 5 v5.26.2 darwin-thread-multi-2level
- Status
- Pass
- From
- David Cantrell (DCANTRELL)
- Dist
-
CHI v0.61
- Platform
- Perl 5 v5.26.2 darwin-thread-multi-2level
- Date
- 2021-10-14 07:32:55
- ID
- f273853e-2cc0-11ec-a59a-d0e7d35f76f9
This distribution has been tested as part of the CPAN Testers
project, supporting the Perl programming language. See
http://wiki.cpantesters.org/ for more information or email
questions to cpan-testers-discuss@perl.org
--
Dear Alexander Becker,
This is a computer-generated report for CHI-0.61
on perl 5.26.2, created by CPAN-Reporter-1.2018.
Thank you for uploading your work to CPAN. Congratulations!
All tests were successful.
Sections of this report:
* Tester comments
* Program output
* Prerequisites
* Environment and other context
------------------------------
TESTER COMMENTS
------------------------------
Additional comments from tester:
this report is from an automated smoke testing program
and was not reviewed by a human for accuracy
------------------------------
PROGRAM OUTPUT
------------------------------
Output from '/usr/bin/make test':
PERL_DL_NONLAZY=1 "/Users/cpantesting/cpantesting/perl-5.26.2/bin/perl" "-MExtUtils::Command::MM" "-MTest::Harness" "-e" "undef *Test::Harness::Switches; test_harness(0, 'blib/lib', 'blib/arch')" t/*.t
# Testing CHI 0.61, Perl 5.026002, /Users/cpantesting/cpantesting/perl-5.26.2/bin/perl
t/00-load.t ............................. ok
t/author-03-pod.t ....................... skipped: these tests are for testing by the author
t/author-file-driver.t .................. skipped: these tests are for testing by the author
t/author-no-data-serializer.t ........... skipped: these tests are for testing by the author
t/author-RequiredModules.t .............. skipped: these tests are for testing by the author
t/Bugs.t ................................ ok
t/Config.t .............................. ok
t/Constants.t ........................... ok
t/Driver-Memory.t ....................... ok
t/Driver-RawMemory.t .................... ok
t/GetError.t ............................ ok
t/Initialize.t .......................... ok
t/release-dependent.t ................... skipped: these tests are for release candidate testing
t/Sanity.t .............................. ok
t/SetError.t ............................ ok
t/smoke-Driver-CacheCache.t ............. ok
t/smoke-Driver-FastMmap.t ............... skipped: one of required modules not installed: Cache::FastMmap
t/smoke-Driver-File-DepthZero.t ......... ok
t/smoke-Driver-File.t ................... ok
t/smoke-Driver-NonMoose.t ............... ok
t/smoke-Driver-Subcache-l1_cache.t ...... ok
t/smoke-Driver-Subcache-mirror_cache.t .. ok
t/smoke-Null.t .......................... ok
t/Subcache.t ............................ ok
t/Subclass.t ............................ ok
t/Util.t ................................ ok
All tests successful.
Files=26, Tests=6054, 18 wallclock secs ( 0.58 usr 0.12 sys + 8.02 cusr 3.97 csys = 12.69 CPU)
Result: PASS
------------------------------
PREREQUISITES
------------------------------
Prerequisite modules loaded:
requires:
Module Need Have
------------------------------- -------- --------
Carp::Assert 0.20 0.21
Class::Load 0 0.25
Data::UUID 0 1.226
Digest::JHash 0 0.10
Digest::MD5 0 2.55
File::Spec 0.80 3.67
Hash::MoreUtils 0 0.06
JSON::MaybeXS 1.003003 1.004003
List::MoreUtils 0.13 0.430
Log::Any 0.08 1.710
Moo 1.003 2.005004
MooX::Types::MooseLike 0.23 0.29
MooX::Types::MooseLike::Base 0 0.29
MooX::Types::MooseLike::Numeric 0 1.03
Storable 0 2.62
String::RewritePrefix 0 0.008
Task::Weaken 0 1.06
Time::Duration 1.06 1.21
Time::Duration::Parse 0.03 0.16
Time::HiRes 1.30 1.9741
Try::Tiny 0.05 0.30
build_requires:
Module Need Have
------------------------------- -------- --------
Cache::FileCache 0 0
Date::Parse 0 2.33
ExtUtils::MakeMaker 0 7.58
Module::Mask 0 0.06
Test::Builder 0 1.302073
Test::Class 0 0.52
Test::Deep 0 1.130
Test::Exception 0 0.43
Test::More 0 1.302073
Test::Warn 0 0.36
configure_requires:
Module Need Have
------------------------------- -------- --------
ExtUtils::MakeMaker 0 7.58
------------------------------
ENVIRONMENT AND OTHER CONTEXT
------------------------------
Environment variables:
AUTOMATED_TESTING = 1
NONINTERACTIVE_TESTING = 1
PATH = /usr/local/bin:/usr/bin:/bin:/usr/sbin:/sbin:/Library/Apple/usr/bin
PERL = 5.26.2
PERL5LIB =
PERL5OPT =
PERL5_CPANPLUS_IS_RUNNING = 91135
PERL5_CPAN_IS_RUNNING = 91135
PERLVER = 5.26.2
PERL_INLINE_DIRECTORY = /Users/cpantesting/.Inline-5.26.2
PERL_MM_USE_DEFAULT = 1
PERL_USE_UNSAFE_INC = 0
SHELL = /bin/bash
TERM = screen
Perl special variables (and OS-specific diagnostics, for MSWin32):
$^X = /Users/cpantesting/cpantesting/perl-5.26.2/bin/perl
$UID/$EUID = 503 / 503
$GID = 20 20 12 61 703 702 701 100
$EGID = 20 20 12 61 703 702 701 100
Perl module toolchain versions installed:
Module Have
------------------- ----------
CPAN 2.18
CPAN::Meta 2.150010
Cwd 3.67
ExtUtils::CBuilder 0.280235
ExtUtils::Command 7.58
ExtUtils::Install 2.06
ExtUtils::MakeMaker 7.58
ExtUtils::Manifest 1.70
ExtUtils::ParseXS 3.34
File::Spec 3.67
JSON 4.03
JSON::PP 2.27400_02
Module::Build 0.4231
Module::Signature n/a
Parse::CPAN::Meta 2.150010
Test::Harness 3.38
Test::More 1.302073
YAML 1.30
YAML::Syck n/a
version 0.9917
--
Summary of my perl5 (revision 5 version 26 subversion 2) configuration:
Platform:
osname=darwin
osvers=19.6.0
archname=darwin-thread-multi-2level
uname='darwin harrow.local 19.6.0 darwin kernel version 19.6.0: thu oct 29 22:56:45 pdt 2020; root:xnu-6153.141.2.2~1release_x86_64 x86_64 '
config_args='-de -Dusethreads -Dprefix=/Users/cpantesting/cpantesting/perl-5.26.2'
hint=recommended
useposix=true
d_sigaction=define
useithreads=define
usemultiplicity=define
use64bitint=define
use64bitall=define
uselongdouble=undef
usemymalloc=n
default_inc_excludes_dot=define
bincompat5005=undef
Compiler:
cc='cc'
ccflags ='-fno-common -DPERL_DARWIN -mmacosx-version-min=10.15 -fno-strict-aliasing -pipe -fstack-protector-strong -I/usr/local/include -DPERL_USE_SAFE_PUTENV'
optimize='-O3'
cppflags='-fno-common -DPERL_DARWIN -mmacosx-version-min=10.15 -fno-strict-aliasing -pipe -fstack-protector-strong -I/usr/local/include'
ccversion=''
gccversion='Apple LLVM 12.0.0 (clang-1200.0.32.27)'
gccosandvers=''
intsize=4
longsize=8
ptrsize=8
doublesize=8
byteorder=12345678
doublekind=3
d_longlong=define
longlongsize=8
d_longdbl=define
longdblsize=16
longdblkind=3
ivtype='long'
ivsize=8
nvtype='double'
nvsize=8
Off_t='off_t'
lseeksize=8
alignbytes=8
prototype=define
Linker and Libraries:
ld='cc'
ldflags =' -mmacosx-version-min=10.15 -fstack-protector-strong -L/usr/local/lib'
libpth=/usr/local/lib /Library/Developer/CommandLineTools/usr/lib/clang/12.0.0/lib /Library/Developer/CommandLineTools/SDKs/MacOSX10.15.sdk/usr/lib /Library/Developer/CommandLineTools/usr/lib /usr/lib
libs=-lpthread -lgdbm -ldbm -ldl -lm -lutil -lc
perllibs=-lpthread -ldl -lm -lutil -lc
libc=
so=dylib
useshrplib=false
libperl=libperl.a
gnulibc_version=''
Dynamic Linking:
dlsrc=dl_dlopen.xs
dlext=bundle
d_dlsymun=undef
ccdlflags=' '
cccdlflags=' '
lddlflags=' -mmacosx-version-min=10.15 -bundle -undefined dynamic_lookup -L/usr/local/lib -fstack-protector-strong'
Characteristics of this binary (from libperl):
Compile-time options:
HAS_TIMES
MULTIPLICITY
PERLIO_LAYERS
PERL_COPY_ON_WRITE
PERL_DONT_CREATE_GVSV
PERL_IMPLICIT_CONTEXT
PERL_MALLOC_WRAP
PERL_OP_PARENT
PERL_PRESERVE_IVUV
PERL_USE_SAFE_PUTENV
USE_64_BIT_ALL
USE_64_BIT_INT
USE_ITHREADS
USE_LARGE_FILES
USE_LOCALE
USE_LOCALE_COLLATE
USE_LOCALE_CTYPE
USE_LOCALE_NUMERIC
USE_LOCALE_TIME
USE_PERLIO
USE_PERL_ATOF
USE_REENTRANT_API
Built under darwin
Compiled at Dec 29 2020 22:52:38
%ENV:
PERL="5.26.2"
PERL5LIB=""
PERL5OPT=""
PERL5_CPANPLUS_IS_RUNNING="91135"
PERL5_CPAN_IS_RUNNING="91135"
PERLVER="5.26.2"
PERL_INLINE_DIRECTORY="/Users/cpantesting/.Inline-5.26.2"
PERL_MM_USE_DEFAULT="1"
PERL_USE_UNSAFE_INC="0"
@INC:
/Users/cpantesting/cpantesting/perl-5.26.2/lib/site_perl/5.26.2/darwin-thread-multi-2level
/Users/cpantesting/cpantesting/perl-5.26.2/lib/site_perl/5.26.2
/Users/cpantesting/cpantesting/perl-5.26.2/lib/5.26.2/darwin-thread-multi-2level
/Users/cpantesting/cpantesting/perl-5.26.2/lib/5.26.2