FFI-Platypus v2.10 Perl 5 v5.40.2 x86_64-cygwin-threads-multi
- Status
- Pass
- From
- Peter John Acklam (PJACKLAM)
- Dist
-
FFI-Platypus v2.10
- Platform
- Perl 5 v5.40.2 x86_64-cygwin-threads-multi
- Date
- 2025-04-21 02:12:29
- ID
- f1c11537-6c68-1014-8707-977c8c7af643
This distribution has been tested as part of the CPAN Testers
project, supporting the Perl programming language. See
http://wiki.cpantesters.org/ for more information or email
questions to cpan-testers-discuss@perl.org
--
Dear Graham Ollis,
This is a computer-generated report for FFI-Platypus-2.10
on perl 5.40.2, created by CPAN-Reporter-1.2020.
Thank you for uploading your work to CPAN. Congratulations!
All tests were successful.
Sections of this report:
* Tester comments
* Program output
* Prerequisites
* Environment and other context
------------------------------
TESTER COMMENTS
------------------------------
Additional comments from tester:
none provided
------------------------------
PROGRAM OUTPUT
------------------------------
Output from '/usr/bin/make test':
"/usr/bin/perl.exe" -MExtUtils::Command::MM -e 'cp_nonempty' -- lib/FFI/Platypus.bs blib/arch/auto/FFI/Platypus/Platypus.bs 644
CC t/ffi/align.c
CC t/ffi/align_array.c
CC t/ffi/align_fixed.c
CC t/ffi/align_string.c
CC t/ffi/basic.c
CC t/ffi/closure.c
CC t/ffi/color.c
CC t/ffi/complex_double.c
CC t/ffi/complex_float.c
CC t/ffi/double.c
CC t/ffi/float.c
CC t/ffi/gh117.c
CC t/ffi/gh174.c
CC t/ffi/longdouble.c
CC t/ffi/memcmp4.c
CC t/ffi/meta.c
CC t/ffi/pointer.c
CC t/ffi/record.c
CC t/ffi/sint16.c
CC t/ffi/sint32.c
CC t/ffi/sint64.c
CC t/ffi/sint8.c
CC t/ffi/string.c
CC t/ffi/string_array.c
CC t/ffi/uint16.c
CC t/ffi/uint32.c
CC t/ffi/uint64.c
CC t/ffi/uint8.c
CC t/ffi/variadic.c
LD t/ffi/cygtest.dll
PERL_DL_NONLAZY=1 "/usr/bin/perl.exe" "-MExtUtils::Command::MM" "-MTest::Harness" "-e" "undef *Test::Harness::Switches; test_harness(0, 'blib/lib', 'blib/arch')" t/*.t
#
#
#
# HARNESS_ACTIVE=1
# HARNESS_VERSION=3.50
# PERL5LIB=/cygdrive/c/src/perl/.cpan/buildBbpqusSV/FFI-Platypus-2.10-0/blib/lib:/cygdrive/c/src/perl/.cpan/buildBbpqusSV/FFI-Platypus-2.10-0/blib/arch:/usr/local/lib/perl5/site_perl/5.40:/usr/local/lib/perl5/site_perl/5.40/x86_64-cygwin-threads-multi:/usr/local/lib/perl5/site_perl:/usr/local/lib/perl5/vendor_perl/5.40:/usr/local/lib/perl5/vendor_perl/5.40/x86_64-cygwin-threads-multi:/usr/local/lib/perl5/vendor_perl:/usr/local/lib/perl5/5.40:/usr/local/lib/perl5/5.40/x86_64-cygwin-threads-multi:/usr/local/lib/perl5/x86_64-cygwin-threads-multi:/usr/local/lib/perl5:/usr/local/share/perl5/site_perl/5.40:/usr/local/share/perl5/site_perl/5.40/x86_64-cygwin-threads-multi:/usr/local/share/perl5/site_perl:/usr/local/share/perl5/vendor_perl/5.40:/usr/local/share/perl5/vendor_perl/5.40/x86_64-cygwin-threads-multi:/usr/local/share/perl5/vendor_perl:/usr/local/share/perl5/5.40:/usr/local/share/perl5/5.40/x86_64-cygwin-threads-multi:/usr/local/share/perl5:/usr/local/lib/perl5/site_perl/5.40:/usr/local/lib/perl5/site_perl/5.40/x86_64-cygwin-threads-multi:/usr/local/lib/perl5/site_perl:/usr/local/lib/perl5/vendor_perl/5.40:/usr/local/lib/perl5/vendor_perl/5.40/x86_64-cygwin-threads-multi:/usr/local/lib/perl5/vendor_perl:/usr/local/lib/perl5/5.40:/usr/local/lib/perl5/5.40/x86_64-cygwin-threads-multi:/usr/local/lib/perl5:/usr/local/share/perl5/site_perl/5.40:/usr/local/share/perl5/site_perl/5.40/x86_64-cygwin-threads-multi:/usr/local/share/perl5/site_perl:/usr/local/share/perl5/vendor_perl/5.40:/usr/local/share/perl5/vendor_perl/5.40/x86_64-cygwin-threads-multi:/usr/local/share/perl5/vendor_perl:/usr/local/share/perl5/5.40:/usr/local/share/perl5/5.40/x86_64-cygwin-threads-multi:/usr/local/share/perl5
# PERL5OPT=
# PERL5_CPANPLUS_IS_RUNNING=26336
# PERL5_CPAN_IS_RUNNING=26336
# PERL_CANARY_STABILITY_NOPROMPT=1
# PERL_CPAN_REPORTER_CONFIG=/cygdrive/c/home/peter/.cpanreporter/config-cygwin-AR-A01-L0042.ini
# PERL_DL_NONLAZY=1
# PERL_USE_UNSAFE_INC=
# SHELL=/bin/bash
#
#
#
# PERL5LIB path
# /cygdrive/c/src/perl/.cpan/buildBbpqusSV/FFI-Platypus-2.10-0/blib/lib
# /cygdrive/c/src/perl/.cpan/buildBbpqusSV/FFI-Platypus-2.10-0/blib/arch
# /usr/local/lib/perl5/site_perl/5.40
# /usr/local/lib/perl5/site_perl/5.40/x86_64-cygwin-threads-multi
# /usr/local/lib/perl5/site_perl
# /usr/local/lib/perl5/vendor_perl/5.40
# /usr/local/lib/perl5/vendor_perl/5.40/x86_64-cygwin-threads-multi
# /usr/local/lib/perl5/vendor_perl
# /usr/local/lib/perl5/5.40
# /usr/local/lib/perl5/5.40/x86_64-cygwin-threads-multi
# /usr/local/lib/perl5/x86_64-cygwin-threads-multi
# /usr/local/lib/perl5
# /usr/local/share/perl5/site_perl/5.40
# /usr/local/share/perl5/site_perl/5.40/x86_64-cygwin-threads-multi
# /usr/local/share/perl5/site_perl
# /usr/local/share/perl5/vendor_perl/5.40
# /usr/local/share/perl5/vendor_perl/5.40/x86_64-cygwin-threads-multi
# /usr/local/share/perl5/vendor_perl
# /usr/local/share/perl5/5.40
# /usr/local/share/perl5/5.40/x86_64-cygwin-threads-multi
# /usr/local/share/perl5
# /usr/local/lib/perl5/site_perl/5.40
# /usr/local/lib/perl5/site_perl/5.40/x86_64-cygwin-threads-multi
# /usr/local/lib/perl5/site_perl
# /usr/local/lib/perl5/vendor_perl/5.40
# /usr/local/lib/perl5/vendor_perl/5.40/x86_64-cygwin-threads-multi
# /usr/local/lib/perl5/vendor_perl
# /usr/local/lib/perl5/5.40
# /usr/local/lib/perl5/5.40/x86_64-cygwin-threads-multi
# /usr/local/lib/perl5
# /usr/local/share/perl5/site_perl/5.40
# /usr/local/share/perl5/site_perl/5.40/x86_64-cygwin-threads-multi
# /usr/local/share/perl5/site_perl
# /usr/local/share/perl5/vendor_perl/5.40
# /usr/local/share/perl5/vendor_perl/5.40/x86_64-cygwin-threads-multi
# /usr/local/share/perl5/vendor_perl
# /usr/local/share/perl5/5.40
# /usr/local/share/perl5/5.40/x86_64-cygwin-threads-multi
# /usr/local/share/perl5
#
#
#
# perl 5.040002 cygwin x86_64-cygwin-threads-multi
# Alien::Base 2.84
# Alien::FFI -
# Capture::Tiny 0.50
# Devel::Hide 0.0015
# ExtUtils::CBuilder 0.280240
# ExtUtils::MakeMaker 7.74
# ExtUtils::ParseXS 3.51
# FFI::CheckLib 0.31
# File::Spec::Functions 3.91
# IPC::Cmd 1.04
# JSON::PP 4.16
# List::Util 1.69
# Math::LongDouble -
# PkgConfig 0.25026
# Test2::API 1.302209
# Test2::V0 1.302209
# autodie 2.37
# constant 1.33
# forks -
# parent 0.244
#
#
#
# mode : system
# Alien::FFI::pkgconfig->VERSION =
# Alien::FFI::pkgconfig->install_type = system
# Alien::FFI::pkgconfig->cflags =
# Alien::FFI::pkgconfig->libs = -L/usr/lib/../lib -lffi
# Alien::FFI::pkgconfig->version = 3.4.7
#
#
#
# ffi.platypus.memory.strdup_impl =libc
# ffi.platypus.memory.strndup_impl=libc
#
#
#
# Types:
# complex_double : double complex
# complex_float : float complex
# complex_longdouble : long double complex
# double : double
# float : float
# longdouble : long double
# sint16 : int16_t, short, signed short
# sint32 : blksize_t, int, int32_t, senum, signed int
# sint64 : blkcnt_t, int64_t, intmax_t, intptr_t, long, long long, off_t, ptrdiff_t, signed long, signed long long, ssize_t, time_t
# sint8 : char, int8_t, signed char
# uint16 : nlink_t, uint16_t, unsigned short, ushort, wchar_t
# uint32 : dev_t, enum, gid_t, mode_t, uid_t, uint, uint32_t, unsigned int, wint_t
# uint64 : ino_t, size_t, uint64_t, uintmax_t, uintptr_t, ulong, unsigned long, unsigned long long
# uint8 : bool, uchar, uint8_t, unsigned char
#
#
#
# ABIs:
# default_abi 2
# gnuw64 2
# win64 1
#
#
#
# Probes:
# longdouble 1
# recordvalue 1
# bigendian 0
# alloca 1
# complex 1
# bigendian64 0
# variadic 1
# strnlen 1
# abi 1
#
#
#
# CPU Info:
# model name : 12th Gen Intel(R) Core(TM) i7-12850HX
# flags : fpu vme de pse tsc msr pae mce cx8 apic sep mtrr pge mca cmov pat pse36 clflush acpi mmx fxsr sse sse2 ss ht tm pbe constant_tsc arch_perfmon rep_good nopl xtopology cpuid aperfmperf tsc_known_freq pni pclmuldq monitor est tm2 ssse3 fma cx16 xtpr pdcm pcid sse4_1 sse4_2 x2apic movbe popcnt tsc_deadline_timer aes xsave avx f16c rdrand hypervisor lahf_lm epb fsgsbase bmi1 avx2 smep bmi2 erms invpcid rdseed adx smap clflushopt clwb intel_pt sha_ni xsaveopt xsavec xgetbv1 xsaves user_shstk avx_vnni dtherm ida pln pts hwp hwp_notify hwp_act_window hwp_epp hwp_pkg_req hfi umip waitpkg gfni vaes vpclmulqdq tme rdpid movdiri movdir64b fsrm md_clear serialize arch_lbr ibt flush_l1d arch_capabilities
# address sizes : 39 bits physical, 48 bits virtual
#
#
#
# [PLATFORM]
# osname : cygwin
# cc : gcc
# cxx : g++
# cxxld : g++
# for : gfortran
# ld : g++
# ccflags : -U__STRICT_ANSI__ -D_GNU_SOURCE -ggdb -O2 -pipe -Wall -Werror=format-security -D_FORTIFY_SOURCE=3 -fstack-protector-strong --param=ssp-buffer-size=4 -ffile-prefix-map=/mnt/share/cygpkgs/perl/perl.x86_64/build=/usr/src/debug/perl-5.40.2-1 -ffile-prefix-map=/mnt/share/cygpkgs/perl/perl.x86_64/src/perl-5.40.2=/usr/src/debug/perl-5.40.2-1 -fwrapv -fno-strict-aliasing -O3 -I/cygdrive/c/src/perl/.cpan/buildBbpqusSV/FFI-Platypus-2.10-0/blib/lib/auto/share/dist/FFI-Platypus/include
# ldflags : --shared -Wl,--enable-auto-import -Wl,--export-all-symbols -Wl,--enable-auto-image-base -fstack-protector-strong
# object suffix : .o
# library prefix : cyg
# library suffix : .dll
# cc mm works : -MM
#
#
#
t/00_diag.t .............................. ok
t/ffi_build.t ............................ ok
t/ffi_build_file_base.t .................. ok
t/ffi_build_file_c.t ..................... ok
t/ffi_build_file_cxx.t ................... ok
t/ffi_build_file_library.t ............... ok
t/ffi_build_file_object.t ................ ok
t/ffi_build_mm.t ......................... ok
t/ffi_build_platform.t ................... ok
t/ffi_build_plugin.t ..................... ok
t/ffi_build_plugindata.t ................. ok
t/ffi_platypus.t ......................... ok
t/ffi_platypus_api.t ..................... ok
t/ffi_platypus_buffer.t .................. ok
t/ffi_platypus_bundle.t .................. ok
t/ffi_platypus_closure.t ................. ok
t/ffi_platypus_constant.t ................ ok
t/ffi_platypus_dl.t ...................... ok
t/ffi_platypus_function.t ................ ok
t/ffi_platypus_function_wrapper.t ........ ok
t/ffi_platypus_internal.t ................ ok
t/ffi_platypus_lang.t .................... ok
t/ffi_platypus_lang_asm.t ................ ok
t/ffi_platypus_lang_c.t .................. ok
t/ffi_platypus_lang_win32.t .............. ok
t/ffi_platypus_legacy.t .................. ok
t/ffi_platypus_memory.t .................. ok
t/ffi_platypus_record.t .................. ok
t/ffi_platypus_record_meta.t ............. ok
t/ffi_platypus_record_tiearray.t ......... ok
t/ffi_platypus_shareconfig.t ............. ok
t/ffi_platypus_type.t .................... ok
t/ffi_platypus_type_pointersizebuffer.t .. ok
t/ffi_platypus_type_stringarray.t ........ ok
t/ffi_platypus_type_stringpointer.t ...... ok
t/ffi_platypus_type_widestring.t ......... ok
t/ffi_platypus_typeparser.t .............. ok
t/ffi_platypus_typeparser_version0.t ..... ok
t/ffi_platypus_typeparser_version1.t ..... ok
t/ffi_platypus_typeparser_version2.t ..... ok
t/ffi_probe.t ............................ ok
t/ffi_probe_runner.t ..................... ok
t/ffi_probe_runner_builder.t ............. ok
t/ffi_probe_runner_result.t .............. ok
t/ffi_temp.t ............................. ok
t/forks.t ................................ skipped: Test requires forks
t/gh117.t ................................ ok
t/gh129.t ................................ ok
t/gh323.t ................................ ok
t/memory.t ............................... skipped: tested only in CI
t/threads.t .............................. ok
t/type_complex_double.t .................. ok
t/type_complex_float.t ................... ok
t/type_custom.t .......................... ok
t/type_double.t .......................... ok
t/type_float.t ........................... ok
t/type_longdouble.t ...................... ok
t/type_longdouble__array.t ............... ok
t/type_longdouble__hide.t ................ ok
t/type_longdouble__ptr.t ................. ok
t/type_opaque.t .......................... ok
t/type_record.t .......................... ok
t/type_record_value.t .................... ok
t/type_sint16.t .......................... ok
t/type_sint32.t .......................... ok
t/type_sint64.t .......................... ok
t/type_sint8.t ........................... ok
t/type_string.t .......................... ok
t/type_uint16.t .......................... ok
t/type_uint32.t .......................... ok
t/type_uint64.t .......................... ok
t/type_uint8.t ........................... ok
All tests successful.
Files=72, Tests=322, 135 wallclock secs ( 0.16 usr 0.09 sys + 4.63 cusr 11.73 csys = 16.62 CPU)
Result: PASS
------------------------------
PREREQUISITES
------------------------------
Prerequisite modules loaded:
requires:
Module Need Have
--------------------- -------- --------
autodie 0 2.37
Capture::Tiny 0 0.50
constant 1.32 1.33
ExtUtils::MakeMaker 7.12 7.74
FFI::CheckLib 0.05 0.31
File::Spec::Functions 0 3.91
IPC::Cmd 0 1.04
JSON::PP 0 4.16
List::Util 1.45 1.69
parent 0 0.244
perl 5.008004 5.040002
build_requires:
Module Need Have
--------------------- -------- --------
Capture::Tiny 0 0.50
ExtUtils::CBuilder 0 0.280240
Test2::API 1.302015 1.302209
Test2::V0 0.000121 1.302209
configure_requires:
Module Need Have
--------------------- -------- --------
Capture::Tiny 0 0.50
ExtUtils::MakeMaker 7.12 7.74
ExtUtils::ParseXS 3.30 3.51
IPC::Cmd 0 1.04
JSON::PP 0 4.16
parent 0 0.244
perl 5.006 5.040002
------------------------------
ENVIRONMENT AND OTHER CONTEXT
------------------------------
Environment variables:
COMSPEC = C:\WINDOWS\system32\cmd.exe
LDFLAGS = -Wl,-rpath,/usr/local/lib -L/usr/local/lib
NUMBER_OF_PROCESSORS = 24
PATH = /usr/bin:/usr/lib/lapack:/usr/bin:/bin:/usr/local/bin
PERL5LIB = /usr/local/lib/perl5/site_perl/5.40:/usr/local/lib/perl5/site_perl/5.40/x86_64-cygwin-threads-multi:/usr/local/lib/perl5/site_perl:/usr/local/lib/perl5/vendor_perl/5.40:/usr/local/lib/perl5/vendor_perl/5.40/x86_64-cygwin-threads-multi:/usr/local/lib/perl5/vendor_perl:/usr/local/lib/perl5/5.40:/usr/local/lib/perl5/5.40/x86_64-cygwin-threads-multi:/usr/local/lib/perl5:/usr/local/share/perl5/site_perl/5.40:/usr/local/share/perl5/site_perl/5.40/x86_64-cygwin-threads-multi:/usr/local/share/perl5/site_perl:/usr/local/share/perl5/vendor_perl/5.40:/usr/local/share/perl5/vendor_perl/5.40/x86_64-cygwin-threads-multi:/usr/local/share/perl5/vendor_perl:/usr/local/share/perl5/5.40:/usr/local/share/perl5/5.40/x86_64-cygwin-threads-multi:/usr/local/share/perl5
PERL5OPT =
PERL5_CPANPLUS_IS_RUNNING = 26336
PERL5_CPAN_IS_RUNNING = 26336
PERL_CANARY_STABILITY_NOPROMPT = 1
PERL_CPAN_REPORTER_CONFIG = /cygdrive/c/home/peter/.cpanreporter/config-cygwin-AR-A01-L0042.ini
PERL_USE_UNSAFE_INC =
PROCESSOR_IDENTIFIER = Intel64 Family 6 Model 151 Stepping 2, GenuineIntel
SHELL = /bin/bash
TEMP = /tmp
TERM = xterm
Perl special variables (and OS-specific diagnostics, for MSWin32):
$^X = /usr/bin/perl
$UID/$EUID = 1061331 / 1061331
$GID = 1049089 1049089 578 545 4 66049 11 15 4095 66048 1104222 1150627 1098011 1051245 1113266 1156262 1089123 1139839 1090502 1141767 1081310 1090413 1061909 1058653 1081942 1122108 1125494 1137338 1137546 1088201 1164061 1143577 1151869 1090906 1093944 1122107 1051228 1057394 1141985 1159857 1068783 1154883 1137881 1138202 1056539 1057337 1089132 1100278 1051354 1104220 1059243 1089865 1152821 1087957 1105777 1155862 1150082 1135663 1049649 1152548 1125495 1152552 1139179 1069945 1142012 1059531 1090104 1090492 1155459 1068897 1159778 1157946 1081637 1095782 1075170 1144155 1139332 1146142 1111057 1164502 1159858 1069144 1164501 1154614 1081620 1141978 70145 70148 70149 1136189 1049147 1083352 266241 401408
$EGID = 1049089 1049089 578 545 4 66049 11 15 4095 66048 1104222 1150627 1098011 1051245 1113266 1156262 1089123 1139839 1090502 1141767 1081310 1090413 1061909 1058653 1081942 1122108 1125494 1137338 1137546 1088201 1164061 1143577 1151869 1090906 1093944 1122107 1051228 1057394 1141985 1159857 1068783 1154883 1137881 1138202 1056539 1057337 1089132 1100278 1051354 1104220 1059243 1089865 1152821 1087957 1105777 1155862 1150082 1135663 1049649 1152548 1125495 1152552 1139179 1069945 1142012 1059531 1090104 1090492 1155459 1068897 1159778 1157946 1081637 1095782 1075170 1144155 1139332 1146142 1111057 1164502 1159858 1069144 1164501 1154614 1081620 1141978 70145 70148 70149 1136189 1049147 1083352 266241 401408
Perl module toolchain versions installed:
Module Have
------------------- --------
CPAN 2.38
CPAN::Meta 2.150010
Cwd 3.91
ExtUtils::CBuilder 0.280240
ExtUtils::Command 7.74
ExtUtils::Install 2.22
ExtUtils::MakeMaker 7.74
ExtUtils::Manifest 1.75
ExtUtils::ParseXS 3.51
File::Spec 3.91
JSON 4.10
JSON::PP 4.16
Module::Build 0.4234
Module::Signature 0.89
Parse::CPAN::Meta 2.150010
Test2 1.302209
Test::Harness 3.50
Test::More 1.302209
YAML 1.31
YAML::Syck n/a
version 0.9930
--
Summary of my perl5 (revision 5 version 40 subversion 2) configuration:
Platform:
osname=cygwin
osvers=3.6.1-1.x86_64
archname=x86_64-cygwin-threads-multi
uname='cygwin_nt-10.0-26100 walter 3.6.1-1.x86_64 2025-04-09 11:31 utc x86_64 cygwin '
config_args='-des -Dprefix=/usr -Dmksymlinks -Darchname=x86_64-cygwin-threads -Dlibperl=cygperl5_40.dll -Dcc=gcc -Dld=g++ -Accflags=-ggdb -O2 -pipe -Wall -Werror=format-security -D_FORTIFY_SOURCE=3 -fstack-protector-strong --param=ssp-buffer-size=4 -ffile-prefix-map=/mnt/share/cygpkgs/perl/perl.x86_64/build=/usr/src/debug/perl-5.40.2-1 -ffile-prefix-map=/mnt/share/cygpkgs/perl/perl.x86_64/src/perl-5.40.2=/usr/src/debug/perl-5.40.2-1 -fwrapv'
hint=recommended
useposix=true
d_sigaction=define
useithreads=define
usemultiplicity=define
use64bitint=define
use64bitall=define
uselongdouble=undef
usemymalloc=n
default_inc_excludes_dot=define
Compiler:
cc='gcc'
ccflags ='-U__STRICT_ANSI__ -D_GNU_SOURCE -ggdb -O2 -pipe -Wall -Werror=format-security -D_FORTIFY_SOURCE=3 -fstack-protector-strong --param=ssp-buffer-size=4 -ffile-prefix-map=/mnt/share/cygpkgs/perl/perl.x86_64/build=/usr/src/debug/perl-5.40.2-1 -ffile-prefix-map=/mnt/share/cygpkgs/perl/perl.x86_64/src/perl-5.40.2=/usr/src/debug/perl-5.40.2-1 -fwrapv -fno-strict-aliasing'
optimize='-O3'
cppflags='-U__STRICT_ANSI__ -D_GNU_SOURCE -ggdb -O2 -pipe -Wall -Werror=format-security -D_FORTIFY_SOURCE=3 -fstack-protector-strong --param=ssp-buffer-size=4 -ffile-prefix-map=/mnt/share/cygpkgs/perl/perl.x86_64/build=/usr/src/debug/perl-5.40.2-1 -ffile-prefix-map=/mnt/share/cygpkgs/perl/perl.x86_64/src/perl-5.40.2=/usr/src/debug/perl-5.40.2-1 -fwrapv -fno-strict-aliasing'
ccversion=''
gccversion='12.4.0'
gccosandvers=''
intsize=4
longsize=8
ptrsize=8
doublesize=8
byteorder=12345678
doublekind=3
d_longlong=define
longlongsize=8
d_longdbl=define
longdblsize=16
longdblkind=3
ivtype='long'
ivsize=8
nvtype='double'
nvsize=8
Off_t='off_t'
lseeksize=8
alignbytes=8
prototype=define
Linker and Libraries:
ld='g++'
ldflags =' -Wl,--enable-auto-import -Wl,--export-all-symbols -Wl,--enable-auto-image-base -fstack-protector-strong'
libpth=/usr/lib
libs=-lpthread -lgdbm -ldb -ldl -lcrypt -lgdbm_compat
perllibs=-lpthread -ldl -lcrypt
libc=/usr/lib/libcygwin.a
so=dll
useshrplib=true
libperl=cygperl5_40.dll
gnulibc_version=''
Dynamic Linking:
dlsrc=dl_dlopen.xs
dlext=dll
d_dlsymun=undef
ccdlflags=' '
cccdlflags=' '
lddlflags=' --shared -Wl,--enable-auto-import -Wl,--export-all-symbols -Wl,--enable-auto-image-base -fstack-protector-strong'
Characteristics of this binary (from libperl):
Compile-time options:
HAS_LONG_DOUBLE
HAS_STRTOLD
HAS_TIMES
MULTIPLICITY
PERLIO_LAYERS
PERL_COPY_ON_WRITE
PERL_DONT_CREATE_GVSV
PERL_HASH_FUNC_SIPHASH13
PERL_HASH_USE_SBOX32
PERL_OP_PARENT
PERL_PRESERVE_IVUV
PERL_USE_SAFE_PUTENV
USE_64_BIT_ALL
USE_64_BIT_INT
USE_ITHREADS
USE_LARGE_FILES
USE_LOCALE
USE_LOCALE_COLLATE
USE_LOCALE_CTYPE
USE_LOCALE_NUMERIC
USE_LOCALE_TIME
USE_PERLIO
USE_PERL_ATOF
USE_REENTRANT_API
USE_THREAD_SAFE_LOCALE
Locally applied patches:
Cygwin: README
Cygwin: modify hints
Cygwin: Win32 correct UTF8 handling for tests
Built under cygwin
Compiled at Apr 13 2025 17:22:26
%ENV:
PERL5LIB="/usr/local/lib/perl5/site_perl/5.40:/usr/local/lib/perl5/site_perl/5.40/x86_64-cygwin-threads-multi:/usr/local/lib/perl5/site_perl:/usr/local/lib/perl5/vendor_perl/5.40:/usr/local/lib/perl5/vendor_perl/5.40/x86_64-cygwin-threads-multi:/usr/local/lib/perl5/vendor_perl:/usr/local/lib/perl5/5.40:/usr/local/lib/perl5/5.40/x86_64-cygwin-threads-multi:/usr/local/lib/perl5:/usr/local/share/perl5/site_perl/5.40:/usr/local/share/perl5/site_perl/5.40/x86_64-cygwin-threads-multi:/usr/local/share/perl5/site_perl:/usr/local/share/perl5/vendor_perl/5.40:/usr/local/share/perl5/vendor_perl/5.40/x86_64-cygwin-threads-multi:/usr/local/share/perl5/vendor_perl:/usr/local/share/perl5/5.40:/usr/local/share/perl5/5.40/x86_64-cygwin-threads-multi:/usr/local/share/perl5"
PERL5OPT=""
PERL5_CPANPLUS_IS_RUNNING="26336"
PERL5_CPAN_IS_RUNNING="26336"
PERL_CANARY_STABILITY_NOPROMPT="1"
PERL_CPAN_REPORTER_CONFIG="/cygdrive/c/home/peter/.cpanreporter/config-cygwin-AR-A01-L0042.ini"
PERL_USE_UNSAFE_INC=""
@INC:
/usr/local/lib/perl5/site_perl/5.40
/usr/local/lib/perl5/site_perl/5.40/x86_64-cygwin-threads-multi
/usr/local/lib/perl5/site_perl
/usr/local/lib/perl5/vendor_perl/5.40
/usr/local/lib/perl5/vendor_perl/5.40/x86_64-cygwin-threads-multi
/usr/local/lib/perl5/vendor_perl
/usr/local/lib/perl5/5.40
/usr/local/lib/perl5/5.40/x86_64-cygwin-threads-multi
/usr/local/lib/perl5/x86_64-cygwin-threads-multi
/usr/local/lib/perl5
/usr/local/share/perl5/site_perl/5.40
/usr/local/share/perl5/site_perl/5.40/x86_64-cygwin-threads-multi
/usr/local/share/perl5/site_perl
/usr/local/share/perl5/vendor_perl/5.40
/usr/local/share/perl5/vendor_perl/5.40/x86_64-cygwin-threads-multi
/usr/local/share/perl5/vendor_perl
/usr/local/share/perl5/5.40
/usr/local/share/perl5/5.40/x86_64-cygwin-threads-multi
/usr/local/share/perl5
/usr/local/lib/perl5/site_perl/5.40/x86_64-cygwin-threads
/usr/local/share/perl5/site_perl/5.40
/usr/lib/perl5/vendor_perl/5.40/x86_64-cygwin-threads
/usr/share/perl5/vendor_perl/5.40
/usr/lib/perl5/5.40/x86_64-cygwin-threads
/usr/share/perl5/5.40