Encode v3.17 Perl 5 v5.34.0 x86_64-linux-thread-multi
- Status
- Pass
- From
- Nick Alcock
- Dist
-
Encode v3.17
- Platform
- Perl 5 v5.34.0 x86_64-linux-thread-multi
- Date
- 2022-05-07 11:57:58
- ID
- efdeac26-cdfc-11ec-a982-c2038d021008
This distribution has been tested as part of the CPAN Testers
project, supporting the Perl programming language. See
http://wiki.cpantesters.org/ for more information or email
questions to cpan-testers-discuss@perl.org
--
Dear Dan Kogai,
This is a computer-generated report for Encode-3.17
on perl 5.34.0, created by CPAN-Reporter-1.2018.
Thank you for uploading your work to CPAN. Congratulations!
All tests were successful.
Sections of this report:
* Tester comments
* Program output
* Prerequisites
* Environment and other context
------------------------------
TESTER COMMENTS
------------------------------
Additional comments from tester:
none provided
------------------------------
PROGRAM OUTPUT
------------------------------
Output from '/usr/bin/make test':
"/pkg/perl/5.34.0-8/usr/bin/perl" -MExtUtils::Command::MM -e 'cp_nonempty' -- Encode.bs blib/arch/auto/Encode/Encode.bs 644
make[1]: Entering directory '/tmp/cpan-build/Encode-3.17-0/Byte'
"/pkg/perl/5.34.0-8/usr/bin/perl" -MExtUtils::Command::MM -e 'cp_nonempty' -- Byte.bs ../blib/arch/auto/Encode/Byte/Byte.bs 644
make[1]: Leaving directory '/tmp/cpan-build/Encode-3.17-0/Byte'
make[1]: Entering directory '/tmp/cpan-build/Encode-3.17-0/CN'
"/pkg/perl/5.34.0-8/usr/bin/perl" -MExtUtils::Command::MM -e 'cp_nonempty' -- CN.bs ../blib/arch/auto/Encode/CN/CN.bs 644
make[1]: Leaving directory '/tmp/cpan-build/Encode-3.17-0/CN'
make[1]: Entering directory '/tmp/cpan-build/Encode-3.17-0/EBCDIC'
"/pkg/perl/5.34.0-8/usr/bin/perl" -MExtUtils::Command::MM -e 'cp_nonempty' -- EBCDIC.bs ../blib/arch/auto/Encode/EBCDIC/EBCDIC.bs 644
make[1]: Leaving directory '/tmp/cpan-build/Encode-3.17-0/EBCDIC'
make[1]: Entering directory '/tmp/cpan-build/Encode-3.17-0/JP'
"/pkg/perl/5.34.0-8/usr/bin/perl" -MExtUtils::Command::MM -e 'cp_nonempty' -- JP.bs ../blib/arch/auto/Encode/JP/JP.bs 644
make[1]: Leaving directory '/tmp/cpan-build/Encode-3.17-0/JP'
make[1]: Entering directory '/tmp/cpan-build/Encode-3.17-0/KR'
"/pkg/perl/5.34.0-8/usr/bin/perl" -MExtUtils::Command::MM -e 'cp_nonempty' -- KR.bs ../blib/arch/auto/Encode/KR/KR.bs 644
make[1]: Leaving directory '/tmp/cpan-build/Encode-3.17-0/KR'
make[1]: Entering directory '/tmp/cpan-build/Encode-3.17-0/Symbol'
"/pkg/perl/5.34.0-8/usr/bin/perl" -MExtUtils::Command::MM -e 'cp_nonempty' -- Symbol.bs ../blib/arch/auto/Encode/Symbol/Symbol.bs 644
make[1]: Leaving directory '/tmp/cpan-build/Encode-3.17-0/Symbol'
make[1]: Entering directory '/tmp/cpan-build/Encode-3.17-0/TW'
"/pkg/perl/5.34.0-8/usr/bin/perl" -MExtUtils::Command::MM -e 'cp_nonempty' -- TW.bs ../blib/arch/auto/Encode/TW/TW.bs 644
make[1]: Leaving directory '/tmp/cpan-build/Encode-3.17-0/TW'
make[1]: Entering directory '/tmp/cpan-build/Encode-3.17-0/Unicode'
"/pkg/perl/5.34.0-8/usr/bin/perl" -MExtUtils::Command::MM -e 'cp_nonempty' -- Unicode.bs ../blib/arch/auto/Encode/Unicode/Unicode.bs 644
make[1]: Leaving directory '/tmp/cpan-build/Encode-3.17-0/Unicode'
make[1]: Entering directory '/tmp/cpan-build/Encode-3.17-0/Byte'
"/pkg/perl/5.34.0-8/usr/bin/perl" -MExtUtils::Command::MM -e 'cp_nonempty' -- Byte.bs ../blib/arch/auto/Encode/Byte/Byte.bs 644
No tests defined for Encode::Byte extension.
make[1]: Leaving directory '/tmp/cpan-build/Encode-3.17-0/Byte'
make[1]: Entering directory '/tmp/cpan-build/Encode-3.17-0/CN'
"/pkg/perl/5.34.0-8/usr/bin/perl" -MExtUtils::Command::MM -e 'cp_nonempty' -- CN.bs ../blib/arch/auto/Encode/CN/CN.bs 644
No tests defined for Encode::CN extension.
make[1]: Leaving directory '/tmp/cpan-build/Encode-3.17-0/CN'
make[1]: Entering directory '/tmp/cpan-build/Encode-3.17-0/EBCDIC'
"/pkg/perl/5.34.0-8/usr/bin/perl" -MExtUtils::Command::MM -e 'cp_nonempty' -- EBCDIC.bs ../blib/arch/auto/Encode/EBCDIC/EBCDIC.bs 644
No tests defined for Encode::EBCDIC extension.
make[1]: Leaving directory '/tmp/cpan-build/Encode-3.17-0/EBCDIC'
make[1]: Entering directory '/tmp/cpan-build/Encode-3.17-0/JP'
"/pkg/perl/5.34.0-8/usr/bin/perl" -MExtUtils::Command::MM -e 'cp_nonempty' -- JP.bs ../blib/arch/auto/Encode/JP/JP.bs 644
No tests defined for Encode::JP extension.
make[1]: Leaving directory '/tmp/cpan-build/Encode-3.17-0/JP'
make[1]: Entering directory '/tmp/cpan-build/Encode-3.17-0/KR'
"/pkg/perl/5.34.0-8/usr/bin/perl" -MExtUtils::Command::MM -e 'cp_nonempty' -- KR.bs ../blib/arch/auto/Encode/KR/KR.bs 644
No tests defined for Encode::KR extension.
make[1]: Leaving directory '/tmp/cpan-build/Encode-3.17-0/KR'
make[1]: Entering directory '/tmp/cpan-build/Encode-3.17-0/Symbol'
"/pkg/perl/5.34.0-8/usr/bin/perl" -MExtUtils::Command::MM -e 'cp_nonempty' -- Symbol.bs ../blib/arch/auto/Encode/Symbol/Symbol.bs 644
No tests defined for Encode::Symbol extension.
make[1]: Leaving directory '/tmp/cpan-build/Encode-3.17-0/Symbol'
make[1]: Entering directory '/tmp/cpan-build/Encode-3.17-0/TW'
"/pkg/perl/5.34.0-8/usr/bin/perl" -MExtUtils::Command::MM -e 'cp_nonempty' -- TW.bs ../blib/arch/auto/Encode/TW/TW.bs 644
No tests defined for Encode::TW extension.
make[1]: Leaving directory '/tmp/cpan-build/Encode-3.17-0/TW'
make[1]: Entering directory '/tmp/cpan-build/Encode-3.17-0/Unicode'
"/pkg/perl/5.34.0-8/usr/bin/perl" -MExtUtils::Command::MM -e 'cp_nonempty' -- Unicode.bs ../blib/arch/auto/Encode/Unicode/Unicode.bs 644
No tests defined for Encode::Unicode extension.
make[1]: Leaving directory '/tmp/cpan-build/Encode-3.17-0/Unicode'
PERL_DL_NONLAZY=1 "/pkg/perl/5.34.0-8/usr/bin/perl" "-MExtUtils::Command::MM" "-MTest::Harness" "-e" "undef *Test::Harness::Switches; test_harness(0, 'blib/lib', 'blib/arch')" t/*.t
t/Aliases.t ................ ok
t/at-cn.t .................. ok
t/at-tw.t .................. ok
t/CJKT.t ................... ok
t/cow.t .................... ok
t/decode.t ................. ok
t/enc_data.t ............... skipped: encoding pragma not supported in Perl 5.25 or later
t/enc_eucjp.t .............. skipped: Perl <=5.25.2 or cperl required
t/enc_module.t ............. skipped: encoding pragma not supported in Perl 5.25 or later
t/enc_utf8.t ............... skipped: Perl <=5.25.2 or cperl required
t/Encode.t ................. ok
t/Encoder.t ................ ok
t/encoding-locale.t ........ ok
t/encoding.t ............... skipped: encoding pragma not supported in Perl 5.25 or later
t/fallback.t ............... ok
t/from_to.t ................ ok
t/grow.t ................... ok
t/gsm0338.t ................ ok
t/guess.t .................. ok
t/isa.t .................... ok
t/jis7-fallback.t .......... ok
t/jperl.t .................. skipped: encoding pragma not supported in Perl 5.25 or later
t/magic.t .................. ok
t/mime-header.t ............ ok
t/mime-name.t .............. ok
t/mime_header_iso2022jp.t .. ok
t/perlio.t ................. ok
t/piconv.t ................. ok
t/rt113164.t ............... ok
t/rt65541.t ................ ok
t/rt76824.t ................ ok
t/rt85489.t ................ ok
t/rt86327.t ................ ok
t/taint.t .................. ok
t/truncated_utf8.t ......... ok
t/undef.t .................. ok
t/Unicode.t ................ ok
t/Unicode_trailing_nul.t ... ok
t/use-Encode-Alias.t ....... ok
t/utf32warnings.t .......... ok
t/utf8ref.t ................ ok
t/utf8strict.t ............. ok
t/utf8warnings.t ........... ok
t/whatwg-aliases.t ......... skipped: For maintainers only
t/xml.t .................... ok
All tests successful.
Files=45, Tests=7749, 6 wallclock secs ( 0.76 usr 0.08 sys + 4.93 cusr 0.26 csys = 6.03 CPU)
Result: PASS
------------------------------
PREREQUISITES
------------------------------
Prerequisite modules loaded:
requires:
Module Need Have
------------------- ----- --------
Exporter 5.57 5.76
parent 0.221 0.238
Storable 0 3.25
build_requires:
Module Need Have
------------------- ----- --------
ExtUtils::MakeMaker 0 7.64
Test::More 0.92 1.302188
configure_requires:
Module Need Have
------------------- ----- --------
ExtUtils::MakeMaker 0 7.64
------------------------------
ENVIRONMENT AND OTHER CONTEXT
------------------------------
Environment variables:
LANG = en_GB.UTF-8
LC_COLLATE = C
PATH = /root/bin:/root/bin:/usr/bin:/bin:/usr/sbin:/sbin:/usr/games
PERL5LIB =
PERL5OPT =
PERL5_CPANPLUS_IS_RUNNING = 27592
PERL5_CPAN_IS_RUNNING = 27592
PERL_USE_UNSAFE_INC = 1
SHELL = /bin/bash
TERM = vte
Perl special variables (and OS-specific diagnostics, for MSWin32):
$^X = /pkg/perl/5.34.0-8/usr/bin/perl
$UID/$EUID = 0 / 0
$GID = 0 0 1 2 3 4 6 10 11 16 25 72 73 80 81
$EGID = 0 0 1 2 3 4 6 10 11 16 25 72 73 80 81
Perl module toolchain versions installed:
Module Have
------------------- --------
CPAN 2.34
CPAN::Meta 2.150010
Cwd 3.80
ExtUtils::CBuilder 0.280236
ExtUtils::Command 7.64
ExtUtils::Install 2.20
ExtUtils::MakeMaker 7.64
ExtUtils::Manifest 1.73
ExtUtils::ParseXS 3.44
File::Spec 3.80
JSON 4.05
JSON::PP 4.07
Module::Build 0.4231
Module::Signature 0.88
Parse::CPAN::Meta 2.150010
Test::Harness 3.43
Test::More 1.302188
YAML 1.30
YAML::Syck 1.34
version 0.9929
--
Summary of my perl5 (revision 5 version 34 subversion 0) configuration:
Local Commit: 3e217f6b46485f0c7b1c4551a3cce7a3fa55941b
Ancestor: 79a7b254d85a10b65126ad99bf10e70480569d68
Platform:
osname=linux
osvers=5.11.8-00022-gcba5e72ee391-dirty
archname=x86_64-linux-thread-multi
uname='linux loom 5.11.8-00022-gcba5e72ee391-dirty #3 smp mon apr 5 11:43:13 bst 2021 x86_64 gnulinux '
config_args='-d -e -Duseithreads -D privlib=/usr/lib/perl5/5.34 -D sitelib=/usr/lib/perl5/site_perl/5.34 -D optimize=-gdwarf-4 -feliminate-unused-debug-types -fvar-tracking-assignments -O2 -pipe '
hint=recommended
useposix=true
d_sigaction=define
useithreads=define
usemultiplicity=define
use64bitint=define
use64bitall=define
uselongdouble=undef
usemymalloc=n
default_inc_excludes_dot=define
Compiler:
cc='gcc'
ccflags ='-D_REENTRANT -D_GNU_SOURCE -D_REENTRANT -D_GNU_SOURCE -g -fno-strict-aliasing -D_LARGEFILE_SOURCE -D_FILE_OFFSET_BITS=64 -pipe -fstack-protector-strong -fwrapv -feliminate-unused-debug-types -fvar-tracking-assignments -fstack-clash-protection -D_LARGEFILE_SOURCE -D_FILE_OFFSET_BITS=64 -D_FORTIFY_SOURCE=2'
optimize='-gdwarf-4 -feliminate-unused-debug-types -fvar-tracking-assignments -O2 -pipe '
cppflags='-D_REENTRANT -D_GNU_SOURCE -D_REENTRANT -D_GNU_SOURCE -g -fno-strict-aliasing -D_LARGEFILE_SOURCE -D_FILE_OFFSET_BITS=64 -pipe -fstack-protector-strong -fwrapv -feliminate-unused-debug-types -fvar-tracking-assignments -fstack-clash-protection'
ccversion=''
gccversion='10.3.1 20210524'
gccosandvers=''
intsize=4
longsize=8
ptrsize=8
doublesize=8
byteorder=12345678
doublekind=3
d_longlong=define
longlongsize=8
d_longdbl=define
longdblsize=16
longdblkind=3
ivtype='long'
ivsize=8
nvtype='double'
nvsize=8
Off_t='off_t'
lseeksize=8
alignbytes=8
prototype=define
Linker and Libraries:
ld='gcc'
ldflags ='-Wl,--enable-new-dtags -fstack-protector-strong -L/usr/local/lib'
libpth=/usr/lib /lib /usr/local/lib
libs=-lpthread -lgdbm -ldb -ldl -lm -lcrypt -lutil -lc -lgdbm_compat
perllibs=-lpthread -ldl -lm -lcrypt -lutil -lc
libc=libc-2.33.so
so=so
useshrplib=true
libperl=libperl.so
gnulibc_version='2.33'
Dynamic Linking:
dlsrc=dl_dlopen.xs
dlext=so
d_dlsymun=undef
ccdlflags='-Wl,-E -Wl,-rpath,/usr/lib/perl5/5.34/x86_64-linux-thread-multi/CORE'
cccdlflags='-fPIC'
lddlflags='-shared -gdwarf-4 -feliminate-unused-debug-types -fvar-tracking-assignments -O2 -pipe -L/usr/local/lib -fstack-protector-strong'
Characteristics of this binary (from libperl):
Compile-time options:
HAS_TIMES
MULTIPLICITY
PERLIO_LAYERS
PERL_COPY_ON_WRITE
PERL_DONT_CREATE_GVSV
PERL_IMPLICIT_CONTEXT
PERL_MALLOC_WRAP
PERL_OP_PARENT
PERL_PRESERVE_IVUV
USE_64_BIT_ALL
USE_64_BIT_INT
USE_ITHREADS
USE_LARGE_FILES
USE_LOCALE
USE_LOCALE_COLLATE
USE_LOCALE_CTYPE
USE_LOCALE_NUMERIC
USE_LOCALE_TIME
USE_PERLIO
USE_PERL_ATOF
USE_REENTRANT_API
USE_THREAD_SAFE_LOCALE
Locally applied patches:
30578a24b6eb4c57755132dd03b2bed3e370544f
dc54947ad2569c079574552e59cf5d175f657e64
9e01260c07bb9f1b80a9122f5c612fd071e8a2e1
9d93e1247f7afa61e917190a8db939c363b9d1b0
93629346f2c6687f23a962cc7c7dd27a21d05020
1e7606f01ad0c2f783a96f6cf3056dc832dd5596
e9232b19ae3af3a0f8dec739cb68fc20c6aec244
3e217f6b46485f0c7b1c4551a3cce7a3fa55941b
Built under linux
Compiled at May 31 2021 16:09:20
%ENV:
PERL5LIB=""
PERL5OPT=""
PERL5_CPANPLUS_IS_RUNNING="27592"
PERL5_CPAN_IS_RUNNING="27592"
PERL_USE_UNSAFE_INC="1"
@INC:
/usr/lib/perl5/site_perl/5.34/x86_64-linux-thread-multi
/usr/lib/perl5/site_perl/5.34
/usr/lib/perl5/5.34/x86_64-linux-thread-multi
/usr/lib/perl5/5.34
.