Moo v2.005005 Perl 5 v5.20.3 darwin-thread-multi-2level
- Status
- Pass
- From
- Roland van Ipenburg (IPENBURG)
- Dist
-
Moo v2.005005
- Platform
- Perl 5 v5.20.3 darwin-thread-multi-2level
- Date
- 2023-08-18 09:30:55
- ID
- ee3b84d4-3da9-11ee-bcf6-2410cff7296b
This distribution has been tested as part of the CPAN Testers
project, supporting the Perl programming language. See
http://wiki.cpantesters.org/ for more information or email
questions to cpan-testers-discuss@perl.org
--
Dear Graham Knop,
This is a computer-generated report for Moo-2.005005
on perl 5.20.3, created by CPAN-Reporter-1.2019.
Thank you for uploading your work to CPAN. Congratulations!
All tests were successful.
Sections of this report:
* Tester comments
* Program output
* Prerequisites
* Environment and other context
------------------------------
TESTER COMMENTS
------------------------------
Additional comments from tester:
none provided
------------------------------
PROGRAM OUTPUT
------------------------------
Output from '/usr/bin/make test':
PERL_DL_NONLAZY=1 /opt/local/bin/perl5.20 -It/lib "-MTestEnv=" "-MExtUtils::Command::MM" "-MTest::Harness" "-e" "undef *Test::Harness::Switches; test_harness(0, 'blib/lib', 'blib/arch')" t/*.t
t/accessor-coerce.t ................ ok
t/accessor-default.t ............... ok
t/accessor-generator-extension.t ... ok
t/accessor-handles.t ............... ok
t/accessor-isa.t ................... ok
t/accessor-mixed.t ................. ok
t/accessor-pred-clear.t ............ ok
t/accessor-reader-writer.t ......... ok
t/accessor-roles.t ................. ok
t/accessor-shortcuts.t ............. ok
t/accessor-trigger.t ............... ok
t/accessor-weaken-pre-5_8_3.t ...... ok
t/accessor-weaken.t ................ ok
t/buildall-subconstructor.t ........ ok
t/buildall.t ....................... ok
t/buildargs-error.t ................ ok
t/buildargs.t ...................... ok
t/coerce-1.t ....................... ok
t/compose-conflicts.t .............. ok
t/compose-non-role.t ............... ok
t/compose-roles.t .................. ok
t/constructor-modify.t ............. ok
t/croak-locations.t ................ ok
t/demolish-basics.t ................ ok
t/demolish-bugs-eats_exceptions.t .. ok
t/demolish-bugs-eats_mini.t ........ ok
t/demolish-global_destruction.t .... ok
t/demolish-throw.t ................. ok
t/does.t ........................... ok
t/extend-constructor.t ............. ok
t/extends-non-moo.t ................ ok
t/extends-role.t ................... ok
t/foreignbuildargs.t ............... ok
t/global_underscore.t .............. ok
t/has-array.t ...................... ok
t/has-before-extends.t ............. ok
t/has-plus.t ....................... ok
t/init-arg.t ....................... ok
t/isa-interfere.t .................. ok
t/lazy_isa.t ....................... ok
t/load_module.t .................... ok
t/load_module_error.t .............. ok
t/load_module_role_tiny.t .......... ok
t/long-package-name.t .............. ok
t/method-generate-accessor.t ....... ok
t/method-generate-constructor.t .... ok
t/modifiers.t ...................... ok
t/modify_lazy_handlers.t ........... ok
t/moo-accessors.t .................. ok
t/moo-c3.t ......................... ok
t/moo-object.t ..................... ok
t/moo-utils-_name_coderef.t ........ ok
t/moo-utils-_subname-Sub-Name.t .... ok
t/moo-utils-_subname.t ............. ok
t/moo-utils.t ...................... ok
t/moo.t ............................ ok
t/mutual-requires.t ................ ok
t/no-build.t ....................... ok
t/no-moo.t ......................... ok
t/non-moo-extends-c3.t ............. ok
t/non-moo-extends.t ................ ok
t/not-both.t ....................... ok
t/not-methods.t .................... ok
t/overloaded-coderefs.t ............ ok
t/overridden-core-funcs.t .......... ok
t/role-conflicts-moox.t ............ ok
t/sub-and-handles.t ................ ok
t/subconstructor.t ................. ok
t/undef-bug.t ...................... ok
t/use-after-no.t ................... ok
t/zzz-check-breaks.t ............... ok
All tests successful.
Files=71, Tests=841, 18 wallclock secs ( 0.46 usr 0.32 sys + 13.76 cusr 3.29 csys = 17.83 CPU)
Result: PASS
------------------------------
PREREQUISITES
------------------------------
Prerequisite modules loaded:
requires:
Module Need Have
------------------------ -------- --------
Carp 0 1.3301
Class::Method::Modifiers 1.10 2.15
Exporter 0 5.71
perl 5.006 5.020003
Role::Tiny 2.002003 2.002004
Scalar::Util 1.00 1.63
Sub::Defer 2.006006 2.006008
Sub::Quote 2.006006 2.006008
build_requires:
Module Need Have
------------------------ -------- --------
Test::More 0.94 1.302195
configure_requires:
Module Need Have
------------------------ -------- --------
ExtUtils::MakeMaker 0 6.98
opt_requires:
Module Need Have
------------------------ -------- --------
Class::XSAccessor 1.18 1.19
Sub::Util 0 1.63
opt_build_requires:
Module Need Have
------------------------ -------- --------
CPAN::Meta::Requirements 0 2.143
Parse::CPAN::Meta 1.4200 2.150010
------------------------------
ENVIRONMENT AND OTHER CONTEXT
------------------------------
Environment variables:
NONINTERACTIVE_TESTING = 1
PATH = /Users/roland/perl5/bin:/opt/local/bin:/opt/local/sbin:/bin:/sbin:/usr/bin:/usr/sbin
PERL5LIB = /Users/roland/.cpan/build/MooseX-Types-0.50-I8B7iy/blib/arch:/Users/roland/.cpan/build/MooseX-Types-0.50-I8B7iy/blib/lib:/Users/roland/.cpan/build/Class-Measure-0.10-fvds08/blib/arch:/Users/roland/.cpan/build/Class-Measure-0.10-fvds08/blib/lib:/Users/roland/.cpan/build/Readonly-2.05-TzEM9_/blib/arch:/Users/roland/.cpan/build/Readonly-2.05-TzEM9_/blib/lib:/Users/roland/.cpan/build/Module-Build-Tiny-0.046-l5Drdi/blib/arch:/Users/roland/.cpan/build/Module-Build-Tiny-0.046-l5Drdi/blib/lib:/Users/roland/perl5/lib/perl5
PERL5OPT =
PERL5_CPANPLUS_IS_RUNNING = 20634
PERL5_CPAN_IS_RUNNING = 20634
PERL_LOCAL_LIB_ROOT = /Users/roland/perl5
PERL_MB_OPT = --install_base "/Users/roland/perl5"
PERL_MM_OPT = INSTALL_BASE=/Users/roland/perl5
PERL_MM_USE_DEFAULT = 1
SHELL = /bin/bash
TERM = screen
Perl special variables (and OS-specific diagnostics, for MSWin32):
$^X = /opt/local/bin/perl5.20
$UID/$EUID = 501 / 501
$GID = 501 501 81 79 80
$EGID = 501 501 81 79 80
Perl module toolchain versions installed:
Module Have
------------------- --------
CPAN 2.05
CPAN::Meta 2.150010
Cwd 3.75
ExtUtils::CBuilder 0.280217
ExtUtils::Command 1.18
ExtUtils::Install 1.67
ExtUtils::MakeMaker 6.98
ExtUtils::Manifest 1.63
ExtUtils::ParseXS 3.24
File::Spec 3.75
JSON 4.10
JSON::PP 4.16
Module::Build 0.4234
Module::Signature n/a
Parse::CPAN::Meta 2.150010
Test2 1.302195
Test::Harness 3.30
Test::More 1.302195
YAML n/a
YAML::Syck n/a
version 0.9909
--
Summary of my perl5 (revision 5 version 20 subversion 3) configuration:
Platform:
osname=darwin, osvers=8.11.1, archname=darwin-thread-multi-2level
uname='darwin paterson-wired.fritz.box 8.11.1 darwin kernel version 8.11.1: wed oct 10 18:23:28 pdt 2007; root:xnu-792.25.20~1release_i386 i386 i386 '
config_args='-des -Dprefix=/opt/local -Dscriptdir=/opt/local/bin -Dvendorprefix=/opt/local -Dusemultiplicity=y -Dusethreads -Duseshrplib -Dcc=/usr/bin/cc -Dman1ext=1pm -Dman3ext=3pm -Dinstallstyle=lib/perl5 -Dman1dir=/opt/local/share/man/man1p -Dman3dir=/opt/local/share/man/man3p -Dsitebin=/opt/local/libexec/perl5.20/sitebin -Dsiteman1dir=/opt/local/share/perl5.20/siteman/man1 -Dsiteman3dir=/opt/local/share/perl5.20/siteman/man3 -Dvendorbin=/opt/local/libexec/perl5.20 -Dvendorman1dir=/opt/local/share/perl5.20/man/man1 -Dvendorman3dir=/opt/local/share/perl5.20/man/man3 -Dpager=/usr/bin/less -sR -Dperlpath=/opt/local/bin/perl5.20 -Dstartperl=#!/opt/local/bin/perl5.20 -Acppflags=-I/opt/local/include -Accflags=-pipe -Os -Alddlflags=-L/opt/local/lib -Wl,-headerpad_max_install_names -Aldflags=-L/opt/local/lib -Wl,-headerpad_max_install_names '
hint=recommended, useposix=true, d_sigaction=define
useithreads=define, usemultiplicity=define
use64bitint=undef, use64bitall=undef, uselongdouble=undef
usemymalloc=n, bincompat5005=undef
Compiler:
cc='/usr/bin/cc', ccflags ='-fno-common -DPERL_DARWIN -pipe -Os -fno-strict-aliasing -I/opt/local/include',
optimize='-O3',
cppflags='-I/opt/local/include -fno-common -DPERL_DARWIN -pipe -Os -fno-strict-aliasing -I/opt/local/include'
ccversion='', gccversion='4.2.1 (Apple Inc. build 5666) (dot 3) (MacPorts apple-gcc42 5666.3_16)', gccosandvers=''
intsize=4, longsize=4, ptrsize=4, doublesize=8, byteorder=1234
d_longlong=define, longlongsize=8, d_longdbl=define, longdblsize=16
ivtype='long', ivsize=4, nvtype='double', nvsize=8, Off_t='off_t', lseeksize=8
alignbytes=8, prototype=define
Linker and Libraries:
ld='env MACOSX_DEPLOYMENT_TARGET=10.3 /usr/bin/cc', ldflags =' -L/opt/local/lib -Wl,-headerpad_max_install_names '
libpth=/opt/local/lib /usr/lib
libs=-lpthread -lgdbm -ldbm -ldl -lm -lc
perllibs=-lpthread -ldl -lm -lc
libc=, so=dylib, useshrplib=true, libperl=libperl.dylib
gnulibc_version=''
Dynamic Linking:
dlsrc=dl_dlopen.xs, dlext=bundle, d_dlsymun=undef, ccdlflags=' '
cccdlflags=' ', lddlflags=' -bundle -undefined dynamic_lookup -L/opt/local/lib -Wl,-headerpad_max_install_names '
Characteristics of this binary (from libperl):
Compile-time options: HAS_TIMES MULTIPLICITY PERLIO_LAYERS
PERL_DONT_CREATE_GVSV
PERL_HASH_FUNC_ONE_AT_A_TIME_HARD
PERL_IMPLICIT_CONTEXT PERL_MALLOC_WRAP
PERL_NEW_COPY_ON_WRITE PERL_PRESERVE_IVUV
USE_ITHREADS USE_LARGE_FILES USE_LOCALE
USE_LOCALE_COLLATE USE_LOCALE_CTYPE
USE_LOCALE_NUMERIC USE_PERLIO USE_PERL_ATOF
USE_REENTRANT_API
Built under darwin
Compiled at Jul 25 2023 09:01:40
%ENV:
PERL5LIB="/Users/roland/.cpan/build/MooseX-Types-0.50-I8B7iy/blib/arch:/Users/roland/.cpan/build/MooseX-Types-0.50-I8B7iy/blib/lib:/Users/roland/.cpan/build/Class-Measure-0.10-fvds08/blib/arch:/Users/roland/.cpan/build/Class-Measure-0.10-fvds08/blib/lib:/Users/roland/.cpan/build/Readonly-2.05-TzEM9_/blib/arch:/Users/roland/.cpan/build/Readonly-2.05-TzEM9_/blib/lib:/Users/roland/.cpan/build/Module-Build-Tiny-0.046-l5Drdi/blib/arch:/Users/roland/.cpan/build/Module-Build-Tiny-0.046-l5Drdi/blib/lib:/Users/roland/perl5/lib/perl5"
PERL5OPT=""
PERL5_CPANPLUS_IS_RUNNING="20634"
PERL5_CPAN_IS_RUNNING="20634"
PERL_LOCAL_LIB_ROOT="/Users/roland/perl5"
PERL_MB_OPT="--install_base "/Users/roland/perl5""
PERL_MM_OPT="INSTALL_BASE=/Users/roland/perl5"
PERL_MM_USE_DEFAULT="1"
@INC:
/Users/roland/.cpan/build/MooseX-Types-0.50-I8B7iy/blib/arch
/Users/roland/.cpan/build/MooseX-Types-0.50-I8B7iy/blib/lib
/Users/roland/.cpan/build/Class-Measure-0.10-fvds08/blib/arch
/Users/roland/.cpan/build/Class-Measure-0.10-fvds08/blib/lib
/Users/roland/.cpan/build/Readonly-2.05-TzEM9_/blib/arch
/Users/roland/.cpan/build/Readonly-2.05-TzEM9_/blib/lib
/Users/roland/.cpan/build/Module-Build-Tiny-0.046-l5Drdi/blib/arch
/Users/roland/.cpan/build/Module-Build-Tiny-0.046-l5Drdi/blib/lib
/Users/roland/perl5/lib/perl5/darwin-thread-multi-2level
/Users/roland/perl5/lib/perl5
/opt/local/lib/perl5/site_perl/5.20/darwin-thread-multi-2level
/opt/local/lib/perl5/site_perl/5.20
/opt/local/lib/perl5/vendor_perl/5.20/darwin-thread-multi-2level
/opt/local/lib/perl5/vendor_perl/5.20
/opt/local/lib/perl5/5.20/darwin-thread-multi-2level
/opt/local/lib/perl5/5.20
.