Catmandu-MediaHaven v0.08 Perl 5 v5.22.4 amd64-freebsd

Status
Pass
From
Slaven Rezić (SREZIC)
Dist
Catmandu-MediaHaven v0.08
Platform
Perl 5 v5.22.4 amd64-freebsd
Date
2017-12-06 00:53:52
ID
edd9aab4-da1f-11e7-89ae-daf639dfa8ba
This distribution has been tested as part of the CPAN Testers
project, supporting the Perl programming language.  See
http://wiki.cpantesters.org/ for more information or email
questions to cpan-testers-discuss@perl.org


--
Dear Patrick Hochstenbach,

This is a computer-generated report for Catmandu-MediaHaven-0.08
on perl 5.22.4, created by CPAN-Reporter-1.2018.

Thank you for uploading your work to CPAN.  Congratulations!
All tests were successful.

Sections of this report:

    * Tester comments
    * Program output
    * Prerequisites
    * Environment and other context

------------------------------
TESTER COMMENTS
------------------------------

Additional comments from tester:

none provided

------------------------------
PROGRAM OUTPUT
------------------------------

Output from './Build test':

t/Catmandu-Exporter-MediaHaven.t ............. ok
t/Catmandu-Importer-MediaHaven.t ............. ok
t/Catmandu-MediaHaven.t ...................... ok
t/Catmandu-Store-File-MediaHaven-Bag.t ....... ok
t/Catmandu-Store-File-MediaHaven-Index.t ..... ok
t/Catmandu-Store-File-MediaHaven-Searcher.t .. ok
t/Catmandu-Store-File-MediaHaven.t ........... ok
t/author-pod-syntax.t ........................ skipped: these tests are for testing by the author
All tests successful.
Files=8, Tests=714,  3 wallclock secs ( 0.12 usr  0.02 sys +  2.08 cusr  0.54 csys =  2.77 CPU)
Result: PASS

------------------------------
PREREQUISITES
------------------------------

Prerequisite modules loaded:

requires:

    Module              Need     Have    
    ------------------- -------- --------
    Cache::LRU          0        0.04    
    Catmandu            1.06     1.07    
    Date::Parse         0        2.30    
    Getopt::Long        0        2.45    
    HTTP::Request       0        6.13    
    IO                  0        1.35_01 
    IO::Socket::SSL     2.015    2.052   
    JSON                0        2.94    
    Moo                 0        2.003003
    perl                v5.14.0  5.022004
    REST::Client        0        273     

build_requires:

    Module              Need     Have    
    ------------------- -------- --------
    Test::Exception     0.32     0.43    
    Test::More          1.001003 1.302113
    Test::Pod           1.49     1.51    
    Test::Simple        1.001003 1.302113

configure_requires:

    Module              Need     Have    
    ------------------- -------- --------
    Module::Build::Tiny 0.034    0.039   


------------------------------
ENVIRONMENT AND OTHER CONTEXT
------------------------------

Environment variables:

    PATH = /usr/local/bin:/usr/bin:/bin:/usr/local/sbin:/usr/sbin:/sbin:/home/cpansand/bin/freebsd12.0:/home/cpansand/bin/sh:/home/cpansand/bin:/usr/games:/home/cpansand/devel:/home/eserte/src/srezic-misc/scripts
    PERL5LIB = /home/cpansand/.cpan/build/2017112818/REST-Client-273-YgWm4p/blib/arch:/home/cpansand/.cpan/build/2017112818/REST-Client-273-YgWm4p/blib/lib:/home/cpansand/.cpan/build/2017112818/CryptX-0.055-VIrC4P/blib/arch:/home/cpansand/.cpan/build/2017112818/CryptX-0.055-VIrC4P/blib/lib:/home/cpansand/.cpan/build/2017112818/Test-HTTP-LocalServer-0.60-QFkV8F/blib/arch:/home/cpansand/.cpan/build/2017112818/Test-HTTP-LocalServer-0.60-QFkV8F/blib/lib
    PERL5OPT = 
    PERL5_CPANPLUS_IS_RUNNING = 98048
    PERL5_CPAN_IS_RUNNING = 98048
    PERL5_CPAN_IS_RUNNING_IN_RECURSION = 98013,98048
    PERLDOC = -MPod::Perldoc::ToTextOverstrike
    PERL_BATCH = yes
    PERL_CANARY_STABILITY_NOPROMPT = 1
    PERL_CPAN_REPORTER_CONFIG = /var/tmp/cpansmoker-1023/2017112818/cpanreporter_000_config.ini
    PERL_EXTUTILS_AUTOINSTALL = --defaultdeps
    SHELL = /usr/local/bin/zsh
    TERM = screen
    TMPDIR = /var/tmp/cpansmoker-1023/2017112818

Perl special variables (and OS-specific diagnostics, for MSWin32):

    $^X = /usr/perl5.22.4p/bin/perl
    $UID/$EUID = 1023 / 1023
    $GID = 1023 1023
    $EGID = 1023 1023

Perl module toolchain versions installed:

    Module              Have    
    ------------------- --------
    CPAN                2.11_01 
    CPAN::Meta          2.150010
    Cwd                 3.56_02 
    ExtUtils::CBuilder  0.280230
    ExtUtils::Command   7.30    
    ExtUtils::Install   2.06    
    ExtUtils::MakeMaker 7.30    
    ExtUtils::Manifest  1.70    
    ExtUtils::ParseXS   3.35    
    File::Spec          3.56_02 
    JSON                2.94    
    JSON::PP            2.94    
    Module::Build       0.4224  
    Module::Signature   0.81    
    Parse::CPAN::Meta   2.150010
    Test::Harness       3.35_01 
    Test::More          1.302113
    YAML                1.24    
    YAML::Syck          1.30    
    version             0.9909  


--

Summary of my perl5 (revision 5 version 22 subversion 4) configuration:
   
  Platform:
    osname=freebsd, osvers=12.0-current, archname=amd64-freebsd
    uname='freebsd ali1.bbbike.org 12.0-current freebsd 12.0-current #0 bd8385a990e(master)-dirty: fri nov 17 03:13:11 utc 2017 root@ali1.bbbike.org:usrobjhomeprojectsfreebsdamd64.amd64sysgeneric-nodebug amd64 '
    config_args='-ds -e -Dprefix=/usr/perl5.22.4p -Dcf_email=srezic@cpan.org -Doptimize=-O2 -pipe'
    hint=recommended, useposix=true, d_sigaction=define
    useithreads=undef, usemultiplicity=undef
    use64bitint=define, use64bitall=define, uselongdouble=undef
    usemymalloc=n, bincompat5005=undef
  Compiler:
    cc='cc', ccflags ='-DHAS_FPSETMASK -DHAS_FLOATINGPOINT_H -fno-strict-aliasing -pipe -fstack-protector-strong -I/usr/local/include -D_FORTIFY_SOURCE=2',
    optimize='-O2 -pipe',
    cppflags='-DHAS_FPSETMASK -DHAS_FLOATINGPOINT_H -fno-strict-aliasing -pipe -fstack-protector-strong -I/usr/local/include'
    ccversion='', gccversion='4.2.1 Compatible FreeBSD Clang 5.0.0 (tags/RELEASE_500/final 312559)', gccosandvers=''
    intsize=4, longsize=8, ptrsize=8, doublesize=8, byteorder=12345678, doublekind=3
    d_longlong=define, longlongsize=8, d_longdbl=define, longdblsize=16, longdblkind=3
    ivtype='long', ivsize=8, nvtype='double', nvsize=8, Off_t='off_t', lseeksize=8
    alignbytes=8, prototype=define
  Linker and Libraries:
    ld='cc', ldflags ='-pthread -Wl,-E  -fstack-protector-strong -L/usr/local/lib'
    libpth=/usr/lib /usr/local/lib /usr/lib/clang/5.0.0/lib /usr/lib
    libs=-lpthread -lgdbm -lm -lcrypt -lutil -lc
    perllibs=-lpthread -lm -lcrypt -lutil -lc
    libc=, so=so, useshrplib=false, libperl=libperl.a
    gnulibc_version=''
  Dynamic Linking:
    dlsrc=dl_dlopen.xs, dlext=so, d_dlsymun=undef, ccdlflags=' '
    cccdlflags='-DPIC -fPIC', lddlflags='-shared  -L/usr/local/lib -fstack-protector-strong'


Characteristics of this binary (from libperl): 
  Compile-time options: HAS_TIMES PERLIO_LAYERS PERL_DONT_CREATE_GVSV
                        PERL_HASH_FUNC_ONE_AT_A_TIME_HARD PERL_MALLOC_WRAP
                        PERL_NEW_COPY_ON_WRITE PERL_PRESERVE_IVUV
                        USE_64_BIT_ALL USE_64_BIT_INT USE_LARGE_FILES
                        USE_LOCALE USE_LOCALE_COLLATE USE_LOCALE_CTYPE
                        USE_LOCALE_NUMERIC USE_LOCALE_TIME USE_PERLIO
                        USE_PERL_ATOF
  Built under freebsd
  Compiled at Nov 17 2017 05:53:55
  %ENV:
    PERL5LIB="/home/cpansand/.cpan/build/2017112818/REST-Client-273-YgWm4p/blib/arch:/home/cpansand/.cpan/build/2017112818/REST-Client-273-YgWm4p/blib/lib:/home/cpansand/.cpan/build/2017112818/CryptX-0.055-VIrC4P/blib/arch:/home/cpansand/.cpan/build/2017112818/CryptX-0.055-VIrC4P/blib/lib:/home/cpansand/.cpan/build/2017112818/Test-HTTP-LocalServer-0.60-QFkV8F/blib/arch:/home/cpansand/.cpan/build/2017112818/Test-HTTP-LocalServer-0.60-QFkV8F/blib/lib"
    PERL5OPT=""
    PERL5_CPANPLUS_IS_RUNNING="98048"
    PERL5_CPAN_IS_RUNNING="98048"
    PERL5_CPAN_IS_RUNNING_IN_RECURSION="98013,98048"
    PERLDOC="-MPod::Perldoc::ToTextOverstrike"
    PERL_BATCH="yes"
    PERL_CANARY_STABILITY_NOPROMPT="1"
    PERL_CPAN_REPORTER_CONFIG="/var/tmp/cpansmoker-1023/2017112818/cpanreporter_000_config.ini"
    PERL_EXTUTILS_AUTOINSTALL="--defaultdeps"
  @INC:
    /home/cpansand/.cpan/build/2017112818/REST-Client-273-YgWm4p/blib/arch
    /home/cpansand/.cpan/build/2017112818/REST-Client-273-YgWm4p/blib/lib
    /home/cpansand/.cpan/build/2017112818/CryptX-0.055-VIrC4P/blib/arch
    /home/cpansand/.cpan/build/2017112818/CryptX-0.055-VIrC4P/blib/lib
    /home/cpansand/.cpan/build/2017112818/Test-HTTP-LocalServer-0.60-QFkV8F/blib/arch
    /home/cpansand/.cpan/build/2017112818/Test-HTTP-LocalServer-0.60-QFkV8F/blib/lib
    /usr/perl5.22.4p/lib/site_perl/5.22.4/amd64-freebsd
    /usr/perl5.22.4p/lib/site_perl/5.22.4
    /usr/perl5.22.4p/lib/5.22.4/amd64-freebsd
    /usr/perl5.22.4p/lib/5.22.4
    .