PPIx-QuoteLike v0.023 Perl 5 v5.32.0 i86pc-solaris-thread-multi-64
- Status
- Pass
- From
- Dist
-
PPIx-QuoteLike v0.023
- Platform
- Perl 5 v5.32.0 i86pc-solaris-thread-multi-64
- Date
- 2023-06-11 20:17:01
- ID
- eceff276-0894-11ee-9bae-37afc0543ede
This distribution has been tested as part of the CPAN Testers
project, supporting the Perl programming language. See
http://wiki.cpantesters.org/ for more information or email
questions to cpan-testers-discuss@perl.org
--
Dear Tom Wyant,
This is a computer-generated report for PPIx-QuoteLike-0.023
on perl 5.32.0, created by CPAN-Reporter-1.2019.
Thank you for uploading your work to CPAN. Congratulations!
All tests were successful.
Sections of this report:
* Tester comments
* Program output
* Prerequisites
* Environment and other context
------------------------------
TESTER COMMENTS
------------------------------
Additional comments from tester:
none provided
------------------------------
PROGRAM OUTPUT
------------------------------
Output from './Build test':
t/basic.t ............................ ok
t/dump.t ............................. ok
t/locations.t ........................ ok
t/normalize_interpolation_for_ppi.t .. ok
t/parse.t ............................ ok
t/unit-adhoc.t ....................... ok
t/variables.t ........................ ok
t/version.t .......................... ok
All tests successful.
Files=8, Tests=742, 2 wallclock secs ( 0.07 usr 0.04 sys + 1.15 cusr 0.29 csys = 1.55 CPU)
Result: PASS
------------------------------
PREREQUISITES
------------------------------
Prerequisite modules loaded:
requires:
Module Need Have
------------- ----- --------
base 0 2.27
Carp 0 1.50
constant 0 1.33
Encode 0 3.19
Exporter 0 5.74
List::Util 0 1.63
perl 5.006 5.032000
PPI::Document 1.238 1.276
PPI::Dumper 1.238 1.276
re 0 0.40
Readonly 0 2.05
Scalar::Util 0 1.63
strict 0 1.11
warnings 0 1.47
build_requires:
Module Need Have
------------- ----- --------
charnames 0 1.48
Test::More 0.88 1.302195
configure_requires:
Module Need Have
------------- ----- --------
lib 0 0.65
strict 0 1.11
warnings 0 1.47
------------------------------
ENVIRONMENT AND OTHER CONTEXT
------------------------------
Environment variables:
LANG = en_US.UTF-8
LC_ALL =
LC_COLLATE =
LC_CTYPE =
LC_MESSAGES =
NONINTERACTIVE_TESTING = 1
PATH = /usr/bin:/usr/sbin
PERL5LIB =
PERL5OPT =
PERL5_CPANPLUS_IS_RUNNING = 23550
PERL5_CPAN_IS_RUNNING = 23550
PERL_MM_USE_DEFAULT = 1
PERL_USE_UNSAFE_INC = 1
SHELL = /usr/bin/bash
TERM = xterm-256color
Perl special variables (and OS-specific diagnostics, for MSWin32):
$^X = /usr/perl5/5.32/bin/perl
$UID/$EUID = 0 / 0
$GID = 0 0 1 2 3 4 6 7 8 12
$EGID = 0 0 1 2 3 4 6 7 8 12
Perl module toolchain versions installed:
Module Have
------------------- --------
CPAN 2.27
CPAN::Meta 2.150010
Cwd 3.78
ExtUtils::CBuilder 0.280234
ExtUtils::Command 7.44
ExtUtils::Install 2.14
ExtUtils::MakeMaker 7.44
ExtUtils::Manifest 1.72
ExtUtils::ParseXS 3.40
File::Spec 3.78
JSON n/a
JSON::PP 4.04
Module::Build 0.4234
Module::Signature n/a
Parse::CPAN::Meta 2.150010
Test2 1.302195
Test::Harness 3.42
Test::More 1.302195
YAML n/a
YAML::Syck n/a
version 0.9924
--
Summary of my perl5 (revision 5 version 32 subversion 0) configuration:
Platform:
osname=solaris
osvers=2.11
archname=i86pc-solaris-thread-multi-64
uname='sunos localhost 5.11 i86pc i386 i86pc'
config_args='-de -Dmksymlinks -Ulocincpth= -Dbin=/usr/perl5/5.32/bin -Dcc=gcc -Dcf_by=perl-bugs -Dcf_email=first.last@example.invalid -Dlibperl=libperl.so -Dmyhostname=localhost -Dmydomain=foobar.example.org -Dperl_static_inline=static -Dprefix=/usr/perl5/5.32 -Dprivlib=/usr/perl5/5.32/lib -Dsitelib=/usr/perl5/site_perl/5.32 -Dsiteprefix=/usr/perl5/5.32 -Dvendorlib=/usr/perl5/vendor_perl/5.32 -Dvendorprefix=/usr/perl5/5.32 -Duseshrplib -Dusedtrace -Duse64bitall -Dusethreads -Dlibpth=/lib/64 /usr/lib/64 -Doptimize=-O3 '
hint=recommended
useposix=true
d_sigaction=define
useithreads=define
usemultiplicity=define
use64bitint=define
use64bitall=define
uselongdouble=undef
usemymalloc=n
default_inc_excludes_dot=define
bincompat5005=undef
Compiler:
cc='gcc'
ccflags ='-D_REENTRANT -m64 -fwrapv -fno-strict-aliasing -pipe -fstack-protector-strong -D_LARGEFILE64_SOURCE -D_FORTIFY_SOURCE=2 -DPERL_USE_SAFE_PUTENV'
optimize='-O3 '
cppflags='-D_REENTRANT -m64 -fwrapv -fno-strict-aliasing -pipe -fstack-protector-strong'
ccversion=''
gccversion='10.3.0'
gccosandvers=''
intsize=4
longsize=8
ptrsize=8
doublesize=8
byteorder=12345678
doublekind=3
d_longlong=define
longlongsize=8
d_longdbl=define
longdblsize=16
longdblkind=3
ivtype='long'
ivsize=8
nvtype='double'
nvsize=8
Off_t='off_t'
lseeksize=8
alignbytes=8
prototype=define
Linker and Libraries:
ld='gcc'
ldflags =' -m64 -fstack-protector-strong -L/usr/gnu/lib '
libpth=/lib/64 /usr/lib/64 /usr/gcc/10/lib /usr/gcc/10/lib/gcc/x86_64-pc-solaris2.11/10.3.0/include-fixed /usr/lib /usr/gnu/lib /usr/ccs/lib
libs=-lpthread -lsocket -lnsl -lgdbm -ldb -ldl -lm -lc
perllibs=-lpthread -lsocket -lnsl -ldl -lm -lc
libc=/lib/libc.so
so=so
useshrplib=true
libperl=libperl.so
gnulibc_version=''
Dynamic Linking:
dlsrc=dl_dlopen.xs
dlext=so
d_dlsymun=undef
ccdlflags=' -R /usr/perl5/5.32/lib/i86pc-solaris-thread-multi-64/CORE'
cccdlflags='-fPIC'
lddlflags=' -shared -m64 -L/usr/gnu/lib -fstack-protector-strong'
Characteristics of this binary (from libperl):
Compile-time options:
HAS_TIMES
MULTIPLICITY
PERLIO_LAYERS
PERL_COPY_ON_WRITE
PERL_DONT_CREATE_GVSV
PERL_IMPLICIT_CONTEXT
PERL_MALLOC_WRAP
PERL_OP_PARENT
PERL_PRESERVE_IVUV
PERL_USE_SAFE_PUTENV
USE_64_BIT_ALL
USE_64_BIT_INT
USE_ITHREADS
USE_LARGE_FILES
USE_LOCALE
USE_LOCALE_COLLATE
USE_LOCALE_CTYPE
USE_LOCALE_NUMERIC
USE_LOCALE_TIME
USE_PERLIO
USE_PERL_ATOF
USE_REENTRANT_API
USE_THREAD_SAFE_LOCALE
Built under solaris
Compiled at Nov 19 2021 12:12:16
%ENV:
PERL5LIB=""
PERL5OPT=""
PERL5_CPANPLUS_IS_RUNNING="23550"
PERL5_CPAN_IS_RUNNING="23550"
PERL_MM_USE_DEFAULT="1"
PERL_USE_UNSAFE_INC="1"
@INC:
/usr/perl5/site_perl/5.32/i86pc-solaris-thread-multi-64
/usr/perl5/site_perl/5.32
/usr/perl5/vendor_perl/5.32/i86pc-solaris-thread-multi-64
/usr/perl5/vendor_perl/5.32
/usr/perl5/5.32/lib/i86pc-solaris-thread-multi-64
/usr/perl5/5.32/lib
.