Path-Tiny v0.144 Perl 5 v5.12.2 i86pc-solaris-thread-multi-64
- Status
- Pass
- From
- Jean-Damien Durand
- Dist
-
Path-Tiny v0.144
- Platform
- Perl 5 v5.12.2 i86pc-solaris-thread-multi-64
- Date
- 2024-02-26 07:37:42
- ID
- eca47416-d479-11ee-9951-f366b46fd3dd
This distribution has been tested as part of the CPAN Testers
project, supporting the Perl programming language. See
http://wiki.cpantesters.org/ for more information or email
questions to cpan-testers-discuss@perl.org
--
Dear David Golden,
This is a computer-generated report for Path-Tiny-0.144
on perl 5.12.2, created by CPAN-Reporter-1.2019.
Thank you for uploading your work to CPAN. Congratulations!
All tests were successful.
Sections of this report:
* Tester comments
* Program output
* Prerequisites
* Environment and other context
------------------------------
TESTER COMMENTS
------------------------------
Additional comments from tester:
this report is from an automated smoke testing program
and was not reviewed by a human for accuracy
------------------------------
PROGRAM OUTPUT
------------------------------
Output from '/usr/bin/make test':
PERL_DL_NONLAZY=1 "/export/home/jddurand/perl-5.12.2/bin/perl" "-MExtUtils::Command::MM" "-MTest::Harness" "-e" "undef *Test::Harness::Switches; test_harness(0, 'blib/lib', 'blib/arch')" t/*.t
#
# Versions for all modules listed in MYMETA.json (including optional ones):
#
# === Configure Requires ===
#
# Module Want Have
# ------------------- ---- ----
# ExtUtils::MakeMaker 6.17 7.70
#
# === Configure Suggests ===
#
# Module Want Have
# -------- ------- ----
# JSON::PP 2.27300 4.16
#
# === Build Requires ===
#
# Module Want Have
# ------------------- ---- ----
# ExtUtils::MakeMaker any 7.70
#
# === Test Requires ===
#
# Module Want Have
# --------------------- ---- --------
# Digest::MD5 any 2.39
# ExtUtils::MakeMaker any 7.70
# File::Basename any 2.78
# File::Spec 0.86 3.31_01
# File::Spec::Functions any 3.30
# File::Spec::Unix any 3.30
# File::Temp 0.19 0.2311
# Test::More 0.96 1.302198
# lib any 0.62
# open any 1.07
#
# === Test Recommends ===
#
# Module Want Have
# ------------------ -------- --------
# CPAN::Meta 2.120900 2.143240
# Test::FailWarnings any missing
# Test::MockRandom any missing
#
# === Runtime Requires ===
#
# Module Want Have
# ------------------ ---- -------
# Carp any 1.17
# Cwd any 3.31
# Digest 1.03 1.16
# Digest::SHA 5.45 5.47
# Encode any 3.20
# Exporter 5.57 5.64_01
# Fcntl any 1.06
# File::Compare any 1.1006
# File::Copy any 2.18
# File::Glob any 1.07
# File::Path 2.07 2.08_01
# File::Spec 0.86 3.31_01
# File::Temp 0.19 0.2311
# File::stat any 1.02
# constant any 1.20
# overload any 1.10
# strict any 1.04
# warnings any 1.09
# warnings::register any 1.01
#
# === Runtime Recommends ===
#
# Module Want Have
# ------------- ---- -------
# Unicode::UTF8 0.58 missing
#
t/00-report-prereqs.t ............. ok
t/basename.t ...................... ok
t/basic.t ......................... ok
t/children.t ...................... ok
t/chmod.t ......................... ok
t/digest.t ........................ ok
t/exception.t ..................... ok
t/exports.t ....................... ok
t/filesystem.t .................... ok
t/has_same_bytes.t ................ ok
t/input_output.t .................. ok
t/input_output_no_PU_UU.t ......... ok
t/input_output_no_UU.t ............ ok
t/locking.t ....................... ok
t/mkdir.t ......................... ok
t/mkpath.t ........................ ok
t/mutable_tree_while_iterating.t .. ok
t/normalize.t ..................... ok
t/overloading.t ................... ok
t/parent.t ........................ ok
t/recurse.t ....................... ok
t/rel-abs.t ....................... ok
t/sig_die.t ....................... ok
t/size.t .......................... ok
t/subsumes.t ...................... ok
t/symlinks.t ...................... ok
t/temp.t .......................... ok
t/visit.t ......................... ok
t/zz-atomic.t ..................... skipped: Test::MockRandom required for atomicity tests
t/zzz-spec.t ...................... ok
All tests successful.
Files=30, Tests=1769, 6 wallclock secs ( 0.31 usr 0.11 sys + 3.86 cusr 1.31 csys = 5.59 CPU)
Result: PASS
------------------------------
PREREQUISITES
------------------------------
Prerequisite modules loaded:
requires:
Module Need Have
--------------------- -------- --------
Carp 0 1.17
constant 0 1.20
Cwd 0 3.31
Digest 1.03 1.16
Digest::SHA 5.45 5.47
Encode 0 3.20
Exporter 5.57 5.64_01
Fcntl 0 1.06
File::Compare 0 1.1006
File::Copy 0 2.18
File::Glob 0 1.07
File::Path 2.07 2.08_01
File::Spec 0.86 3.31_01
File::stat 0 1.02
File::Temp 0.19 0.2311
overload 0 1.10
perl 5.008001 5.012002
strict 0 1.04
warnings 0 1.09
warnings::register 0 1.01
build_requires:
Module Need Have
--------------------- -------- --------
Digest::MD5 0 2.39
ExtUtils::MakeMaker 0 7.70
File::Basename 0 2.78
File::Spec 0.86 3.31_01
File::Spec::Functions 0 3.30
File::Spec::Unix 0 3.30
File::Temp 0.19 0.2311
lib 0 0.62
open 0 1.07
Test::More 0.96 1.302198
configure_requires:
Module Need Have
--------------------- -------- --------
ExtUtils::MakeMaker 6.17 7.70
perl 5.008001 5.012002
------------------------------
ENVIRONMENT AND OTHER CONTEXT
------------------------------
Environment variables:
AUTOMATED_TESTING = 1
LANG = C
LC_ALL = C
LC_CTYPE = C
LD_LIBRARY_PATH = /export/home/jddurand/opt/openssl-3.0.13/lib/64
PATH = /export/home/jddurand/perl5/perlbrew/bin:/export/home/jddurand/opt/bin:/export/home/jddurand/opt/openssl-3.0.13/bin:/export/home/jddurand/perl-5.12.2/bin:/usr/bin:/usr/openwin/bin:/usr/ucb
PERL5LIB = /export/home/jddurand/.cpan/build/Test-File-1.993-GAr9Hc/blib/arch:/export/home/jddurand/.cpan/build/Test-File-1.993-GAr9Hc/blib/lib:/export/home/jddurand/.cpan/build/File-ShareDir-Install-0.14-MTUgaf/blib/arch:/export/home/jddurand/.cpan/build/File-ShareDir-Install-0.14-MTUgaf/blib/lib:/export/home/jddurand/.cpan/build/Specio-0.48-NNouwr/blib/arch:/export/home/jddurand/.cpan/build/Specio-0.48-NNouwr/blib/lib:/export/home/jddurand/.cpan/build/MRO-Compat-0.15-o1fdwH/blib/arch:/export/home/jddurand/.cpan/build/MRO-Compat-0.15-o1fdwH/blib/lib:/export/home/jddurand/.cpan/build/Sub-Quote-2.006008-Eete04/blib/arch:/export/home/jddurand/.cpan/build/Sub-Quote-2.006008-Eete04/blib/lib:/export/home/jddurand/.cpan/build/Role-Tiny-2.002004-1PRU9m/blib/arch:/export/home/jddurand/.cpan/build/Role-Tiny-2.002004-1PRU9m/blib/lib:/export/home/jddurand/.cpan/build/Devel-StackTrace-2.05-5h1K4h/blib/arch:/export/home/jddurand/.cpan/build/Devel-StackTrace-2.05-5h1K4h/blib/lib:/export/home/jddurand/.cpan/build/Eval-Closure-0.14-_sczqS/blib/arch:/export/home/jddurand/.cpan/build/Eval-Closure-0.14-_sczqS/blib/lib:/export/home/jddurand/.cpan/build/XString-0.005-kGkfFm/blib/arch:/export/home/jddurand/.cpan/build/XString-0.005-kGkfFm/blib/lib
PERL5OPT =
PERL5_CPANPLUS_IS_RUNNING = 10523
PERL5_CPAN_IS_RUNNING = 10523
PERL5_CPAN_IS_RUNNING_IN_RECURSION = 10520,10523
PERLBREW_HOME = /export/home/jddurand/.perlbrew
PERLBREW_ROOT = /export/home/jddurand/perl5/perlbrew
PERLBREW_SHELLRC_VERSION = 0.98
PERL_CR_SMOKER_CURRENT = Locale-CLDR-Locales-Mgo-v0.44.0
PERL_EXTUTILS_AUTOINSTALL = --defaultdeps
PERL_MM_USE_DEFAULT = 1
SHELL = /usr/bin/zsh
TERM = xterm
Perl special variables (and OS-specific diagnostics, for MSWin32):
$^X = /export/home/jddurand/perl-5.12.2/bin/perl
$UID/$EUID = 65535 / 65535
$GID = 1 1
$EGID = 1 1
Perl module toolchain versions installed:
Module Have
------------------- --------
CPAN 1.94_56
CPAN::Meta 2.143240
Cwd 3.31
ExtUtils::CBuilder 0.280236
ExtUtils::Command 7.70
ExtUtils::Install 2.06
ExtUtils::MakeMaker 7.70
ExtUtils::Manifest 1.70
ExtUtils::ParseXS 2.21
File::Spec 3.31_01
JSON n/a
JSON::PP 4.16
Module::Build 0.4234
Module::Signature n/a
Parse::CPAN::Meta 1.4414
Test2 1.302198
Test::Harness 3.48
Test::More 1.302198
YAML n/a
YAML::Syck n/a
version 0.9930
--
Summary of my perl5 (revision 5 version 12 subversion 2) configuration:
Platform:
osname=solaris, osvers=2.11, archname=i86pc-solaris-thread-multi-64
uname='sunos unknown 5.11 snv_60 i86pc i386 i86pc '
config_args='-des -Duse64bitall -Dusethreads -Dprefix=/export/home/jddurand/perl-5.12.2'
hint=recommended, useposix=true, d_sigaction=define
useithreads=define, usemultiplicity=define
useperlio=define, d_sfio=undef, uselargefiles=define, usesocks=undef
use64bitint=define, use64bitall=define, uselongdouble=undef
usemymalloc=n, bincompat5005=undef
Compiler:
cc='/opt/SUNWspro/bin/cc', ccflags ='-D_REENTRANT -xarch=generic64 -D_LARGEFILE_SOURCE -D_FILE_OFFSET_BITS=64 -DPERL_USE_SAFE_PUTENV',
optimize='-O',
cppflags='-D_REENTRANT -xarch=generic64'
ccversion='Sun C 5.8 Patch 121016-04 2006/10/18', gccversion='', gccosandvers=''
intsize=4, longsize=8, ptrsize=8, doublesize=8, byteorder=12345678
d_longlong=define, longlongsize=8, d_longdbl=define, longdblsize=16
ivtype='long', ivsize=8, nvtype='double', nvsize=8, Off_t='off_t', lseeksize=8
alignbytes=8, prototype=define
Linker and Libraries:
ld='/opt/SUNWspro/bin/cc', ldflags =' -xarch=generic64 -L/opt/SUNWspro/prod/lib/amd64 -L/lib/amd64 '
libpth=/opt/SUNWspro/prod/lib/amd64 /lib/amd64 /usr/lib /usr/ccs/lib
libs=-lsocket -lnsl -ldl -lm -lpthread -lc
perllibs=-lsocket -lnsl -ldl -lm -lpthread -lc
libc=/lib/libc.so, so=so, useshrplib=false, libperl=libperl.a
gnulibc_version=''
Dynamic Linking:
dlsrc=dl_dlopen.xs, dlext=so, d_dlsymun=undef, ccdlflags=' '
cccdlflags='-KPIC', lddlflags=' -G -xarch=generic64 -L/opt/SUNWspro/prod/lib/amd64 -L/lib/amd64'
Characteristics of this binary (from libperl):
Compile-time options: MULTIPLICITY PERL_DONT_CREATE_GVSV
PERL_IMPLICIT_CONTEXT PERL_MALLOC_WRAP
PERL_USE_SAFE_PUTENV USE_64_BIT_ALL USE_64_BIT_INT
USE_ITHREADS USE_LARGE_FILES USE_PERLIO USE_PERL_ATOF
USE_REENTRANT_API
Built under solaris
Compiled at Feb 25 2024 15:17:23
%ENV:
PERL5LIB="/export/home/jddurand/.cpan/build/Test-File-1.993-GAr9Hc/blib/arch:/export/home/jddurand/.cpan/build/Test-File-1.993-GAr9Hc/blib/lib:/export/home/jddurand/.cpan/build/File-ShareDir-Install-0.14-MTUgaf/blib/arch:/export/home/jddurand/.cpan/build/File-ShareDir-Install-0.14-MTUgaf/blib/lib:/export/home/jddurand/.cpan/build/Specio-0.48-NNouwr/blib/arch:/export/home/jddurand/.cpan/build/Specio-0.48-NNouwr/blib/lib:/export/home/jddurand/.cpan/build/MRO-Compat-0.15-o1fdwH/blib/arch:/export/home/jddurand/.cpan/build/MRO-Compat-0.15-o1fdwH/blib/lib:/export/home/jddurand/.cpan/build/Sub-Quote-2.006008-Eete04/blib/arch:/export/home/jddurand/.cpan/build/Sub-Quote-2.006008-Eete04/blib/lib:/export/home/jddurand/.cpan/build/Role-Tiny-2.002004-1PRU9m/blib/arch:/export/home/jddurand/.cpan/build/Role-Tiny-2.002004-1PRU9m/blib/lib:/export/home/jddurand/.cpan/build/Devel-StackTrace-2.05-5h1K4h/blib/arch:/export/home/jddurand/.cpan/build/Devel-StackTrace-2.05-5h1K4h/blib/lib:/export/home/jddurand/.cpan/build/Eval-Closure-0.14-_sczqS/blib/arch:/export/home/jddurand/.cpan/build/Eval-Closure-0.14-_sczqS/blib/lib:/export/home/jddurand/.cpan/build/XString-0.005-kGkfFm/blib/arch:/export/home/jddurand/.cpan/build/XString-0.005-kGkfFm/blib/lib"
PERL5OPT=""
PERL5_CPANPLUS_IS_RUNNING="10523"
PERL5_CPAN_IS_RUNNING="10523"
PERL5_CPAN_IS_RUNNING_IN_RECURSION="10520,10523"
PERLBREW_HOME="/export/home/jddurand/.perlbrew"
PERLBREW_ROOT="/export/home/jddurand/perl5/perlbrew"
PERLBREW_SHELLRC_VERSION="0.98"
PERL_CR_SMOKER_CURRENT="Locale-CLDR-Locales-Mgo-v0.44.0"
PERL_EXTUTILS_AUTOINSTALL="--defaultdeps"
PERL_MM_USE_DEFAULT="1"
@INC:
/export/home/jddurand/.cpan/build/Test-File-1.993-GAr9Hc/blib/arch
/export/home/jddurand/.cpan/build/Test-File-1.993-GAr9Hc/blib/lib
/export/home/jddurand/.cpan/build/File-ShareDir-Install-0.14-MTUgaf/blib/arch
/export/home/jddurand/.cpan/build/File-ShareDir-Install-0.14-MTUgaf/blib/lib
/export/home/jddurand/.cpan/build/Specio-0.48-NNouwr/blib/arch
/export/home/jddurand/.cpan/build/Specio-0.48-NNouwr/blib/lib
/export/home/jddurand/.cpan/build/MRO-Compat-0.15-o1fdwH/blib/arch
/export/home/jddurand/.cpan/build/MRO-Compat-0.15-o1fdwH/blib/lib
/export/home/jddurand/.cpan/build/Sub-Quote-2.006008-Eete04/blib/arch
/export/home/jddurand/.cpan/build/Sub-Quote-2.006008-Eete04/blib/lib
/export/home/jddurand/.cpan/build/Role-Tiny-2.002004-1PRU9m/blib/arch
/export/home/jddurand/.cpan/build/Role-Tiny-2.002004-1PRU9m/blib/lib
/export/home/jddurand/.cpan/build/Devel-StackTrace-2.05-5h1K4h/blib/arch
/export/home/jddurand/.cpan/build/Devel-StackTrace-2.05-5h1K4h/blib/lib
/export/home/jddurand/.cpan/build/Eval-Closure-0.14-_sczqS/blib/arch
/export/home/jddurand/.cpan/build/Eval-Closure-0.14-_sczqS/blib/lib
/export/home/jddurand/.cpan/build/XString-0.005-kGkfFm/blib/arch
/export/home/jddurand/.cpan/build/XString-0.005-kGkfFm/blib/lib
/export/home/jddurand/perl-5.12.2/lib/site_perl/5.12.2/i86pc-solaris-thread-multi-64
/export/home/jddurand/perl-5.12.2/lib/site_perl/5.12.2
/export/home/jddurand/perl-5.12.2/lib/5.12.2/i86pc-solaris-thread-multi-64
/export/home/jddurand/perl-5.12.2/lib/5.12.2
.