DBIx-Class-MoreHelpers v1.0001 Perl 5 v5.41.14 x86_64-linux
- Status
- Pass
- From
- Carlos Guevara
- Dist
-
DBIx-Class-MoreHelpers v1.0001
- Platform
- Perl 5 v5.41.14 x86_64-linux
- Date
- 2025-06-04 05:58:22
- ID
- ec024da6-4108-11f0-90ab-861f604d979f
This distribution has been tested as part of the CPAN Testers
project, supporting the Perl programming language. See
http://wiki.cpantesters.org/ for more information or email
questions to cpan-testers-discuss@perl.org
--
Dear D Ruth Holloway,
This is a computer-generated report for DBIx-Class-MoreHelpers-1.0001
on perl 5.41.14, created by CPAN-Reporter-1.2020.
Thank you for uploading your work to CPAN. Congratulations!
All tests were successful.
Sections of this report:
* Tester comments
* Program output
* Prerequisites
* Environment and other context
------------------------------
TESTER COMMENTS
------------------------------
Additional comments from tester:
this report is from an automated smoke testing program
and was not reviewed by a human for accuracy
------------------------------
PROGRAM OUTPUT
------------------------------
Output from '/usr/bin/make test':
PERL_DL_NONLAZY=1 "/home/cpan/bin/perl/bin/perl5.41.14" "-MExtUtils::Command::MM" "-MTest::Harness" "-e" "undef *Test::Harness::Switches; test_harness(0, 'blib/lib', 'blib/arch')" t/*.t
t/00-compile.t ......... ok
#
# Versions for all modules listed in MYMETA.json (including optional ones):
#
# === Configure Requires ===
#
# Module Want Have
# ------------------- ----- --------
# ExtUtils::MakeMaker any 7.76
# perl 5.006 5.041014
#
# === Build Requires ===
#
# Module Want Have
# ------------------- ---- ----
# ExtUtils::MakeMaker any 7.76
#
# === Test Requires ===
#
# Module Want Have
# -------------------------- ----- ----------
# DBIx::Class::Core any undef
# DBIx::Class::ResultSet any undef
# DBIx::Class::Schema any undef
# ExtUtils::MakeMaker any 7.76
# File::Spec any 3.94
# FindBin any 1.54
# IO::Handle any 1.55
# IPC::Open3 any 1.24
# Modern::Perl any 1.20241001
# Test2::Plugin::ExitSummary any 1.302214
# Test2::Plugin::NoWarnings any 0.10
# Test2::Plugin::Times any 1.302214
# Test2::V0 any 1.302214
# Test::DBIx::Class any 0.52
# Test::More any 1.302214
# base any 2.27
# lib any 0.65
# perl 5.006 5.041014
#
# === Test Recommends ===
#
# Module Want Have
# ---------- -------- --------
# CPAN::Meta 2.120900 2.150010
#
# === Runtime Requires ===
#
# Module Want Have
# ------------------------------------------------------ ----- --------
# DBIx::Class::Helper::ResultSet::SetOperations any 2.037000
# DBIx::Class::Helper::ResultSet::Shortcut::Search::Base any 2.037000
# parent any 0.244
# perl 5.006 5.041014
# strict any 1.14
# warnings any 1.74
#
t/00-report-prereqs.t .. ok
t/001_blank.t .......... ok
t/002_is.t ............. ok
t/003_numerics.t ....... ok
All tests successful.
Files=5, Tests=42, 3 wallclock secs ( 0.02 usr 0.01 sys + 2.04 cusr 0.40 csys = 2.47 CPU)
Result: PASS
------------------------------
PREREQUISITES
------------------------------
Prerequisite modules loaded:
requires:
Module Need Have
------------------------------------------------------ -------- ----------
DBIx::Class::Helper::ResultSet::SetOperations 0 2.037000
DBIx::Class::Helper::ResultSet::Shortcut::Search::Base 0 2.037000
parent 0 0.244
perl 5.006 5.041014
strict 0 1.14
warnings 0 1.74
build_requires:
Module Need Have
------------------------------------------------------ -------- ----------
base 0 2.27
DBIx::Class::Core 0 0
DBIx::Class::ResultSet 0 0
DBIx::Class::Schema 0 0
ExtUtils::MakeMaker 0 7.76
File::Spec 0 3.94
FindBin 0 1.54
IO::Handle 0 1.55
IPC::Open3 0 1.24
lib 0 0.65
Modern::Perl 0 1.20241001
Test2::Plugin::ExitSummary 0 1.302214
Test2::Plugin::NoWarnings 0 0.10
Test2::Plugin::Times 0 1.302214
Test2::V0 0 1.302214
Test::DBIx::Class 0 0.52
Test::More 0 1.302214
configure_requires:
Module Need Have
------------------------------------------------------ -------- ----------
ExtUtils::MakeMaker 0 7.76
perl 5.006 5.041014
opt_build_requires:
Module Need Have
------------------------------------------------------ -------- ----------
CPAN::Meta 2.120900 2.150010
------------------------------
ENVIRONMENT AND OTHER CONTEXT
------------------------------
Environment variables:
AUTOMATED_TESTING = 1
DATE_MANIP_TEST_DM5 = 1
LANG = C.UTF-8
LC_COLLATE = C
NONINTERACTIVE_TESTING = 1
NO_NETWORK_TESTING = 1
PATH = /home/cpan/bin/perl/bin:/usr/local/sbin:/usr/local/bin:/usr/sbin:/usr/bin:/sbin:/bin
PERL5LIB =
PERL5OPT =
PERL5_CPANPLUS_IS_RUNNING = 18598
PERL5_CPAN_IS_RUNNING = 18598
PERL_MM_USE_DEFAULT = 1
PERL_USE_UNSAFE_INC = 1
SHELL = /bin/bash
TERM = screen
Perl special variables (and OS-specific diagnostics, for MSWin32):
$^X = /home/cpan/bin/perl/bin/perl5.41.14
$UID/$EUID = 1001 / 1001
$GID = 1001 1001
$EGID = 1001 1001
Perl module toolchain versions installed:
Module Have
------------------- --------
CPAN 2.38
CPAN::Meta 2.150010
Cwd 3.94
ExtUtils::CBuilder 0.280241
ExtUtils::Command 7.76
ExtUtils::Install 2.22
ExtUtils::MakeMaker 7.76
ExtUtils::Manifest 1.75
ExtUtils::ParseXS 3.57
File::Spec 3.94
JSON 4.10
JSON::PP 4.16
Module::Build 0.4234
Module::Signature n/a
Parse::CPAN::Meta 2.150010
Test2 1.302214
Test::Harness 3.50
Test::More 1.302214
YAML 1.31
YAML::Syck 1.34
version 0.9933
--
Summary of my perl5 (revision 5 version 41 subversion 14) configuration:
Commit id: 6fbe2c7e05ae0e078795b74815bcefd10be12c56
Platform:
osname=linux
osvers=6.12.31-0-lts
archname=x86_64-linux
uname='linux cjg-alpine3 6.12.31-0-lts #1-alpine smp preempt_dynamic 2025-05-29 17:19:09 x86_64 linux '
config_args='-des -Dprefix=/home/cpan/bin/perl -Dscriptdir=/home/cpan/bin/perl/bin -Dusedevel -Duse64bitall'
hint=recommended
useposix=true
d_sigaction=define
useithreads=undef
usemultiplicity=undef
use64bitint=define
use64bitall=define
uselongdouble=undef
usemymalloc=n
default_inc_excludes_dot=define
Compiler:
cc='cc'
ccflags ='-D_GNU_SOURCE -fwrapv -fno-strict-aliasing -pipe -fstack-protector-strong -D_LARGEFILE_SOURCE -D_FILE_OFFSET_BITS=64'
optimize='-O2'
cppflags='-D_GNU_SOURCE -fwrapv -fno-strict-aliasing -pipe -fstack-protector-strong'
ccversion=''
gccversion='14.2.0'
gccosandvers=''
intsize=4
longsize=8
ptrsize=8
doublesize=8
byteorder=12345678
doublekind=3
d_longlong=define
longlongsize=8
d_longdbl=define
longdblsize=16
longdblkind=3
ivtype='long'
ivsize=8
nvtype='double'
nvsize=8
Off_t='off_t'
lseeksize=8
alignbytes=8
prototype=define
Linker and Libraries:
ld='cc'
ldflags =' -fstack-protector-strong -L/usr/local/lib'
libpth=/usr/lib /usr/local/lib /lib
libs=-lpthread -lgdbm -ldb -ldl -lm -lcrypt -lutil -lc -lgdbm_compat
perllibs=-lpthread -ldl -lm -lcrypt -lutil -lc
libc=/usr/lib/libc.a
so=so
useshrplib=false
libperl=libperl.a
gnulibc_version=''
Dynamic Linking:
dlsrc=dl_dlopen.xs
dlext=so
d_dlsymun=undef
ccdlflags='-Wl,-E'
cccdlflags='-fPIC'
lddlflags='-shared -O2 -L/usr/local/lib -fstack-protector-strong'
Characteristics of this binary (from libperl):
Compile-time options:
HAS_LONG_DOUBLE
HAS_STRTOLD
HAS_TIMES
PERLIO_LAYERS
PERL_COPY_ON_WRITE
PERL_DONT_CREATE_GVSV
PERL_HASH_FUNC_SIPHASH13
PERL_HASH_USE_SBOX32
PERL_MALLOC_WRAP
PERL_OP_PARENT
PERL_PRESERVE_IVUV
PERL_USE_DEVEL
PERL_USE_SAFE_PUTENV
USE_64_BIT_ALL
USE_64_BIT_INT
USE_LARGE_FILES
USE_LOCALE
USE_LOCALE_COLLATE
USE_LOCALE_CTYPE
USE_LOCALE_NUMERIC
USE_LOCALE_TIME
USE_PERLIO
USE_PERL_ATOF
Built under linux
Compiled at Jun 3 2025 19:04:46
%ENV:
PERL5LIB=""
PERL5OPT=""
PERL5_CPANPLUS_IS_RUNNING="18598"
PERL5_CPAN_IS_RUNNING="18598"
PERL_MM_USE_DEFAULT="1"
PERL_USE_UNSAFE_INC="1"
@INC:
/home/cpan/bin/perl/lib/site_perl/5.41.14/x86_64-linux
/home/cpan/bin/perl/lib/site_perl/5.41.14
/home/cpan/bin/perl/lib/5.41.14/x86_64-linux
/home/cpan/bin/perl/lib/5.41.14
.