CHI v0.34 Perl 5 v5.12.0 i686-linux

Status
Pass
From
Serguei Trouchelle (STRO)
Dist
CHI v0.34
Platform
Perl 5 v5.12.0 i686-linux
Date
2010-04-27 03:13:58
ID
ebdbc504-51aa-11df-b6d3-2edcca64c448
This distribution has been tested as part of the CPAN Testers
project, supporting the Perl programming language.  See
http://wiki.cpantesters.org/ for more information or email
questions to cpan-testers-discuss@perl.org


--
Dear Jonathan Swartz,

This is a computer-generated report for CHI-0.34
on perl 5.12.0, created by CPAN-Reporter-1.1711.

Thank you for uploading your work to CPAN.  Congratulations!
All tests were successful.

Sections of this report:

    * Tester comments
    * Program output
    * Prerequisites
    * Environment and other context

------------------------------
TESTER COMMENTS
------------------------------

Additional comments from tester:

this report is from an automated smoke testing program
and was not reviewed by a human for accuracy

------------------------------
PROGRAM OUTPUT
------------------------------

Output from '/usr/bin/make test':

/home/stro/perl5120/bin/perl "-Iinc" "-MModule::Install::ExtraTests" "-e" "Module::Install::ExtraTests::__harness('Test::Harness', 0, '', 'xt/release', '', 0, 'blib/lib', 'blib/arch')" t/00-load.t t/Bugs.t t/Constants.t t/Driver-CacheCache.t t/Driver-FastMmap.t t/Driver-File-DepthZero.t t/Driver-File.t t/Driver-Memory.t t/Driver-NonMoose.t t/Driver-Null.t t/Driver-Subcache-l1_cache.t t/Driver-Subcache-mirror_cache.t t/GetError.t t/Initialize.t t/Sanity.t t/SetError.t t/Subcache.t t/Subclass.t t/Util.t
# Testing CHI 0.34, Perl 5.012000, /home/stro/perl5120/bin/perl
t/00-load.t ....................... ok
t/Bugs.t .......................... ok
t/Constants.t ..................... ok
t/Driver-CacheCache.t ............. skipped: one of required modules not installed: Cache::FileCache
t/Driver-FastMmap.t ............... skipped: one of required modules not installed: Cache::FastMmap
t/Driver-File-DepthZero.t ......... ok
t/Driver-File.t ................... ok
t/Driver-Memory.t ................. ok
t/Driver-NonMoose.t ............... ok
t/Driver-Null.t ................... ok
t/Driver-Subcache-l1_cache.t ...... ok
t/Driver-Subcache-mirror_cache.t .. ok
t/GetError.t ...................... ok
t/Initialize.t .................... ok
t/Sanity.t ........................ ok
t/SetError.t ...................... ok
t/Subcache.t ...................... ok
t/Subclass.t ...................... ok
t/Util.t .......................... ok
All tests successful.
Files=19, Tests=4560, 40 wallclock secs ( 0.06 usr  0.20 sys + 17.04 cusr  3.63 csys = 20.93 CPU)
Result: PASS

------------------------------
PREREQUISITES
------------------------------

Prerequisite modules loaded:

requires:

    Module                      Need Have 
    --------------------------- ---- -----
    Carp::Assert                0.20 0.20 
    Data::UUID                  0    1.203
    Date::Parse                 0    2.30 
    Digest::JHash               0    0.05 
    ExtUtils::MakeMaker         6.42 6.56 
    File::Spec                  0.80 3.31 
    Hash::MoreUtils             0    0.01 
    List::MoreUtils             0.13 0.22 
    Log::Any                    0.06 0.11 
    Log::Any::Adapter::Dispatch 0.05 0.06 
    Module::Load::Conditional   0    0.38 
    Moose                       0.66 1.01 
    Storable                    0    2.22 
    Task::Weaken                0    1.03 
    Test::Class                 0    0.34 
    Test::Deep                  0    0.106
    Test::Exception             0    0.29 
    Test::Log::Dispatch         0    0.03 
    Test::More                  0    0.94 
    Test::Warn                  0    0.21 
    Time::Duration              1.06 1.06 
    Time::Duration::Parse       0.03 0.06 

configure_requires:

    Module                      Need Have 
    --------------------------- ---- -----
    ExtUtils::MakeMaker         6.42 6.56 


------------------------------
ENVIRONMENT AND OTHER CONTEXT
------------------------------

Environment variables:

    AUTOMATED_TESTING = 1
    LANG = en_US.UTF-8
    PATH = /usr/local/bin:/usr/bin:/bin:/usr/games
    PERL5LIB = 
    PERL5OPT = 
    PERL5_CPANPLUS_IS_RUNNING = 23402
    PERL5_CPAN_IS_RUNNING = 23402
    PERL5_CPAN_IS_RUNNING_IN_RECURSION = 14833,23402
    PERL_CR_SMOKER_CURRENT = CPAN-Testers-Metabase-1.999001
    PERL_EXTUTILS_AUTOINSTALL = --defaultdeps
    PERL_MM_USE_DEFAULT = 1
    SHELL = /bin/bash
    TERM = xterm

Perl special variables (and OS-specific diagnostics, for MSWin32):

    $^X = /home/stro/perl5120/bin/perl
    $UID/$EUID = 1000 / 1000
    $GID = 1000 20 24 25 29 44 46 1000
    $EGID = 1000 20 24 25 29 44 46 1000

Perl module toolchain versions installed:

    Module              Have   
    ------------------- -------
    CPAN                1.94_56
    Cwd                 3.31   
    ExtUtils::CBuilder  0.27   
    ExtUtils::Command   1.16   
    ExtUtils::Install   1.55   
    ExtUtils::MakeMaker 6.56   
    ExtUtils::Manifest  1.57   
    ExtUtils::ParseXS   2.21   
    File::Spec          3.31   
    Module::Build       0.3603 
    Module::Signature   n/a    
    Test::Harness       3.17   
    Test::More          0.94   
    YAML                0.71   
    YAML::Syck          1.07   
    version             0.82   


--

Summary of my perl5 (revision 5 version 12 subversion 0) configuration:
   
  Platform:
    osname=linux, osvers=2.6.26-2-686, archname=i686-linux
    uname='linux debian5 2.6.26-2-686 #1 smp wed nov 4 20:45:37 utc 2009 i686 gnulinux '
    config_args=''
    hint=recommended, useposix=true, d_sigaction=define
    useithreads=undef, usemultiplicity=undef
    useperlio=define, d_sfio=undef, uselargefiles=define, usesocks=undef
    use64bitint=undef, use64bitall=undef, uselongdouble=undef
    usemymalloc=n, bincompat5005=undef
  Compiler:
    cc='cc', ccflags ='-fno-strict-aliasing -pipe -fstack-protector -I/usr/local/include -D_LARGEFILE_SOURCE -D_FILE_OFFSET_BITS=64',
    optimize='-O2',
    cppflags='-fno-strict-aliasing -pipe -fstack-protector -I/usr/local/include'
    ccversion='', gccversion='4.3.2', gccosandvers=''
    intsize=4, longsize=4, ptrsize=4, doublesize=8, byteorder=1234
    d_longlong=define, longlongsize=8, d_longdbl=define, longdblsize=12
    ivtype='long', ivsize=4, nvtype='double', nvsize=8, Off_t='off_t', lseeksize=8
    alignbytes=4, prototype=define
  Linker and Libraries:
    ld='cc', ldflags =' -fstack-protector -L/usr/local/lib'
    libpth=/usr/local/lib /lib /usr/lib
    libs=-lnsl -ldb -ldl -lm -lcrypt -lutil -lc
    perllibs=-lnsl -ldl -lm -lcrypt -lutil -lc
    libc=/lib/libc-2.7.so, so=so, useshrplib=false, libperl=libperl.a
    gnulibc_version='2.7'
  Dynamic Linking:
    dlsrc=dl_dlopen.xs, dlext=so, d_dlsymun=undef, ccdlflags='-Wl,-E'
    cccdlflags='-fPIC', lddlflags='-shared -O2 -L/usr/local/lib -fstack-protector'


Characteristics of this binary (from libperl): 
  Compile-time options: PERL_DONT_CREATE_GVSV PERL_MALLOC_WRAP
                        USE_LARGE_FILES USE_PERLIO USE_PERL_ATOF
  Built under linux
  Compiled at Apr 22 2010 13:51:41
  %ENV:
    PERL5LIB=""
    PERL5OPT=""
    PERL5_CPANPLUS_IS_RUNNING="23402"
    PERL5_CPAN_IS_RUNNING="23402"
    PERL5_CPAN_IS_RUNNING_IN_RECURSION="14833,23402"
    PERL_CR_SMOKER_CURRENT="CPAN-Testers-Metabase-1.999001"
    PERL_EXTUTILS_AUTOINSTALL="--defaultdeps"
    PERL_MM_USE_DEFAULT="1"
  @INC:
    /home/stro/perl5120/lib/site_perl/5.12.0/i686-linux
    /home/stro/perl5120/lib/site_perl/5.12.0
    /home/stro/perl5120/lib/5.12.0/i686-linux
    /home/stro/perl5120/lib/5.12.0
    .