Catmandu-AlephX v1.07 Perl 5 v5.24.2 i86pc-solaris

Status
Pass
From
Serguei Trouchelle (STRO)
Dist
Catmandu-AlephX v1.07
Platform
Perl 5 v5.24.2 i86pc-solaris
Date
2018-02-05 22:28:42
ID
ebb4f8a4-0ac3-11e8-a264-993a4b9d12ec
This distribution has been tested as part of the CPAN Testers
project, supporting the Perl programming language.  See
http://wiki.cpantesters.org/ for more information or email
questions to cpan-testers-discuss@perl.org


--
Dear Patrick Hochstenbach,

This is a computer-generated report for Catmandu-AlephX-1.07
on perl 5.24.2, created by CPAN-Reporter-1.2018.

Thank you for uploading your work to CPAN.  Congratulations!
All tests were successful.

Sections of this report:

    * Tester comments
    * Program output
    * Prerequisites
    * Environment and other context

------------------------------
TESTER COMMENTS
------------------------------

Additional comments from tester:

this report is from an automated smoke testing program
and was not reviewed by a human for accuracy

------------------------------
PROGRAM OUTPUT
------------------------------

Output from './Build test':

t/Catmandu/AlephX.t ...................... ok
t/Catmandu/AlephX/Metadata.t ............. ok
t/Catmandu/AlephX/Metadata/MARC.t ........ ok
t/Catmandu/AlephX/Metadata/MARC/Aleph.t .. ok
t/Catmandu/AlephX/Op/BorAuth.t ........... ok
t/Catmandu/AlephX/Op/BorInfo.t ........... ok
t/Catmandu/AlephX/Op/CircStatM.t ......... ok
t/Catmandu/AlephX/Op/CircStatus.t ........ ok
t/Catmandu/AlephX/Op/CreateItem.t ........ ok
t/Catmandu/AlephX/Op/Find.t .............. ok
t/Catmandu/AlephX/Op/FindDoc.t ........... ok
t/Catmandu/AlephX/Op/GetHolding.t ........ ok
t/Catmandu/AlephX/Op/HoldReq.t ........... ok
t/Catmandu/AlephX/Op/HoldReqCancel.t ..... ok
t/Catmandu/AlephX/Op/IllBorInfo.t ........ ok
t/Catmandu/AlephX/Op/IllGetDoc.t ......... ok
t/Catmandu/AlephX/Op/IllGetDocShort.t .... ok
t/Catmandu/AlephX/Op/IllLoanInfo.t ....... ok
t/Catmandu/AlephX/Op/ItemData.t .......... ok
t/Catmandu/AlephX/Op/ItemDataMulti.t ..... ok
t/Catmandu/AlephX/Op/Present.t ........... ok
t/Catmandu/AlephX/Op/PublishAvail.t ...... ok
t/Catmandu/AlephX/Op/ReadItem.t .......... ok
t/Catmandu/AlephX/Op/Renew.t ............. ok
t/Catmandu/AlephX/Op/UpdateDoc.t ......... ok
t/Catmandu/AlephX/Op/UpdateItem.t ........ ok
t/Catmandu/AlephX/Op/UserAuth.t .......... ok
t/Catmandu/AlephX/Record.t ............... ok
t/Catmandu/AlephX/Record/Present.t ....... ok
t/Catmandu/AlephX/Response.t ............. ok
t/Catmandu/AlephX/UserAgent.t ............ ok
t/Catmandu/AlephX/UserAgent/LWP.t ........ ok
t/Catmandu/AlephX/XPath/Helper.t ......... ok
t/Catmandu/Importer/AlephX.t ............. ok
t/Catmandu/Store/AlephX.t ................ ok
t/author-pod-syntax.t .................... skipped: these tests are for testing by the author
All tests successful.
Files=36, Tests=70, 13 wallclock secs ( 0.16 usr  0.12 sys +  9.75 cusr  1.91 csys = 11.94 CPU)
Result: PASS

------------------------------
PREREQUISITES
------------------------------

Prerequisite modules loaded:

requires:

    Module                      Need    Have    
    --------------------------- ------- --------
    Carp                        0       1.40    
    Catmandu                    0       1.08    
    Data::Util                  0       0.66    
    LWP::UserAgent              0       6.27    
    Moo                         0       2.003004
    perl                        v5.10.1 5.024002
    Software::License           0       0.103013
    Test::Exception             0.43    0.43    
    Test::More                  0.99    1.302120
    URI::Escape                 0       3.31    
    XML::LibXML                 0       2.0132  
    XML::LibXML::XPathContext   0       2.0132  

build_requires:

    Module                      Need    Have    
    --------------------------- ------- --------
    Log::Any::Adapter::Log4perl 0       0.08    
    Log::Any::Test              1.03    1.701   
    Log::Log4perl               0       1.49    
    Test::Deep                  0.112   1.127   
    Test::Exception             0.43    0.43    
    Test::LWP::UserAgent        0       0.033   
    Test::More                  0.99    1.302120
    Test::Pod                   0       1.51    

configure_requires:

    Module                      Need    Have    
    --------------------------- ------- --------
    Module::Build::Tiny         0.034   0.039   


------------------------------
ENVIRONMENT AND OTHER CONTEXT
------------------------------

Environment variables:

    AUTOMATED_TESTING = 1
    LANG = en_US.UTF-8
    PATH = /usr/gnu/bin:/usr/bin:/usr/sbin:/sbin:/usr/sfw/bin:
    PERL5LIB = 
    PERL5OPT = 
    PERL5_CPANPLUS_IS_RUNNING = 4133
    PERL5_CPAN_IS_RUNNING = 4133
    PERL5_CPAN_IS_RUNNING_IN_RECURSION = 7241,4133
    PERL_CR_SMOKER_CURRENT = Catmandu-AlephX-1.07
    PERL_EXTUTILS_AUTOINSTALL = --defaultdeps
    PERL_MM_USE_DEFAULT = 1
    SHELL = /bin/bash
    TERM = xterm-256color

Perl special variables (and OS-specific diagnostics, for MSWin32):

    $^X = /home/stro/perl/5.24.2/bin/perl
    $UID/$EUID = 101 / 101
    $GID = 10 10
    $EGID = 10 10

Perl module toolchain versions installed:

    Module              Have      
    ------------------- ----------
    CPAN                2.16      
    CPAN::Meta          2.150005  
    Cwd                 3.63_01   
    ExtUtils::CBuilder  0.280225  
    ExtUtils::Command   7.30      
    ExtUtils::Install   2.06      
    ExtUtils::MakeMaker 7.30      
    ExtUtils::Manifest  1.70      
    ExtUtils::ParseXS   3.31      
    File::Spec          3.63_01   
    JSON                2.94      
    JSON::PP            2.94      
    Module::Build       0.4224    
    Module::Signature   n/a       
    Parse::CPAN::Meta   1.4417_001
    Test::Harness       3.36_01   
    Test::More          1.302120  
    YAML                1.23      
    YAML::Syck          1.30      
    version             0.9916    


--

Summary of my perl5 (revision 5 version 24 subversion 2) configuration:
   
  Platform:
    osname=solaris, osvers=2.11, archname=i86pc-solaris
    uname='sunos vm-openindiana-001 5.11 illumos-ed992b0aac i86pc i386 i86pc solaris '
    config_args=''
    hint=recommended, useposix=true, d_sigaction=define
    useithreads=undef, usemultiplicity=undef
    use64bitint=undef, use64bitall=undef, uselongdouble=undef
    usemymalloc=n, bincompat5005=undef
  Compiler:
    cc='/opt/SUNWspro/bin/cc', ccflags ='-I/usr/gnu/include -D_LARGEFILE_SOURCE -D_FILE_OFFSET_BITS=64 -DPERL_USE_SAFE_PUTENV',
    optimize='-O',
    cppflags='-I/usr/gnu/include'
    ccversion='Sun C 5.10 SunOS_i386 2009/06/03', gccversion='', gccosandvers=''
    intsize=4, longsize=4, ptrsize=4, doublesize=8, byteorder=1234, doublekind=3
    d_longlong=define, longlongsize=8, d_longdbl=define, longdblsize=12, longdblkind=3
    ivtype='long', ivsize=4, nvtype='double', nvsize=8, Off_t='off_t', lseeksize=8
    alignbytes=4, prototype=define
  Linker and Libraries:
    ld='/opt/SUNWspro/bin/cc', ldflags =' -L/usr/lib -L/usr/ccs/lib -L/opt/sunstudio12.1/prod/lib -L/lib -L/usr/gnu/lib '
    libpth=/usr/lib /usr/ccs/lib /opt/sunstudio12.1/prod/lib /lib /usr/gnu/lib
    libs=-lpthread -lsocket -lnsl -lgdbm -ldb -ldl -lm -lc
    perllibs=-lpthread -lsocket -lnsl -ldl -lm -lc
    libc=/lib/libc.so, so=so, useshrplib=true, libperl=libperl.so
    gnulibc_version=''
  Dynamic Linking:
    dlsrc=dl_dlopen.xs, dlext=so, d_dlsymun=undef, ccdlflags='  -R /home/stro/perl/5.24.2/lib/5.24.2/i86pc-solaris/CORE'
    cccdlflags='-KPIC', lddlflags='-G -L/usr/lib -L/usr/ccs/lib -L/opt/sunstudio12.1/prod/lib -L/lib -L/usr/gnu/lib'


Characteristics of this binary (from libperl): 
  Compile-time options: HAS_TIMES PERLIO_LAYERS PERL_COPY_ON_WRITE
                        PERL_DONT_CREATE_GVSV
                        PERL_HASH_FUNC_ONE_AT_A_TIME_HARD PERL_MALLOC_WRAP
                        PERL_PRESERVE_IVUV PERL_USE_SAFE_PUTENV
                        USE_LARGE_FILES USE_LOCALE USE_LOCALE_COLLATE
                        USE_LOCALE_CTYPE USE_LOCALE_NUMERIC USE_LOCALE_TIME
                        USE_PERLIO USE_PERL_ATOF
  Built under solaris
  Compiled at Sep 18 2017 10:00:14
  %ENV:
    PERL5LIB=""
    PERL5OPT=""
    PERL5_CPANPLUS_IS_RUNNING="4133"
    PERL5_CPAN_IS_RUNNING="4133"
    PERL5_CPAN_IS_RUNNING_IN_RECURSION="7241,4133"
    PERL_CR_SMOKER_CURRENT="Catmandu-AlephX-1.07"
    PERL_EXTUTILS_AUTOINSTALL="--defaultdeps"
    PERL_MM_USE_DEFAULT="1"
  @INC:
    /home/stro/perl/5.24.2/lib/site_perl/5.24.2/i86pc-solaris
    /home/stro/perl/5.24.2/lib/site_perl/5.24.2
    /home/stro/perl/5.24.2/lib/5.24.2/i86pc-solaris
    /home/stro/perl/5.24.2/lib/5.24.2
    .