Portable-Dist v1.09 Perl 5 v5.22.4 x86_64-linux
- Status
- Pass
- From
- Nigel Horne
- Dist
-
Portable-Dist v1.09
- Platform
- Perl 5 v5.22.4 x86_64-linux
- Date
- 2020-02-09 15:50:36
- ID
- e9efc490-4b53-11ea-bece-67e53ca39aa3
This distribution has been tested as part of the CPAN Testers
project, supporting the Perl programming language. See
http://wiki.cpantesters.org/ for more information or email
questions to cpan-testers-discuss@perl.org
--
Dear kmx,
This is a computer-generated report for Portable-Dist-1.09
on perl 5.22.4, created by CPAN-Reporter-1.2018.
Thank you for uploading your work to CPAN. Congratulations!
All tests were successful.
Sections of this report:
* Tester comments
* Program output
* Prerequisites
* Environment and other context
------------------------------
TESTER COMMENTS
------------------------------
Additional comments from tester:
this report is from an automated smoke testing program
and was not reviewed by a human for accuracy
------------------------------
PROGRAM OUTPUT
------------------------------
Output from '/usr/bin/make test':
PERL_DL_NONLAZY=1 "/home/smoker/perl5/perlbrew/perls/perl-5.22.4/bin/perl5.22.4" "-MExtUtils::Command::MM" "-MTest::Harness" "-e" "undef *Test::Harness::Switches; test_harness(0, 'blib/lib', 'blib/arch')" t/*.t
t/01_compile.t .. ok
$UMASK being true is deprecated it will be false by default in the future. This change is being made because this not the behavior of the unix command `chmod`. This warning can be disabled by putting explicitly setting $File::chmod::UMASK to false (0) to act like system chmod, or any non 2 true value see Github issue #5 at t/02_run.t line 40.
$UMASK being true is deprecated it will be false by default in the future. This change is being made because this not the behavior of the unix command `chmod`. This warning can be disabled by putting explicitly setting $File::chmod::UMASK to false (0) to act like system chmod, or any non 2 true value see Github issue #5 at t/02_run.t line 40.
$UMASK being true is deprecated it will be false by default in the future. This change is being made because this not the behavior of the unix command `chmod`. This warning can be disabled by putting explicitly setting $File::chmod::UMASK to false (0) to act like system chmod, or any non 2 true value see Github issue #5 at t/02_run.t line 40.
$UMASK being true is deprecated it will be false by default in the future. This change is being made because this not the behavior of the unix command `chmod`. This warning can be disabled by putting explicitly setting $File::chmod::UMASK to false (0) to act like system chmod, or any non 2 true value see Github issue #5 at t/02_run.t line 40.
$UMASK being true is deprecated it will be false by default in the future. This change is being made because this not the behavior of the unix command `chmod`. This warning can be disabled by putting explicitly setting $File::chmod::UMASK to false (0) to act like system chmod, or any non 2 true value see Github issue #5 at t/02_run.t line 40.
$UMASK being true is deprecated it will be false by default in the future. This change is being made because this not the behavior of the unix command `chmod`. This warning can be disabled by putting explicitly setting $File::chmod::UMASK to false (0) to act like system chmod, or any non 2 true value see Github issue #5 at t/02_run.t line 40.
$UMASK being true is deprecated it will be false by default in the future. This change is being made because this not the behavior of the unix command `chmod`. This warning can be disabled by putting explicitly setting $File::chmod::UMASK to false (0) to act like system chmod, or any non 2 true value see Github issue #5 at t/02_run.t line 40.
$UMASK being true is deprecated it will be false by default in the future. This change is being made because this not the behavior of the unix command `chmod`. This warning can be disabled by putting explicitly setting $File::chmod::UMASK to false (0) to act like system chmod, or any non 2 true value see Github issue #5 at t/02_run.t line 40.
t/03_batch.t .... skipped: Tests only runnable on Win32
$UMASK being true is deprecated it will be false by default in the future. This change is being made because this not the behavior of the unix command `chmod`. This warning can be disabled by putting explicitly setting $File::chmod::UMASK to false (0) to act like system chmod, or any non 2 true value see Github issue #5 at /tmp/build/File-IgnoreReadonly-0.01-0/blib/lib/File/IgnoreReadonly.pm line 111.
$UMASK being true is deprecated it will be false by default in the future. This change is being made because this not the behavior of the unix command `chmod`. This warning can be disabled by putting explicitly setting $File::chmod::UMASK to false (0) to act like system chmod, or any non 2 true value see Github issue #5 at /tmp/build/File-IgnoreReadonly-0.01-0/blib/lib/File/IgnoreReadonly.pm line 111.
$UMASK being true is deprecated it will be false by default in the future. This change is being made because this not the behavior of the unix command `chmod`. This warning can be disabled by putting explicitly setting $File::chmod::UMASK to false (0) to act like system chmod, or any non 2 true value see Github issue #5 at /tmp/build/File-IgnoreReadonly-0.01-0/blib/lib/File/IgnoreReadonly.pm line 111.
$UMASK being true is deprecated it will be false by default in the future. This change is being made because this not the behavior of the unix command `chmod`. This warning can be disabled by putting explicitly setting $File::chmod::UMASK to false (0) to act like system chmod, or any non 2 true value see Github issue #5 at /tmp/build/Portable-Dist-1.09-0/blib/lib/Portable/Dist.pm line 241.
$UMASK being true is deprecated it will be false by default in the future. This change is being made because this not the behavior of the unix command `chmod`. This warning can be disabled by putting explicitly setting $File::chmod::UMASK to false (0) to act like system chmod, or any non 2 true value see Github issue #5 at /tmp/build/File-IgnoreReadonly-0.01-0/blib/lib/File/IgnoreReadonly.pm line 111.
$UMASK being true is deprecated it will be false by default in the future. This change is being made because this not the behavior of the unix command `chmod`. This warning can be disabled by putting explicitly setting $File::chmod::UMASK to false (0) to act like system chmod, or any non 2 true value see Github issue #5 at /tmp/build/File-IgnoreReadonly-0.01-0/blib/lib/File/IgnoreReadonly.pm line 111.
$UMASK being true is deprecated it will be false by default in the future. This change is being made because this not the behavior of the unix command `chmod`. This warning can be disabled by putting explicitly setting $File::chmod::UMASK to false (0) to act like system chmod, or any non 2 true value see Github issue #5 at /tmp/build/File-IgnoreReadonly-0.01-0/blib/lib/File/IgnoreReadonly.pm line 111.
$UMASK being true is deprecated it will be false by default in the future. This change is being made because this not the behavior of the unix command `chmod`. This warning can be disabled by putting explicitly setting $File::chmod::UMASK to false (0) to act like system chmod, or any non 2 true value see Github issue #5 at /tmp/build/File-IgnoreReadonly-0.01-0/blib/lib/File/IgnoreReadonly.pm line 111.
$UMASK being true is deprecated it will be false by default in the future. This change is being made because this not the behavior of the unix command `chmod`. This warning can be disabled by putting explicitly setting $File::chmod::UMASK to false (0) to act like system chmod, or any non 2 true value see Github issue #5 at /tmp/build/File-IgnoreReadonly-0.01-0/blib/lib/File/IgnoreReadonly.pm line 111.
t/02_run.t ...... ok
All tests successful.
Files=3, Tests=44, 0 wallclock secs ( 0.04 usr 0.00 sys + 0.17 cusr 0.05 csys = 0.26 CPU)
Result: PASS
------------------------------
PREREQUISITES
------------------------------
Prerequisite modules loaded:
requires:
Module Need Have
--------------------- ----- --------
File::chmod 0.32 0.42
File::Copy::Recursive 0.35 0.44
File::Find::Rule 0.30 0.34
File::IgnoreReadonly 0.01 0.01
File::Remove 1.42 1.58
File::Slurper 0.008 0.012
File::Spec 3.47 3.75
Object::Tiny 1.04 1.09
Params::Util 0.31 1.07
perl 5.008 5.022004
Test::More 0.47 1.001014
build_requires:
Module Need Have
--------------------- ----- --------
ExtUtils::MakeMaker 0 7.34
configure_requires:
Module Need Have
--------------------- ----- --------
ExtUtils::MakeMaker 0 7.34
------------------------------
ENVIRONMENT AND OTHER CONTEXT
------------------------------
Environment variables:
AUTOMATED_TESTING = 1
HARNESS_OPTIONS = j2
NONINTERACTIVE_TESTING = 1
PATH = /home/smoker/perl5/perlbrew/bin:/home/smoker/perl5/perlbrew/perls/perl-5.22.4/bin:/usr/local/sbin:/usr/local/bin:/usr/sbin:/usr/bin:/sbin:/bin
PERL5LIB = /tmp/build/Params-Util-1.07-0/blib/arch:/tmp/build/Params-Util-1.07-0/blib/lib:/tmp/build/Object-Tiny-1.09-0/blib/arch:/tmp/build/Object-Tiny-1.09-0/blib/lib:/tmp/build/File-IgnoreReadonly-0.01-0/blib/arch:/tmp/build/File-IgnoreReadonly-0.01-0/blib/lib:/tmp/build/File-chmod-0.42-0/blib/arch:/tmp/build/File-chmod-0.42-0/blib/lib:/tmp/build/File-Remove-1.58-0/blib/arch:/tmp/build/File-Remove-1.58-0/blib/lib:/tmp/build/File-Find-Rule-0.34-0/blib/arch:/tmp/build/File-Find-Rule-0.34-0/blib/lib:/tmp/build/Text-Glob-0.11-0/blib/arch:/tmp/build/Text-Glob-0.11-0/blib/lib:/tmp/build/Number-Compare-0.03-0/blib/arch:/tmp/build/Number-Compare-0.03-0/blib/lib
PERL5OPT =
PERL5_CPANPLUS_IS_RUNNING = 1413869
PERL5_CPAN_IS_RUNNING = 1413869
PERLBREW_HOME = /home/smoker/.perlbrew
PERLBREW_MANPATH = /home/smoker/perl5/perlbrew/perls/perl-5.22.4/man
PERLBREW_PATH = /home/smoker/perl5/perlbrew/bin:/home/smoker/perl5/perlbrew/perls/perl-5.22.4/bin
PERLBREW_PERL = perl-5.22.4
PERLBREW_ROOT = /home/smoker/perl5/perlbrew
PERLBREW_SHELLRC_VERSION = 0.86
PERLBREW_VERSION = 0.86
PERL_MM_USE_DEFAULT = 1
PERL_USE_UNSAFE_INC = 1
SHELL = /bin/bash
TERM = xterm
TMPDIR = /tmp/testwrapper.1413858
Perl special variables (and OS-specific diagnostics, for MSWin32):
$^X = /home/smoker/perl5/perlbrew/perls/perl-5.22.4/bin/perl5.22.4
$UID/$EUID = 1000 / 1000
$GID = 1000
$EGID = 1000
Perl module toolchain versions installed:
Module Have
------------------- ----------
CPAN 2.22
CPAN::Meta 2.150001
Cwd 3.75
ExtUtils::CBuilder 0.280221
ExtUtils::Command 7.34
ExtUtils::Install 2.06
ExtUtils::MakeMaker 7.34
ExtUtils::Manifest 1.70
ExtUtils::ParseXS 3.28
File::Spec 3.75
JSON 4.00
JSON::PP 2.27300_01
Module::Build 0.4224
Module::Signature n/a
Parse::CPAN::Meta 1.4414_001
Test::Harness 3.35_01
Test::More 1.001014
YAML 1.27
YAML::Syck 1.31
version 0.9909
--
Summary of my perl5 (revision 5 version 22 subversion 4) configuration:
Platform:
osname=linux, osvers=4.16.0-2-amd64, archname=x86_64-linux
uname='linux c75a8c3329de 4.16.0-2-amd64 #1 smp debian 4.16.16-2 (2018-06-22) x86_64 gnulinux '
config_args='-de -Dprefix=/home/smoker/perl5/perlbrew/perls/perl-5.22.4 -Dusedevel -Accflags=-O2 -pipe -Wall -Wextra -mtune=native -march=native -Aeval:scriptdir=/home/smoker/perl5/perlbrew/perls/perl-5.22.4/bin'
hint=recommended, useposix=true, d_sigaction=define
useithreads=undef, usemultiplicity=undef
use64bitint=define, use64bitall=define, uselongdouble=undef
usemymalloc=n, bincompat5005=undef
Compiler:
cc='cc', ccflags ='-O2 -pipe -Wall -Wextra -mtune=native -march=native -fwrapv -fno-strict-aliasing -fstack-protector-strong -I/usr/local/include -D_LARGEFILE_SOURCE -D_FILE_OFFSET_BITS=64',
optimize='-O2',
cppflags='-O2 -pipe -Wall -Wextra -mtune=native -march=native -fwrapv -fno-strict-aliasing -fstack-protector-strong -I/usr/local/include'
ccversion='', gccversion='6.3.0 20170516', gccosandvers=''
intsize=4, longsize=8, ptrsize=8, doublesize=8, byteorder=12345678, doublekind=3
d_longlong=define, longlongsize=8, d_longdbl=define, longdblsize=16, longdblkind=3
ivtype='long', ivsize=8, nvtype='double', nvsize=8, Off_t='off_t', lseeksize=8
alignbytes=8, prototype=define
Linker and Libraries:
ld='cc', ldflags =' -fstack-protector-strong -L/usr/local/lib'
libpth=/usr/local/lib /usr/lib/gcc/x86_64-linux-gnu/6/include-fixed /usr/include/x86_64-linux-gnu /usr/lib /lib/x86_64-linux-gnu /lib/../lib /usr/lib/x86_64-linux-gnu /usr/lib/../lib /lib
libs=-lpthread -lnsl -ldl -lm -lcrypt -lutil -lc
perllibs=-lpthread -lnsl -ldl -lm -lcrypt -lutil -lc
libc=libc-2.24.so, so=so, useshrplib=false, libperl=libperl.a
gnulibc_version='2.24'
Dynamic Linking:
dlsrc=dl_dlopen.xs, dlext=so, d_dlsymun=undef, ccdlflags='-Wl,-E'
cccdlflags='-fPIC', lddlflags='-shared -O2 -L/usr/local/lib -fstack-protector-strong'
Characteristics of this binary (from libperl):
Compile-time options: HAS_TIMES PERLIO_LAYERS PERL_DONT_CREATE_GVSV
PERL_HASH_FUNC_ONE_AT_A_TIME_HARD PERL_MALLOC_WRAP
PERL_NEW_COPY_ON_WRITE PERL_PRESERVE_IVUV
PERL_USE_DEVEL USE_64_BIT_ALL USE_64_BIT_INT
USE_LARGE_FILES USE_LOCALE USE_LOCALE_COLLATE
USE_LOCALE_CTYPE USE_LOCALE_NUMERIC USE_LOCALE_TIME
USE_PERLIO USE_PERL_ATOF
Locally applied patches:
Devel::PatchPerl 1.52
Built under linux
Compiled at Jan 19 2019 18:14:18
%ENV:
PERL5LIB="/tmp/build/Params-Util-1.07-0/blib/arch:/tmp/build/Params-Util-1.07-0/blib/lib:/tmp/build/Object-Tiny-1.09-0/blib/arch:/tmp/build/Object-Tiny-1.09-0/blib/lib:/tmp/build/File-IgnoreReadonly-0.01-0/blib/arch:/tmp/build/File-IgnoreReadonly-0.01-0/blib/lib:/tmp/build/File-chmod-0.42-0/blib/arch:/tmp/build/File-chmod-0.42-0/blib/lib:/tmp/build/File-Remove-1.58-0/blib/arch:/tmp/build/File-Remove-1.58-0/blib/lib:/tmp/build/File-Find-Rule-0.34-0/blib/arch:/tmp/build/File-Find-Rule-0.34-0/blib/lib:/tmp/build/Text-Glob-0.11-0/blib/arch:/tmp/build/Text-Glob-0.11-0/blib/lib:/tmp/build/Number-Compare-0.03-0/blib/arch:/tmp/build/Number-Compare-0.03-0/blib/lib"
PERL5OPT=""
PERL5_CPANPLUS_IS_RUNNING="1413869"
PERL5_CPAN_IS_RUNNING="1413869"
PERLBREW_HOME="/home/smoker/.perlbrew"
PERLBREW_MANPATH="/home/smoker/perl5/perlbrew/perls/perl-5.22.4/man"
PERLBREW_PATH="/home/smoker/perl5/perlbrew/bin:/home/smoker/perl5/perlbrew/perls/perl-5.22.4/bin"
PERLBREW_PERL="perl-5.22.4"
PERLBREW_ROOT="/home/smoker/perl5/perlbrew"
PERLBREW_SHELLRC_VERSION="0.86"
PERLBREW_VERSION="0.86"
PERL_MM_USE_DEFAULT="1"
PERL_USE_UNSAFE_INC="1"
@INC:
/tmp/build/Params-Util-1.07-0/blib/arch
/tmp/build/Params-Util-1.07-0/blib/lib
/tmp/build/Object-Tiny-1.09-0/blib/arch
/tmp/build/Object-Tiny-1.09-0/blib/lib
/tmp/build/File-IgnoreReadonly-0.01-0/blib/arch
/tmp/build/File-IgnoreReadonly-0.01-0/blib/lib
/tmp/build/File-chmod-0.42-0/blib/arch
/tmp/build/File-chmod-0.42-0/blib/lib
/tmp/build/File-Remove-1.58-0/blib/arch
/tmp/build/File-Remove-1.58-0/blib/lib
/tmp/build/File-Find-Rule-0.34-0/blib/arch
/tmp/build/File-Find-Rule-0.34-0/blib/lib
/tmp/build/Text-Glob-0.11-0/blib/arch
/tmp/build/Text-Glob-0.11-0/blib/lib
/tmp/build/Number-Compare-0.03-0/blib/arch
/tmp/build/Number-Compare-0.03-0/blib/lib
/home/smoker/perl5/perlbrew/perls/perl-5.22.4/lib/site_perl/5.22.4/x86_64-linux
/home/smoker/perl5/perlbrew/perls/perl-5.22.4/lib/site_perl/5.22.4
/home/smoker/perl5/perlbrew/perls/perl-5.22.4/lib/5.22.4/x86_64-linux
/home/smoker/perl5/perlbrew/perls/perl-5.22.4/lib/5.22.4
.