Perl-Critic v1.152 Perl 5 v5.18.4 darwin-thread-multi-2level
- Status
- Pass
- From
- Burak Gursoy
- Dist
-
Perl-Critic v1.152
- Platform
- Perl 5 v5.18.4 darwin-thread-multi-2level
- Date
- 2023-10-19 01:36:21
- ID
- e86f8d60-6e1f-11ee-87e9-401c0d0b32d1
This distribution has been tested as part of the CPAN Testers
project, supporting the Perl programming language. See
http://wiki.cpantesters.org/ for more information or email
questions to cpan-testers-discuss@perl.org
--
Dear Andy Lester,
This is a computer-generated report for Perl-Critic-1.152
on perl 5.18.4, created by CPAN-Reporter-1.2018.
Thank you for uploading your work to CPAN. Congratulations!
All tests were successful.
Sections of this report:
* Tester comments
* Program output
* Prerequisites
* Environment and other context
------------------------------
TESTER COMMENTS
------------------------------
Additional comments from tester:
none provided
------------------------------
PROGRAM OUTPUT
------------------------------
Output from './Build test':
# Testing Perl::Critic 1.152 with PPI 1.277 under Perl 5.018004, /usr/bin/perl
t/00_modules.t ................................ ok
t/00_versions.t ............................... ok
t/01_config.t ................................. ok
t/01_config_bad_perlcriticrc.t ................ ok
t/01_policy_config.t .......................... ok
t/02_policy.t ................................. ok
t/03_annotations.t ............................ ok
t/03_pragmas.t ................................ ok
t/04_options_processor.t ...................... ok
t/05_utils.t .................................. ok
t/05_utils_perl.t ............................. ok
t/05_utils_pod.t .............................. ok
t/05_utils_ppi.t .............................. ok
t/06_violation.t .............................. ok
t/07_command.t ................................ ok
t/07_perlcritic.t ............................. ok
t/08_document.t ............................... ok
t/09_theme.t .................................. ok
t/10_user_profile.t ........................... ok
t/11_policy_factory.t ......................... ok
t/12_policy_listing.t ......................... ok
t/12_theme_listing.t .......................... ok
t/13_bundled_policies.t ....................... ok
t/14_policy_parameter_behavior_boolean.t ...... ok
t/14_policy_parameter_behavior_enumeration.t .. ok
t/14_policy_parameter_behavior_integer.t ...... ok
t/14_policy_parameter_behavior_list_string.t .. ok
t/14_policy_parameter_behavior_string.t ....... ok
t/14_policy_parameters.t ...................... ok
t/15_statistics.t ............................. ok
t/16_roundtrip_defaults.t ..................... ok
t/20_policies.t ............................... skipped: Test::Perl::Critic required to test Perl::Critic itself
t/20_policy_pod_spelling.t .................... ok
t/20_policy_prohibit_evil_modules.t ........... ok
t/20_policy_prohibit_hard_tabs.t .............. ok
t/20_policy_prohibit_trailing_whitespace.t .... ok
t/20_policy_require_consistent_newlines.t ..... ok
t/20_policy_require_tidy_code.t ............... ok
t/92_memory_leaks.t ........................... skipped: Test::Memory::Cycle required to test memory leaks
t/gh-734.t .................................... ok
All tests successful.
Files=40, Tests=5388, 95 wallclock secs ( 0.55 usr 0.14 sys + 64.17 cusr 12.55 csys = 77.41 CPU)
Result: PASS
------------------------------
PREREQUISITES
------------------------------
Prerequisite modules loaded:
requires:
Module Need Have
------------------------- -------- --------
B::Keywords 1.23 1.26
Carp 0 1.50
charnames 0 1.36
Config::Tiny 2 2.30
English 0 1.06_01
Exception::Class 1.23 1.45
Exporter 5.63 5.77
File::Basename 0 2.84
File::Find 0 1.23
File::Path 0 2.18
File::Spec 0 3.40
File::Spec::Unix 0 3.40
File::Temp 0 0.2311
File::Which 0 1.27
Getopt::Long 0 2.54
List::SomeUtils 0.55 0.59
List::Util 0 1.63
Module::Pluggable 3.1 5.2
overload 0 1.22
parent 0 0.225
perl 5.010001 5.018004
Perl::Tidy 0 20160302
Pod::PlainText 0 2.06
Pod::Select 0 1.60
Pod::Spell 1 1.20
Pod::Usage 0 1.61
PPI 1.277 1.277
PPI::Document 1.277 1.277
PPI::Document::File 1.277 1.277
PPI::Node 1.277 1.277
PPI::Token::Quote::Single 1.277 1.277
PPI::Token::Whitespace 1.277 1.277
PPIx::QuoteLike 0 0.023
PPIx::Regexp 0.027 0.088
PPIx::Regexp::Util 0.068 0.088
PPIx::Utils::Traversal 0.003 0.003
Readonly 2 2.05
Scalar::Util 0 1.63
strict 0 1.07
String::Format 1.18 1.18
Term::ANSIColor 2.02 4.02
Test::Builder 0.92 1.302195
Text::ParseWords 3 3.28
version 0.77 0.9902
warnings 0 1.18
build_requires:
Module Need Have
------------------------- -------- --------
lib 0 0.63
Test::More 0 1.302195
configure_requires:
Module Need Have
------------------------- -------- --------
B::Keywords 1.23 1.26
base 0 2.18
Carp 0 1.50
English 0 1.06_01
Exporter 5.63 5.77
lib 0 0.63
List::SomeUtils 0.55 0.59
Module::Build 0.4204 0.4234
------------------------------
ENVIRONMENT AND OTHER CONTEXT
------------------------------
Environment variables:
LC_CTYPE = UTF-8
PATH = /usr/local/bin:/usr/local/opt/sqlite/bin:/Users/burak/adb-fastboot/platform-tools:/Users/burak/google-cloud-sdk/bin:/Users/burak/.plenv/shims:/Users/burak/.plenv/bin:/Applications/Rakudo/bin:/opt/local/bin:/opt/local/sbin:/Users/burak/bin:/usr/local/bin:/usr/bin:/bin:/usr/sbin:/sbin:/Library/Apple/usr/bin:/usr/local/Cellar/rakudo/2022.07/share/perl6/site/bin:/opt/local/bin:/opt/local/sbin
PERL5LIB = /Users/burak/.cpan/build/Params-Check-0.38-0/blib/arch:/Users/burak/.cpan/build/Params-Check-0.38-0/blib/lib:/Users/burak/.cpan/build/Filter-Simple-0.94-0/blib/arch:/Users/burak/.cpan/build/Filter-Simple-0.94-0/blib/lib:/Users/burak/.cpan/build/Attribute-Handlers-0.99-0/blib/arch:/Users/burak/.cpan/build/Attribute-Handlers-0.99-0/blib/lib
PERL5OPT =
PERL5_CPANPLUS_IS_RUNNING = 3765
PERL5_CPAN_IS_RUNNING = 3765
PERL_USE_UNSAFE_INC = 1
SHELL = /bin/sh
TERM = xterm-256color
VERSIONER_PERL_VERSION = 5.18
Perl special variables (and OS-specific diagnostics, for MSWin32):
$^X = /usr/bin/perl
$UID/$EUID = 0 / 0
$GID = 0 0 1 2 3 4 5 8 9 12 20 29 61 80 33 98 100 204 250 395 398 399 400
$EGID = 0 0 1 2 3 4 5 8 9 12 20 29 61 80 33 98 100 204 250 395 398 399 400
Perl module toolchain versions installed:
Module Have
------------------- --------
CPAN 2.36
CPAN::Meta 2.150010
Cwd 3.40
ExtUtils::CBuilder 0.280236
ExtUtils::Command 7.70
ExtUtils::Install 2.22
ExtUtils::MakeMaker 7.70
ExtUtils::Manifest 1.75
ExtUtils::ParseXS 3.18
File::Spec 3.40
JSON 4.10
JSON::PP 4.16
Module::Build 0.4234
Module::Signature n/a
Parse::CPAN::Meta 2.150010
Test::Harness 3.36
Test::More 1.302195
YAML 1.30
YAML::Syck 1.27
version 0.9902
--
Summary of my perl5 (revision 5 version 18 subversion 4) configuration:
Platform:
osname=darwin, osvers=19.0, archname=darwin-thread-multi-2level
uname='darwin osx397.sd.apple.com 19.0 darwin kernel version 18.0.0: tue jul 9 11:12:08 pdt 2019; root:xnu-4903.201.2.100.7~1release_x86_64 x86_64 '
config_args='-ds -e -Dprefix=/usr -Dccflags=-g -pipe -Dldflags= -Dman3ext=3pm -Duseithreads -Duseshrplib -Dinc_version_list=none -Dcc=cc'
hint=recommended, useposix=true, d_sigaction=define
useithreads=define, usemultiplicity=define
useperlio=define, d_sfio=undef, uselargefiles=define, usesocks=undef
use64bitint=define, use64bitall=define, uselongdouble=undef
usemymalloc=n, bincompat5005=undef
Compiler:
cc='cc', ccflags =' -g -pipe -fno-common -DPERL_DARWIN -fno-strict-aliasing -fstack-protector',
optimize='-Os',
cppflags='-g -pipe -fno-common -DPERL_DARWIN -fno-strict-aliasing -fstack-protector'
ccversion='', gccversion='4.2.1 Compatible Apple LLVM 11.0.3 (clang-1103.0.29.20) (-macos10.15-objc-selector-opts)', gccosandvers=''
intsize=4, longsize=8, ptrsize=8, doublesize=8, byteorder=12345678
d_longlong=define, longlongsize=8, d_longdbl=define, longdblsize=16
ivtype='long', ivsize=8, nvtype='double', nvsize=8, Off_t='off_t', lseeksize=8
alignbytes=8, prototype=define
Linker and Libraries:
ld='cc', ldflags =' -fstack-protector'
libpth=/usr/lib /usr/local/lib
libs=
perllibs=
libc=, so=dylib, useshrplib=true, libperl=libperl.dylib
gnulibc_version=''
Dynamic Linking:
dlsrc=dl_dlopen.xs, dlext=bundle, d_dlsymun=undef, ccdlflags=' '
cccdlflags=' ', lddlflags=' -bundle -undefined dynamic_lookup -fstack-protector'
Characteristics of this binary (from libperl):
Compile-time options: HAS_TIMES MULTIPLICITY PERLIO_LAYERS
PERL_DONT_CREATE_GVSV
PERL_HASH_FUNC_ONE_AT_A_TIME_HARD
PERL_IMPLICIT_CONTEXT PERL_MALLOC_WRAP
PERL_PRESERVE_IVUV PERL_SAWAMPERSAND USE_64_BIT_ALL
USE_64_BIT_INT USE_ITHREADS USE_LARGE_FILES
USE_LOCALE USE_LOCALE_COLLATE USE_LOCALE_CTYPE
USE_LOCALE_NUMERIC USE_PERLIO USE_PERL_ATOF
USE_REENTRANT_API
Locally applied patches:
/Library/Perl/Updates/<version> comes before system perl directories
installprivlib and installarchlib points to the Updates directory
Built under darwin
Compiled at Jun 5 2020 17:34:07
%ENV:
PERL5LIB="/Users/burak/.cpan/build/Params-Check-0.38-0/blib/arch:/Users/burak/.cpan/build/Params-Check-0.38-0/blib/lib:/Users/burak/.cpan/build/Filter-Simple-0.94-0/blib/arch:/Users/burak/.cpan/build/Filter-Simple-0.94-0/blib/lib:/Users/burak/.cpan/build/Attribute-Handlers-0.99-0/blib/arch:/Users/burak/.cpan/build/Attribute-Handlers-0.99-0/blib/lib"
PERL5OPT=""
PERL5_CPANPLUS_IS_RUNNING="3765"
PERL5_CPAN_IS_RUNNING="3765"
PERL_USE_UNSAFE_INC="1"
@INC:
/Users/burak/.cpan/build/Params-Check-0.38-0/blib/arch
/Users/burak/.cpan/build/Params-Check-0.38-0/blib/lib
/Users/burak/.cpan/build/Filter-Simple-0.94-0/blib/arch
/Users/burak/.cpan/build/Filter-Simple-0.94-0/blib/lib
/Users/burak/.cpan/build/Attribute-Handlers-0.99-0/blib/arch
/Users/burak/.cpan/build/Attribute-Handlers-0.99-0/blib/lib
/Library/Perl/5.18/darwin-thread-multi-2level
/Library/Perl/5.18
/Network/Library/Perl/5.18/darwin-thread-multi-2level
/Network/Library/Perl/5.18
/Library/Perl/Updates/5.18.4/darwin-thread-multi-2level
/Library/Perl/Updates/5.18.4
/System/Library/Perl/5.18/darwin-thread-multi-2level
/System/Library/Perl/5.18
/System/Library/Perl/Extras/5.18/darwin-thread-multi-2level
/System/Library/Perl/Extras/5.18
.