App-perlimports v0.000025 Perl 5 v5.14.1 i86pc-solaris-64
- Status
- Pass
- From
- Chris Williams (BINGOS)
- Dist
-
App-perlimports v0.000025
- Platform
- Perl 5 v5.14.1 i86pc-solaris-64
- Date
- 2021-10-15 11:27:40
- ID
- e8602558-2daa-11ec-bc66-57723b537541
This distribution has been tested as part of the CPAN Testers
project, supporting the Perl programming language. See
http://wiki.cpantesters.org/ for more information or email
questions to cpan-testers-discuss@perl.org
--
Dear OALDERS,
This is a computer-generated error report created automatically by
CPANPLUS, version 0.9912. Testers personal comments may appear
at the end of this report.
Thank you for uploading your work to CPAN. Congratulations!
All tests were successful.
TEST RESULTS:
Below is the error stack from stage 'make test':
PERL_DL_NONLAZY=1 "/home/cpan/pit/bare/perl-5.14.1/bin/perl" "-MExtUtils::Command::MM" "-MTest::Harness" "-e" "undef *Test::Harness::Switches; test_harness(0, 'blib/lib', 'blib/arch')" t/*.t t/ExportInspector/*.t t/cpan-modules/*.t
#
# Versions for all modules listed in MYMETA.json (including optional ones):
#
# === Configure Requires ===
#
# Module Want Have
# ------------------- ---- ----
# ExtUtils::MakeMaker any 7.62
#
# === Build Requires ===
#
# Module Want Have
# ------------------- ---- ----
# ExtUtils::MakeMaker any 7.62
#
# === Test Requires ===
#
# Module Want Have
# ---------------------- ---- --------
# ExtUtils::MakeMaker any 7.62
# File::Spec any 3.75
# Log::Dispatch::Array any 1.003
# Sub::Exporter any 0.988
# Test::Differences any 0.68
# Test::More any 1.302186
# Test::Needs any 0.002009
# Test::RequiresInternet any 0.05
# Test::Script 1.27 1.29
# Test::Warnings any 0.031
# lib any 0.63
#
# === Test Recommends ===
#
# Module Want Have
# ---------- -------- --------
# CPAN::Meta 2.120900 2.150010
#
# === Runtime Requires ===
#
# Module Want Have
# ---------------------------- -------- --------
# Capture::Tiny any 0.48
# Class::Inspector 1.36 1.36
# Data::Dumper any 2.130_02
# Data::UUID any 1.226
# File::Basename any 2.82
# Getopt::Long::Descriptive any 0.109
# List::Util any 1.60
# Log::Dispatch 2.70 2.70
# Memoize any 1.02
# Module::Runtime any 0.016
# Moo any 2.005004
# Moo::Role any 2.005004
# MooX::StrictConstructor any 0.011
# PPI 1.270 1.270
# PPIx::Utils::Classification any 0.003
# Path::Tiny any 0.118
# Perl::Tidy 20210402 20210717
# Pod::Usage any 1.36
# Ref::Util any 0.204
# Sereal::Decoder any 4.018
# Sereal::Encoder any 4.018
# Sub::HandlesVia any 0.016
# Symbol::Get 0.10 0.10
# Text::SimpleTable::AutoWidth any 0.09
# Try::Tiny any 0.30
# Types::Standard any 1.012004
# strict any 1.04
# utf8 any 1.09
# warnings any 1.12
#
t/00-report-prereqs.t ............ ok
t/after.t ........................ skipped: Need List::AllUtils
t/annotations.t .................. ok
t/args-in-import.t ............... ok
t/carp.t ......................... ok
t/cast-in-regex.t ................ skipped: Need Lingua::EN::Inflect
t/cast.t ......................... skipped: Need Mojo::Util
t/cli.t .......................... skipped: Need Perl::Critic::Utils
t/cpan-modules/pithub.t .......... skipped: Need Pithub
t/cpan-modules/test2-v0.t ........ ok
t/datetime.t ..................... skipped: Need DateTime
t/do-block.t ..................... ok
t/Document.t ..................... ok
t/dump-perl-exports.t ............ skipped: Need Moose
t/dupes.t ........................ ok
t/english.t ...................... ok
t/explodes.t ..................... ok
t/export-tags.t .................. skipped: Need HTTP::Status 6.28
t/exported-variables.t ........... ok
t/ExportInspector/load.t ......... skipped: Need Import::Into, Moose, Test::Most
t/ExportInspector/SubExporter.t .. skipped: Need Import::Into, MetaCPAN::Moose, Moose, MooseX::Types::Moose, MooseX::Types::Path::Class, Path::Class
t/find-bin.t ..................... ok
t/fully-qualified.t .............. ok
t/func-in-use.t .................. ok
t/func-in-var.t .................. skipped: Need Mojo::Util
t/geo-ip.t ....................... skipped: Need Geo::IP
t/hash-in-regex.t ................ ok
t/hash-key.t ..................... skipped: Need HTTP::Status
t/heredoc.t ...................... skipped: Need Perl::Critic::Utils
t/ignored-modules.t .............. skipped: Need Geo::IP
t/import-error.t ................. ok
t/interpolation.t ................ ok
t/is-ignored.t ................... ok
t/lookalike-words.t .............. ok
t/meta.t ......................... ok
t/method.t ....................... skipped: Need LWP::UserAgent
t/module-with-inner-packages.t ... ok
t/moo.t .......................... skipped: Need Import::Into
t/moose-types.t .................. skipped: Need MooseX::Types::Path::Class
t/moose.t ........................ skipped: Need Import::Into, Moose
t/moosex-types-moose.t ........... skipped: Need MooseX::Types, MooseX::Types::Moose
t/nested-quotes.t ................ ok
t/never-exports.t ................ skipped: Need Cpanel::JSON::XS, LWP::UserAgent
t/padding.t ...................... ok
t/perl-imports.t ................. ok
t/perl.t ......................... ok
t/pragma.t ....................... ok
t/preserve-spaces.t .............. ok
t/qualified-bareword.t ........... ok
t/quoted-var.t ................... ok
t/re-export-via-sub-exporter.t ... ok
t/regex-replacement.t ............ skipped: Need IP::Random 1.200230
t/require.t ...................... skipped: Need LWP::UserAgent
t/Sandbox.t ...................... ok
t/script-with-inner-packages.t ... skipped: Need HTTP::Status
t/skip-all.t ..................... ok
t/socket.t ....................... ok
t/switches-in-import.t ........... ok
t/symbol-as-method-call.t ........ skipped: Need HTML::TableExtract, Object::Tap
t/symbol-in-export.t ............. skipped: Need HTTP::Status
t/test-most.t .................... skipped: Need Test::Most
t/typeglob.t ..................... skipped: Need File::chdir
t/use-and-require.t .............. ok
t/var-in-regex.t ................. skipped: Need Perl::Critic::Utils
t/variable.t ..................... ok
t/with-version.t ................. skipped: Need Cpanel::JSON::XS 4.19, Getopt::Long 2.4 (have 2.38), LWP::UserAgent 5
All tests successful.
Files=66, Tests=77, 52 wallclock secs ( 0.34 usr 0.23 sys + 44.07 cusr 6.71 csys = 51.34 CPU)
Result: PASS
PREREQUISITES:
Here is a list of prerequisites you specified and versions we
managed to load:
Module Name Have Want
Capture::Tiny 0.48 0
Class::Inspector 1.36 1.36
Data::Dumper 2.130_02 0
Data::UUID 1.226 0
ExtUtils::MakeMaker 7.62 0
File::Basename 2.82 0
File::Spec 3.75 0
Getopt::Long::Descriptive 0.109 0
List::Util 1.60 0
Log::Dispatch 2.70 2.70
Log::Dispatch::Array 1.003 0
Memoize 1.02 0
Module::Runtime 0.016 0
Moo 2.005004 0
Moo::Role 2.005004 0
MooX::StrictConstructor 0.011 0
PPI 1.270 1.270
PPIx::Utils::Classification 0.003 0
Path::Tiny 0.118 0
Perl::Tidy 20210717 20210402
Pod::Usage 1.36 0
Ref::Util 0.204 0
Sereal::Decoder 4.018 0
Sereal::Encoder 4.018 0
Sub::Exporter 0.988 0
Sub::HandlesVia 0.016 0
Symbol::Get 0.10 0.10
Test::Differences 0.68 0
Test::More 1.302186 0
Test::Needs 0.002009 0
Test::RequiresInternet 0.05 0
Test::Script 1.29 1.27
Test::Warnings 0.031 0
Text::SimpleTable::AutoWidth 0.09 0
Try::Tiny 0.30 0
Types::Standard 1.012004 0
lib 0.63 0
strict 1.04 0
utf8 1.09 0
warnings 1.12 0
Perl module toolchain versions installed:
Module Name Have
CPANPLUS 0.9912
CPANPLUS::Dist::Build 0.90
Cwd 3.75
ExtUtils::CBuilder 0.280236
ExtUtils::Command 7.62
ExtUtils::Install 2.20
ExtUtils::MakeMaker 7.62
ExtUtils::Manifest 1.73
ExtUtils::ParseXS 3.35
File::Spec 3.75
Module::Build 0.4231
Pod::Parser 1.37
Pod::Simple 3.16
Test2 1.302186
Test::Harness 3.42
Test::More 1.302186
version 0.9929
******************************** NOTE ********************************
The comments above are created mechanically, possibly without manual
checking by the sender. As there are many people performing automatic
tests on each upload to CPAN, it is likely that you will receive
identical messages about the same problem.
If you believe that the message is mistaken, please reply to the first
one with correction and/or additional informations, and do not take
it personally. We appreciate your patience. :)
**********************************************************************
Additional comments:
This report was machine-generated by CPANPLUS::Dist::YACSmoke 1.08.
Powered by minismokebox version 0.68
CPANPLUS is prefering Build.PL
------------------------------
ENVIRONMENT AND OTHER CONTEXT
------------------------------
Environment variables:
AUTOMATED_TESTING = 1
LANG = en_GB.UTF-8
NONINTERACTIVE_TESTING = 1
PATH = /home/cpan/pit/bare/conf/perl-5.14.1/.cpanplus/5.14.1/build/1zVoCf025B/App-perlimports-0.000025/blib/script:/usr/bin:/usr/sbin:/sbin:/opt/ooce/bin:/usr/gnu/bin
PERL5LIB = /home/cpan/pit/jail/LXU2ebYxNY/lib/perl5:/home/cpan/pit/bare/conf/perl-5.14.1/.cpanplus/5.14.1/build/1zVoCf025B/App-perlimports-0.000025/blib/lib:/home/cpan/pit/bare/conf/perl-5.14.1/.cpanplus/5.14.1/build/1zVoCf025B/App-perlimports-0.000025/blib/arch
PERL5_CPANPLUS_IS_RUNNING = 4433
PERL5_CPANPLUS_IS_VERSION = 0.9912
PERL5_MINISMOKEBOX = 0.68
PERL5_YACSMOKE_BASE = /home/cpan/pit/bare/conf/perl-5.14.1
PERL_EXTUTILS_AUTOINSTALL = --defaultdeps
PERL_LOCAL_LIB_ROOT = /home/cpan/pit/jail/LXU2ebYxNY
PERL_MB_OPT = --install_base "/home/cpan/pit/jail/LXU2ebYxNY"
PERL_MM_OPT = INSTALL_BASE=/home/cpan/pit/jail/LXU2ebYxNY
PERL_MM_USE_DEFAULT = 1
SHELL = /bin/bash
TERM = screen.xterm-256color
Perl special variables (and OS-specific diagnostics, for MSWin32):
Perl: $^X = /home/cpan/pit/bare/perl-5.14.1/bin/perl
UID: $< = 101
EUID: $> = 101
GID: $( = 101 101
EGID: $) = 101 101
-------------------------------
--
Summary of my perl5 (revision 5 version 14 subversion 1) configuration:
Platform:
osname=solaris, osvers=2.11, archname=i86pc-solaris-64
uname='sunos ouzel 5.11 omnios-r151034-0d278a0cc5 i86pc i386 i86pc '
config_args='-des -Dprefix=/home/cpan/pit/bare/perl-5.14.1 -Duse64bitall -Dcc=gcc'
hint=recommended, useposix=true, d_sigaction=define
useithreads=undef, usemultiplicity=undef
useperlio=define, d_sfio=undef, uselargefiles=define, usesocks=undef
use64bitint=define, use64bitall=define, uselongdouble=undef
usemymalloc=n, bincompat5005=undef
Compiler:
cc='gcc', ccflags ='-m64 -fwrapv -fno-strict-aliasing -pipe -fstack-protector -D_LARGEFILE_SOURCE -D_FILE_OFFSET_BITS=64 -DPERL_USE_SAFE_PUTENV',
optimize='-O',
cppflags='-m64 -fwrapv -fno-strict-aliasing -pipe -fstack-protector'
ccversion='', gccversion='9.3.0', gccosandvers=''
intsize=4, longsize=8, ptrsize=8, doublesize=8, byteorder=12345678
d_longlong=define, longlongsize=8, d_longdbl=define, longdblsize=16
ivtype='long', ivsize=8, nvtype='double', nvsize=8, Off_t='off_t', lseeksize=8
alignbytes=8, prototype=define
Linker and Libraries:
ld='gcc', ldflags =' -m64 -fstack-protector -L/usr/gnu/lib '
libpth=/usr/gnu/lib /usr/lib /usr/ccs/lib
libs=-lsocket -lnsl -ldl -lm -lc
perllibs=-lsocket -lnsl -ldl -lm -lc
libc=/lib/libc.so, so=so, useshrplib=true, libperl=libperl.so
gnulibc_version=''
Dynamic Linking:
dlsrc=dl_dlopen.xs, dlext=so, d_dlsymun=undef, ccdlflags=' -R /home/cpan/pit/bare/perl-5.14.1/lib/5.14.1/i86pc-solaris-64/CORE'
cccdlflags='-fPIC', lddlflags=' -shared -m64 -L/usr/gnu/lib -fstack-protector'
Characteristics of this binary (from libperl):
Compile-time options: PERL_DONT_CREATE_GVSV PERL_MALLOC_WRAP
PERL_PRESERVE_IVUV PERL_USE_SAFE_PUTENV
USE_64_BIT_ALL USE_64_BIT_INT USE_LARGE_FILES
USE_PERLIO USE_PERL_ATOF
Locally applied patches:
Devel::PatchPerl 2.00
Built under solaris
Compiled at Aug 19 2020 04:51:26
%ENV:
PERL5LIB="/home/cpan/pit/jail/LXU2ebYxNY/lib/perl5:/home/cpan/pit/bare/conf/perl-5.14.1/.cpanplus/5.14.1/build/1zVoCf025B/App-perlimports-0.000025/blib/lib:/home/cpan/pit/bare/conf/perl-5.14.1/.cpanplus/5.14.1/build/1zVoCf025B/App-perlimports-0.000025/blib/arch"
PERL5_CPANPLUS_IS_RUNNING="4433"
PERL5_CPANPLUS_IS_VERSION="0.9912"
PERL5_MINISMOKEBOX="0.68"
PERL5_YACSMOKE_BASE="/home/cpan/pit/bare/conf/perl-5.14.1"
PERL_EXTUTILS_AUTOINSTALL="--defaultdeps"
PERL_LOCAL_LIB_ROOT="/home/cpan/pit/jail/LXU2ebYxNY"
PERL_MB_OPT="--install_base "/home/cpan/pit/jail/LXU2ebYxNY""
PERL_MM_OPT="INSTALL_BASE=/home/cpan/pit/jail/LXU2ebYxNY"
PERL_MM_USE_DEFAULT="1"
@INC:
/home/cpan/pit/jail/LXU2ebYxNY/lib/perl5/5.14.1/i86pc-solaris-64
/home/cpan/pit/jail/LXU2ebYxNY/lib/perl5/5.14.1
/home/cpan/pit/jail/LXU2ebYxNY/lib/perl5/i86pc-solaris-64
/home/cpan/pit/jail/LXU2ebYxNY/lib/perl5
/home/cpan/pit/bare/conf/perl-5.14.1/.cpanplus/5.14.1/build/1zVoCf025B/App-perlimports-0.000025/blib/lib
/home/cpan/pit/bare/conf/perl-5.14.1/.cpanplus/5.14.1/build/1zVoCf025B/App-perlimports-0.000025/blib/arch
/home/cpan/pit/bare/perl-5.14.1/lib/site_perl/5.14.1/i86pc-solaris-64
/home/cpan/pit/bare/perl-5.14.1/lib/site_perl/5.14.1
/home/cpan/pit/bare/perl-5.14.1/lib/5.14.1/i86pc-solaris-64
/home/cpan/pit/bare/perl-5.14.1/lib/5.14.1
.