Dist-Zilla-PluginBundle-GitLab v1.0002 Perl 5 v5.22.3 i386-freebsd-thread-multi-64int

Status
Pass
From
Chris Williams (BINGOS)
Dist
Dist-Zilla-PluginBundle-GitLab v1.0002
Platform
Perl 5 v5.22.3 i386-freebsd-thread-multi-64int
Date
2022-01-13 12:47:02
ID
e7f094da-746e-11ec-bc66-57723b537541
This distribution has been tested as part of the CPAN Testers
project, supporting the Perl programming language.  See
http://wiki.cpantesters.org/ for more information or email
questions to cpan-testers-discuss@perl.org


--

Dear GEEKRUTH,

This is a computer-generated error report created automatically by
CPANPLUS, version 0.9914. Testers personal comments may appear
at the end of this report.


Thank you for uploading your work to CPAN.  Congratulations!
All tests were successful.

TEST RESULTS:

Below is the error stack from stage 'make test':

PERL_DL_NONLAZY=1 "/usr/home/cpan/pit/rel/perl-5.22.3/bin/perl5.22.3" "-MExtUtils::Command::MM" "-MTest::Harness" "-e" "undef *Test::Harness::Switches; test_harness(0, 'blib/lib', 'blib/arch')" t/*.t t/tests/dist/zilla/app/command/*.t t/tests/dist/zilla/plugin/gitlab/*.t t/tests/dist/zilla/pluginbundle/*.t
t/00-compile.t ............................. ok
# 
# Versions for all modules listed in MYMETA.json (including optional ones):
# 
# === Configure Requires ===
# 
#     Module              Want Have
#     ------------------- ---- ----
#     ExtUtils::MakeMaker  any 7.62
# 
# === Build Requires ===
# 
#     Module              Want Have
#     ------------------- ---- ----
#     ExtUtils::MakeMaker  any 7.62
# 
# === Test Requires ===
# 
#     Module                Want     Have
#     --------------------- ---- --------
#     ExtUtils::MakeMaker    any     7.62
#     File::Spec             any     3.75
#     FindBin                any     1.51
#     IO::Handle             any     1.35
#     IPC::Open3             any     1.18
#     Path::Tiny             any    0.120
#     Test2::Tools::Compare  any 0.000144
#     Test2::Tools::Explain  any     0.02
#     Test2::Tools::JSON     any     0.05
#     Test2::V0              any 0.000144
#     Test::DZil             any    6.024
#     Test::More             any 1.302188
#     lib                    any     0.63
#     strict                 any     1.09
#     warnings               any     1.34
# 
# === Test Recommends ===
# 
#     Module         Want     Have
#     ---------- -------- --------
#     CPAN::Meta 2.120900 2.150010
# 
# === Runtime Requires ===
# 
#     Module                                Want       Have
#     ------------------------------------- ---- ----------
#     Carp                                   any       1.36
#     Class::Load                            any       0.25
#     Cwd                                    any       3.75
#     Data::Dumper                           any      2.158
#     Dist::Zilla::App                       any      6.024
#     Dist::Zilla::Dist::Minter              any      6.024
#     Dist::Zilla::Role::AfterMint           any      6.024
#     Dist::Zilla::Role::AfterRelease        any      6.024
#     Dist::Zilla::Role::MetaProvider        any      6.024
#     Dist::Zilla::Role::PluginBundle::Easy  any      6.024
#     Dist::Zilla::Role::TextTemplate        any      6.024
#     File::Basename                         any       2.85
#     Git::Wrapper                           any      0.048
#     HTTP::Tiny                             any   0.054_01
#     JSON::MaybeXS                          any   1.004003
#     List::Util                             any       1.60
#     Modern::Perl                           any 1.20200211
#     Moose                                  any     2.2201
#     Try::Tiny                              any       0.31
#     URL::Encode                            any       0.03
# 
t/00-report-prereqs.t ...................... ok
t/tests/dist/zilla/app/command/gl.t ........ skipped: Tests for dzil gl commands not yet written.
t/tests/dist/zilla/plugin/gitlab/create.t .. skipped: Tests not yet written.
t/tests/dist/zilla/plugin/gitlab/meta.t .... skipped: Tests not yet written.
t/tests/dist/zilla/plugin/gitlab/update.t .. ok
t/tests/dist/zilla/pluginbundle/gitlab.t ... skipped: Tests not yet written.
All tests successful.
Files=7, Tests=8, 15 wallclock secs ( 0.11 usr  0.06 sys + 12.11 cusr  2.73 csys = 15.02 CPU)
Result: PASS


PREREQUISITES:

Here is a list of prerequisites you specified and versions we
managed to load:

	  Module Name                        Have     Want
	  Carp                               1.36        0
	  Class::Load                        0.25        0
	  Cwd                                3.75        0
	  Data::Dumper                      2.158        0
	  Dist::Zilla::App                  6.024        0
	  Dist::Zilla::Dist::Minter         6.024        0
	  Dist::Zilla::Role::AfterMint      6.024        0
	  Dist::Zilla::Role::AfterRelease    6.024        0
	  Dist::Zilla::Role::MetaProvider    6.024        0
	  Dist::Zilla::Role::PluginBundle::Easy    6.024        0
	  Dist::Zilla::Role::TextTemplate    6.024        0
	  ExtUtils::MakeMaker                7.62        0
	  File::Basename                     2.85        0
	  File::Spec                         3.75        0
	  FindBin                            1.51        0
	  Git::Wrapper                      0.048        0
	  HTTP::Tiny                     0.054_01        0
	  IO::Handle                         1.35        0
	  IPC::Open3                         1.18        0
	  JSON::MaybeXS                  1.004003        0
	  List::Util                         1.60        0
	  Modern::Perl                   1.20200211        0
	  Moose                            2.2201        0
	  Path::Tiny                        0.120        0
	  Test2::Tools::Compare          0.000144        0
	  Test2::Tools::Explain              0.02        0
	  Test2::Tools::JSON                 0.05        0
	  Test2::V0                      0.000144        0
	  Test::DZil                        6.024        0
	  Test::More                     1.302188        0
	  Try::Tiny                          0.31        0
	  URL::Encode                        0.03        0
	  lib                                0.63        0
	  strict                             1.09        0
	  warnings                           1.34        0

Perl module toolchain versions installed:
	Module Name                        Have
	CPANPLUS                         0.9914
	CPANPLUS::Dist::Build              0.90
	Cwd                                3.75
	ExtUtils::CBuilder             0.280236
	ExtUtils::Command                  7.62
	ExtUtils::Install                  2.20
	ExtUtils::MakeMaker                7.62
	ExtUtils::Manifest                 1.73
	ExtUtils::ParseXS                  3.35
	File::Spec                         3.75
	Module::Build                    0.4231
	Pod::Parser                        1.63
	Pod::Simple                        3.29
	Test2                          1.302188
	Test::Harness                      3.42
	Test::More                     1.302188
	version                          0.9929

******************************** NOTE ********************************
The comments above are created mechanically, possibly without manual
checking by the sender.  As there are many people performing automatic
tests on each upload to CPAN, it is likely that you will receive
identical messages about the same problem.

If you believe that the message is mistaken, please reply to the first
one with correction and/or additional informations, and do not take
it personally.  We appreciate your patience. :)
**********************************************************************

Additional comments:


This report was machine-generated by CPANPLUS::Dist::YACSmoke 1.08.
Powered by minismokebox version 0.68

CPANPLUS is prefering Build.PL

------------------------------
ENVIRONMENT AND OTHER CONTEXT
------------------------------

Environment variables:

    AUTOMATED_TESTING = 1
    LANG = C.UTF-8
    NONINTERACTIVE_TESTING = 1
    PATH = /sbin:/bin:/usr/sbin:/usr/bin:/usr/local/sbin:/usr/local/bin:/home/cpan/bin
    PERL5LIB = /usr/home/cpan/pit/jail/E6zcAtE2n5/lib/perl5:/usr/home/cpan/pit/rel/conf/perl-5.22.3/.cpanplus/5.22.3/build/HVP9iOqMs4/Dist-Zilla-PluginBundle-GitLab-1.0002/blib/lib:/usr/home/cpan/pit/rel/conf/perl-5.22.3/.cpanplus/5.22.3/build/HVP9iOqMs4/Dist-Zilla-PluginBundle-GitLab-1.0002/blib/arch
    PERL5_CPANPLUS_IS_RUNNING = 82729
    PERL5_CPANPLUS_IS_VERSION = 0.9914
    PERL5_MINISMOKEBOX = 0.68
    PERL5_YACSMOKE_BASE = /usr/home/cpan/pit/rel/conf/perl-5.22.3
    PERL_EXTUTILS_AUTOINSTALL = --defaultdeps
    PERL_LOCAL_LIB_ROOT = /usr/home/cpan/pit/jail/E6zcAtE2n5
    PERL_MB_OPT = --install_base "/usr/home/cpan/pit/jail/E6zcAtE2n5"
    PERL_MM_OPT = INSTALL_BASE=/usr/home/cpan/pit/jail/E6zcAtE2n5
    PERL_MM_USE_DEFAULT = 1
    SHELL = /usr/local/bin/bash
    TERM = screen

Perl special variables (and OS-specific diagnostics, for MSWin32):

    Perl: $^X = /usr/home/cpan/pit/rel/perl-5.22.3/bin/perl5.22.3
    UID:  $<  = 1002
    EUID: $>  = 1002
    GID:  $(  = 1002 1002
    EGID: $)  = 1002 1002


-------------------------------


--

Summary of my perl5 (revision 5 version 22 subversion 3) configuration:
   
  Platform:
    osname=freebsd, osvers=13.0-release, archname=i386-freebsd-thread-multi-64int
    uname='freebsd fiat 13.0-release freebsd 13.0-release #0 releng13.0-n244733-ea31abc261f: fri apr 9 04:04:45 utc 2021 root@releng1.nyi.freebsd.org:usrobjusrsrci386.i386sysgeneric i386 '
    config_args='-des -Dprefix=/usr/home/cpan/pit/rel/perl-5.22.3 -Dusethreads -Duse64bitint'
    hint=recommended, useposix=true, d_sigaction=define
    useithreads=define, usemultiplicity=define
    use64bitint=define, use64bitall=undef, uselongdouble=undef
    usemymalloc=n, bincompat5005=undef
  Compiler:
    cc='cc', ccflags ='-DHAS_FPSETMASK -DHAS_FLOATINGPOINT_H -fno-strict-aliasing -pipe -fstack-protector-strong -I/usr/local/include',
    optimize='-O2',
    cppflags='-DHAS_FPSETMASK -DHAS_FLOATINGPOINT_H -fno-strict-aliasing -pipe -fstack-protector-strong -I/usr/local/include'
    ccversion='', gccversion='FreeBSD Clang 11.0.1 (git@github.com:llvm/llvm-project.git llvmorg-11.0.1-0-g43ff75f2c3fe)', gccosandvers=''
    intsize=4, longsize=4, ptrsize=4, doublesize=8, byteorder=12345678, doublekind=3
    d_longlong=define, longlongsize=8, d_longdbl=define, longdblsize=12, longdblkind=3
    ivtype='long long', ivsize=8, nvtype='double', nvsize=8, Off_t='off_t', lseeksize=8
    alignbytes=4, prototype=define
  Linker and Libraries:
    ld='cc', ldflags ='-pthread -Wl,-E  -fstack-protector-strong -L/usr/local/lib'
    libpth=/usr/lib /usr/local/lib /usr/lib/clang/11.0.1/lib /usr/lib
    libs=-lpthread -lgdbm -ldl -lm -lcrypt -lutil
    perllibs=-lpthread -ldl -lm -lcrypt -lutil
    libc=, so=so, useshrplib=false, libperl=libperl.a
    gnulibc_version=''
  Dynamic Linking:
    dlsrc=dl_dlopen.xs, dlext=so, d_dlsymun=undef, ccdlflags=' '
    cccdlflags='-DPIC -fPIC', lddlflags='-shared  -L/usr/local/lib -fstack-protector-strong'


Characteristics of this binary (from libperl): 
  Compile-time options: HAS_TIMES MULTIPLICITY PERLIO_LAYERS
                        PERL_DONT_CREATE_GVSV
                        PERL_HASH_FUNC_ONE_AT_A_TIME_HARD
                        PERL_IMPLICIT_CONTEXT PERL_MALLOC_WRAP
                        PERL_NEW_COPY_ON_WRITE PERL_PRESERVE_IVUV
                        USE_64_BIT_INT USE_ITHREADS USE_LARGE_FILES
                        USE_LOCALE USE_LOCALE_COLLATE USE_LOCALE_CTYPE
                        USE_LOCALE_NUMERIC USE_LOCALE_TIME USE_PERLIO
                        USE_PERL_ATOF USE_REENTRANT_API
  Locally applied patches:
	Devel::PatchPerl 2.08
  Built under freebsd
  Compiled at Apr 19 2021 07:50:23
  %ENV:
    PERL5LIB="/usr/home/cpan/pit/jail/E6zcAtE2n5/lib/perl5:/usr/home/cpan/pit/rel/conf/perl-5.22.3/.cpanplus/5.22.3/build/HVP9iOqMs4/Dist-Zilla-PluginBundle-GitLab-1.0002/blib/lib:/usr/home/cpan/pit/rel/conf/perl-5.22.3/.cpanplus/5.22.3/build/HVP9iOqMs4/Dist-Zilla-PluginBundle-GitLab-1.0002/blib/arch"
    PERL5_CPANPLUS_IS_RUNNING="82729"
    PERL5_CPANPLUS_IS_VERSION="0.9914"
    PERL5_MINISMOKEBOX="0.68"
    PERL5_YACSMOKE_BASE="/usr/home/cpan/pit/rel/conf/perl-5.22.3"
    PERL_EXTUTILS_AUTOINSTALL="--defaultdeps"
    PERL_LOCAL_LIB_ROOT="/usr/home/cpan/pit/jail/E6zcAtE2n5"
    PERL_MB_OPT="--install_base "/usr/home/cpan/pit/jail/E6zcAtE2n5""
    PERL_MM_OPT="INSTALL_BASE=/usr/home/cpan/pit/jail/E6zcAtE2n5"
    PERL_MM_USE_DEFAULT="1"
  @INC:
    /usr/home/cpan/pit/jail/E6zcAtE2n5/lib/perl5/5.22.3/i386-freebsd-thread-multi-64int
    /usr/home/cpan/pit/jail/E6zcAtE2n5/lib/perl5/5.22.3
    /usr/home/cpan/pit/jail/E6zcAtE2n5/lib/perl5/i386-freebsd-thread-multi-64int
    /usr/home/cpan/pit/jail/E6zcAtE2n5/lib/perl5
    /usr/home/cpan/pit/rel/conf/perl-5.22.3/.cpanplus/5.22.3/build/HVP9iOqMs4/Dist-Zilla-PluginBundle-GitLab-1.0002/blib/lib
    /usr/home/cpan/pit/rel/conf/perl-5.22.3/.cpanplus/5.22.3/build/HVP9iOqMs4/Dist-Zilla-PluginBundle-GitLab-1.0002/blib/arch
    /usr/home/cpan/pit/rel/perl-5.22.3/lib/site_perl/5.22.3/i386-freebsd-thread-multi-64int
    /usr/home/cpan/pit/rel/perl-5.22.3/lib/site_perl/5.22.3
    /usr/home/cpan/pit/rel/perl-5.22.3/lib/5.22.3/i386-freebsd-thread-multi-64int
    /usr/home/cpan/pit/rel/perl-5.22.3/lib/5.22.3
    .