FFI-Platypus v2.07 Perl 5 v5.34.0 x86_64-linux-gnu-thread-multi

Status
Pass
From
Slaven Rezić
Dist
FFI-Platypus v2.07
Platform
Perl 5 v5.34.0 x86_64-linux-gnu-thread-multi
Date
2023-03-14 13:12:43
ID
e7d5d2cc-c269-11ed-a93b-5c516e8775ea
This distribution has been tested as part of the CPAN Testers
project, supporting the Perl programming language.  See
http://wiki.cpantesters.org/ for more information or email
questions to cpan-testers-discuss@perl.org


--
Dear Graham Ollis,

This is a computer-generated report for FFI-Platypus-2.07
on perl 5.34.0, created by CPAN-Reporter-1.2018.

Thank you for uploading your work to CPAN.  Congratulations!
All tests were successful.

Sections of this report:

    * Tester comments
    * Program output
    * Prerequisites
    * Environment and other context

------------------------------
TESTER COMMENTS
------------------------------

Additional comments from tester:

none provided

------------------------------
PROGRAM OUTPUT
------------------------------

Output from '/usr/bin/make test':

"/usr/bin/perl" -MExtUtils::Command::MM -e 'cp_nonempty' -- lib/FFI/Platypus.bs blib/arch/auto/FFI/Platypus/Platypus.bs 644
CC t/ffi/align.c
CC t/ffi/align_array.c
CC t/ffi/align_fixed.c
CC t/ffi/align_string.c
CC t/ffi/basic.c
CC t/ffi/closure.c
CC t/ffi/color.c
CC t/ffi/complex_double.c
CC t/ffi/complex_float.c
CC t/ffi/double.c
CC t/ffi/float.c
CC t/ffi/gh117.c
CC t/ffi/gh174.c
CC t/ffi/longdouble.c
CC t/ffi/memcmp4.c
CC t/ffi/meta.c
CC t/ffi/pointer.c
CC t/ffi/record.c
CC t/ffi/sint16.c
CC t/ffi/sint32.c
CC t/ffi/sint64.c
CC t/ffi/sint8.c
CC t/ffi/string.c
CC t/ffi/string_array.c
CC t/ffi/uint16.c
CC t/ffi/uint32.c
CC t/ffi/uint64.c
CC t/ffi/uint8.c
CC t/ffi/variadic.c
LD t/ffi/libtest.so
PERL_DL_NONLAZY=1 "/usr/bin/perl" "-MExtUtils::Command::MM" "-MTest::Harness" "-e" "undef *Test::Harness::Switches; test_harness(0, 'blib/lib', 'blib/arch')" t/*.t
# 
# 
# 
# HARNESS_ACTIVE=1
# HARNESS_VERSION=3.43
# LANG=en_US.UTF-8
# PERL5LIB=/home/cpansand/.cpan/build/2023031413/FFI-Platypus-2.07-2/blib/lib:/home/cpansand/.cpan/build/2023031413/FFI-Platypus-2.07-2/blib/arch:/home/cpansand/.local/share/.cpan/build/2023031413/FFI-CheckLib-0.31-0/blib/arch:/home/cpansand/.local/share/.cpan/build/2023031413/FFI-CheckLib-0.31-0/blib/lib:/home/cpansand/.local/share/.cpan/build/2023031413/Test2-Suite-0.000148-0/blib/arch:/home/cpansand/.local/share/.cpan/build/2023031413/Test2-Suite-0.000148-0/blib/lib:/home/cpansand/.local/share/.cpan/build/2023031413/Term-Table-0.016-0/blib/arch:/home/cpansand/.local/share/.cpan/build/2023031413/Term-Table-0.016-0/blib/lib:/home/cpansand/.local/share/.cpan/build/2023031413/Sub-Info-0.002-0/blib/arch:/home/cpansand/.local/share/.cpan/build/2023031413/Sub-Info-0.002-0/blib/lib:/home/cpansand/.local/share/.cpan/build/2023031413/Scope-Guard-0.21-0/blib/arch:/home/cpansand/.local/share/.cpan/build/2023031413/Scope-Guard-0.21-0/blib/lib:/home/cpansand/.local/share/.cpan/build/2023031413/Importer-0.026-0/blib/arch:/home/cpansand/.local/share/.cpan/build/2023031413/Importer-0.026-0/blib/lib:/home/cpansand/.local/share/.cpan/build/2023031413/FFI-CheckLib-0.31-0/blib/arch:/home/cpansand/.local/share/.cpan/build/2023031413/FFI-CheckLib-0.31-0/blib/lib:/home/cpansand/.local/share/.cpan/build/2023031413/Test2-Suite-0.000148-0/blib/arch:/home/cpansand/.local/share/.cpan/build/2023031413/Test2-Suite-0.000148-0/blib/lib:/home/cpansand/.local/share/.cpan/build/2023031413/Term-Table-0.016-0/blib/arch:/home/cpansand/.local/share/.cpan/build/2023031413/Term-Table-0.016-0/blib/lib:/home/cpansand/.local/share/.cpan/build/2023031413/Sub-Info-0.002-0/blib/arch:/home/cpansand/.local/share/.cpan/build/2023031413/Sub-Info-0.002-0/blib/lib:/home/cpansand/.local/share/.cpan/build/2023031413/Scope-Guard-0.21-0/blib/arch:/home/cpansand/.local/share/.cpan/build/2023031413/Scope-Guard-0.21-0/blib/lib:/home/cpansand/.local/share/.cpan/build/2023031413/Importer-0.026-0/blib/arch:/home/cpansand/.local/share/.cpan/build/2023031413/Importer-0.026-0/blib/lib
# PERL5OPT=
# PERL5_CPANPLUS_IS_RUNNING=4086732
# PERL5_CPAN_IS_RUNNING=4086732
# PERL5_CPAN_IS_RUNNING_IN_RECURSION=4086629,4086732
# PERLDOC=-MPod::Perldoc::ToTextOverstrike
# PERL_BATCH=yes
# PERL_CANARY_STABILITY_NOPROMPT=1
# PERL_CPAN_REPORTER_CONFIG=/var/tmp/cpansmoker-1023/2023031413/cpanreporter_000_config.ini
# PERL_DL_NONLAZY=1
# PERL_EXTUTILS_AUTOINSTALL=--defaultdeps
# PERL_USE_UNSAFE_INC=1
# SHELL=/usr/bin/zsh
# 
# 
# 
# PERL5LIB path
# /home/cpansand/.cpan/build/2023031413/FFI-Platypus-2.07-2/blib/lib
# /home/cpansand/.cpan/build/2023031413/FFI-Platypus-2.07-2/blib/arch
# /home/cpansand/.local/share/.cpan/build/2023031413/FFI-CheckLib-0.31-0/blib/arch
# /home/cpansand/.local/share/.cpan/build/2023031413/FFI-CheckLib-0.31-0/blib/lib
# /home/cpansand/.local/share/.cpan/build/2023031413/Test2-Suite-0.000148-0/blib/arch
# /home/cpansand/.local/share/.cpan/build/2023031413/Test2-Suite-0.000148-0/blib/lib
# /home/cpansand/.local/share/.cpan/build/2023031413/Term-Table-0.016-0/blib/arch
# /home/cpansand/.local/share/.cpan/build/2023031413/Term-Table-0.016-0/blib/lib
# /home/cpansand/.local/share/.cpan/build/2023031413/Sub-Info-0.002-0/blib/arch
# /home/cpansand/.local/share/.cpan/build/2023031413/Sub-Info-0.002-0/blib/lib
# /home/cpansand/.local/share/.cpan/build/2023031413/Scope-Guard-0.21-0/blib/arch
# /home/cpansand/.local/share/.cpan/build/2023031413/Scope-Guard-0.21-0/blib/lib
# /home/cpansand/.local/share/.cpan/build/2023031413/Importer-0.026-0/blib/arch
# /home/cpansand/.local/share/.cpan/build/2023031413/Importer-0.026-0/blib/lib
# /home/cpansand/.local/share/.cpan/build/2023031413/FFI-CheckLib-0.31-0/blib/arch
# /home/cpansand/.local/share/.cpan/build/2023031413/FFI-CheckLib-0.31-0/blib/lib
# /home/cpansand/.local/share/.cpan/build/2023031413/Test2-Suite-0.000148-0/blib/arch
# /home/cpansand/.local/share/.cpan/build/2023031413/Test2-Suite-0.000148-0/blib/lib
# /home/cpansand/.local/share/.cpan/build/2023031413/Term-Table-0.016-0/blib/arch
# /home/cpansand/.local/share/.cpan/build/2023031413/Term-Table-0.016-0/blib/lib
# /home/cpansand/.local/share/.cpan/build/2023031413/Sub-Info-0.002-0/blib/arch
# /home/cpansand/.local/share/.cpan/build/2023031413/Sub-Info-0.002-0/blib/lib
# /home/cpansand/.local/share/.cpan/build/2023031413/Scope-Guard-0.21-0/blib/arch
# /home/cpansand/.local/share/.cpan/build/2023031413/Scope-Guard-0.21-0/blib/lib
# /home/cpansand/.local/share/.cpan/build/2023031413/Importer-0.026-0/blib/arch
# /home/cpansand/.local/share/.cpan/build/2023031413/Importer-0.026-0/blib/lib
# 
# 
# 
# perl                  5.034000 linux x86_64-linux-gnu-thread-multi
# Alien::Base           -
# Alien::FFI            -
# Capture::Tiny         0.48
# Devel::Hide           -
# ExtUtils::CBuilder    0.280236
# ExtUtils::MakeMaker   7.62
# ExtUtils::ParseXS     3.43
# FFI::CheckLib         0.31
# File::Spec::Functions 3.80
# IPC::Cmd              1.04
# JSON::PP              4.06
# List::Util            1.55
# Math::LongDouble      -
# PkgConfig             -
# Test2::API            1.302183
# Test2::V0             0.000148
# autodie               2.34
# constant              1.33
# forks                 -
# parent                0.238
# 
# 
# 
# mode : system
# Alien::FFI::pkgconfig->VERSION      = 
# Alien::FFI::pkgconfig->install_type = system
# Alien::FFI::pkgconfig->cflags       = 
# Alien::FFI::pkgconfig->libs         = -lffi
# Alien::FFI::pkgconfig->version      = 3.4.2
# 
# 
# 
# ffi.platypus.memory.strdup_impl =libc
# ffi.platypus.memory.strndup_impl=libc
# 
# 
# 
# Types:
#   double   : double, float complex
#   float    : float
#   longdouble : double complex, long double, long double complex
#   sint16   : int16_t, short, signed short
#   sint32   : int, int32_t, senum, signed int, wchar_t
#   sint64   : blkcnt_t, blksize_t, int64_t, intmax_t, intptr_t, long, long long, off_t, ptrdiff_t, signed long, signed long long, ssize_t, time_t
#   sint8    : char, int8_t, signed char
#   uint16   : uint16_t, unsigned short, ushort
#   uint32   : enum, gid_t, mode_t, uid_t, uint, uint32_t, unsigned int, wint_t
#   uint64   : dev_t, ino_t, nlink_t, size_t, uint64_t, uintmax_t, uintptr_t, ulong, unsigned long, unsigned long long
#   uint8    : bool, uchar, uint8_t, unsigned char
# 
# 
# 
# ABIs:
#   default_abi          2
#   efi64                3
#   gnuw64               4
#   unix64               2
#   win64                3
# 
# 
# 
# Probes:
#   complex              1
#   bigendian64          0
#   recordvalue          1
#   longdouble           1
#   alloca               1
#   strnlen              1
#   abi                  1
#   bigendian            0
#   variadic             1
# 
# 
# 
# CPU Info:
#   model name	: AMD EPYC Processor
#   flags		: fpu vme de pse tsc msr pae mce cx8 apic sep mtrr pge mca cmov pat pse36 clflush mmx fxsr sse sse2 ht syscall nx mmxext fxsr_opt pdpe1gb rdtscp lm rep_good nopl cpuid extd_apicid tsc_known_freq pni pclmulqdq ssse3 fma cx16 sse4_1 sse4_2 x2apic movbe popcnt aes xsave avx f16c rdrand hypervisor lahf_lm cmp_legacy cr8_legacy abm sse4a misalignsse 3dnowprefetch osvw topoext perfctr_core ssbd ibrs ibpb stibp vmmcall fsgsbase bmi1 avx2 smep bmi2 rdseed adx smap clflushopt clwb sha_ni xsaveopt xsavec xgetbv1 xsaves clzero xsaveerptr wbnoinvd arat umip rdpid arch_capabilities
#   address sizes	: 40 bits physical, 48 bits virtual
# 
# 
# 
# No LSB modules are available.
# Distributor ID:	Ubuntu
# Description:	Ubuntu 22.04.1 LTS
# Release:	22.04
# Codename:	jammy
# 
# 
# 
# [PLATFORM]
# osname            : linux
# cc                : x86_64-linux-gnu-gcc
# cxx               : x86_64-linux-gnu-g++
# cxxld             : x86_64-linux-gnu-g++
# for               : x86_64-linux-gnu-gfortran
# ld                : x86_64-linux-gnu-gcc
# ccflags           : -fPIC -D_REENTRANT -D_GNU_SOURCE -DDEBIAN -fwrapv -fno-strict-aliasing -pipe -I/usr/local/include -D_LARGEFILE_SOURCE -D_FILE_OFFSET_BITS=64 -O2 -g -I/home/cpansand/.cpan/build/2023031413/FFI-Platypus-2.07-2/blib/lib/auto/share/dist/FFI-Platypus/include
# ldflags           : -shared -L/usr/local/lib -fstack-protector-strong
# object suffix     : .o
# library prefix    : lib
# library suffix    : .so
# cc mm works       : -MM
# 
# 
# 
t/00_diag.t .............................. ok
t/ffi_build.t ............................ ok
t/ffi_build_file_base.t .................. ok
t/ffi_build_file_c.t ..................... ok
t/ffi_build_file_cxx.t ................... ok
t/ffi_build_file_library.t ............... ok
t/ffi_build_file_object.t ................ ok
t/ffi_build_mm.t ......................... ok
t/ffi_build_platform.t ................... ok
t/ffi_build_plugin.t ..................... ok
t/ffi_build_plugindata.t ................. ok
t/ffi_platypus.t ......................... ok
t/ffi_platypus_api.t ..................... ok
t/ffi_platypus_buffer.t .................. ok
t/ffi_platypus_bundle.t .................. ok
t/ffi_platypus_closure.t ................. ok
t/ffi_platypus_constant.t ................ ok
t/ffi_platypus_dl.t ...................... ok
t/ffi_platypus_function.t ................ ok
t/ffi_platypus_function_wrapper.t ........ ok
t/ffi_platypus_internal.t ................ ok
t/ffi_platypus_lang.t .................... ok
t/ffi_platypus_lang_asm.t ................ ok
t/ffi_platypus_lang_c.t .................. ok
t/ffi_platypus_lang_win32.t .............. ok
t/ffi_platypus_legacy.t .................. ok
t/ffi_platypus_memory.t .................. ok
t/ffi_platypus_record.t .................. ok
t/ffi_platypus_record_meta.t ............. ok
t/ffi_platypus_record_tiearray.t ......... ok
t/ffi_platypus_shareconfig.t ............. ok
t/ffi_platypus_type.t .................... ok
t/ffi_platypus_type_pointersizebuffer.t .. ok
t/ffi_platypus_type_stringarray.t ........ ok
t/ffi_platypus_type_stringpointer.t ...... ok
t/ffi_platypus_type_widestring.t ......... ok
t/ffi_platypus_typeparser.t .............. ok
t/ffi_platypus_typeparser_version0.t ..... ok
t/ffi_platypus_typeparser_version1.t ..... ok
t/ffi_platypus_typeparser_version2.t ..... ok
t/ffi_probe.t ............................ ok
t/ffi_probe_runner.t ..................... ok
t/ffi_probe_runner_builder.t ............. ok
t/ffi_probe_runner_result.t .............. ok
t/ffi_temp.t ............................. ok
t/forks.t ................................ skipped: Test requires forks
t/gh117.t ................................ ok
t/gh129.t ................................ ok
t/gh323.t ................................ ok
t/memory.t ............................... skipped: tested only in CI
t/threads.t .............................. ok
t/type_complex_double.t .................. ok
t/type_complex_float.t ................... ok
t/type_custom.t .......................... ok
t/type_double.t .......................... ok
t/type_float.t ........................... ok
t/type_longdouble.t ...................... ok
t/type_longdouble__array.t ............... ok
t/type_longdouble__hide.t ................ skipped: test requires Devel::Hide 0.0010
t/type_longdouble__ptr.t ................. ok
t/type_opaque.t .......................... ok
t/type_record.t .......................... ok
t/type_record_value.t .................... ok
t/type_sint16.t .......................... ok
t/type_sint32.t .......................... ok
t/type_sint64.t .......................... ok
t/type_sint8.t ........................... ok
t/type_string.t .......................... ok
t/type_uint16.t .......................... ok
t/type_uint32.t .......................... ok
t/type_uint64.t .......................... ok
t/type_uint8.t ........................... ok
All tests successful.
Files=72, Tests=320, 12 wallclock secs ( 0.39 usr  0.08 sys + 10.46 cusr  1.74 csys = 12.67 CPU)
Result: PASS

------------------------------
PREREQUISITES
------------------------------

Prerequisite modules loaded:

requires:

    Module                Need     Have    
    --------------------- -------- --------
    autodie               0        2.34    
    Capture::Tiny         0        0.48    
    constant              1.32     1.33    
    ExtUtils::MakeMaker   7.12     7.62    
    FFI::CheckLib         0.05     0.31    
    File::Spec::Functions 0        3.80    
    IPC::Cmd              0        1.04    
    JSON::PP              0        4.06    
    List::Util            1.45     1.55    
    parent                0        0.238   
    perl                  5.008004 5.034000

build_requires:

    Module                Need     Have    
    --------------------- -------- --------
    Capture::Tiny         0        0.48    
    ExtUtils::CBuilder    0        0.280236
    Test2::API            1.302015 1.302183
    Test2::V0             0.000121 0.000148

configure_requires:

    Module                Need     Have    
    --------------------- -------- --------
    Capture::Tiny         0        0.48    
    ExtUtils::MakeMaker   7.12     7.62    
    ExtUtils::ParseXS     3.30     3.43    
    IPC::Cmd              0        1.04    
    JSON::PP              0        4.06    
    parent                0        0.238   
    perl                  5.006    5.034000


------------------------------
ENVIRONMENT AND OTHER CONTEXT
------------------------------

Environment variables:

    LANG = en_US.UTF-8
    PATH = /usr/local/bin:/usr/bin:/bin:/usr/local/sbin:/usr/sbin:/sbin:/home/cpansand/bin/linux-gnu:/home/cpansand/bin/sh:/home/cpansand/bin:/usr/games:/home/cpansand/devel:/home/eserte/src/srezic-misc/scripts
    PERL5LIB = /home/cpansand/.local/share/.cpan/build/2023031413/FFI-CheckLib-0.31-0/blib/arch:/home/cpansand/.local/share/.cpan/build/2023031413/FFI-CheckLib-0.31-0/blib/lib:/home/cpansand/.local/share/.cpan/build/2023031413/Test2-Suite-0.000148-0/blib/arch:/home/cpansand/.local/share/.cpan/build/2023031413/Test2-Suite-0.000148-0/blib/lib:/home/cpansand/.local/share/.cpan/build/2023031413/Term-Table-0.016-0/blib/arch:/home/cpansand/.local/share/.cpan/build/2023031413/Term-Table-0.016-0/blib/lib:/home/cpansand/.local/share/.cpan/build/2023031413/Sub-Info-0.002-0/blib/arch:/home/cpansand/.local/share/.cpan/build/2023031413/Sub-Info-0.002-0/blib/lib:/home/cpansand/.local/share/.cpan/build/2023031413/Scope-Guard-0.21-0/blib/arch:/home/cpansand/.local/share/.cpan/build/2023031413/Scope-Guard-0.21-0/blib/lib:/home/cpansand/.local/share/.cpan/build/2023031413/Importer-0.026-0/blib/arch:/home/cpansand/.local/share/.cpan/build/2023031413/Importer-0.026-0/blib/lib
    PERL5OPT = 
    PERL5_CPANPLUS_IS_RUNNING = 4086732
    PERL5_CPAN_IS_RUNNING = 4086732
    PERL5_CPAN_IS_RUNNING_IN_RECURSION = 4086629,4086732
    PERLDOC = -MPod::Perldoc::ToTextOverstrike
    PERL_BATCH = yes
    PERL_CANARY_STABILITY_NOPROMPT = 1
    PERL_CPAN_REPORTER_CONFIG = /var/tmp/cpansmoker-1023/2023031413/cpanreporter_000_config.ini
    PERL_EXTUTILS_AUTOINSTALL = --defaultdeps
    PERL_USE_UNSAFE_INC = 1
    SHELL = /usr/bin/zsh
    TERM = screen
    TMPDIR = /var/tmp/cpansmoker-1023/2023031413

Perl special variables (and OS-specific diagnostics, for MSWin32):

    $^X = /usr/bin/perl
    $UID/$EUID = 1023 / 1023
    $GID = 1023 1023
    $EGID = 1023 1023

Perl module toolchain versions installed:

    Module              Have    
    ------------------- --------
    CPAN                2.28    
    CPAN::Meta          2.150010
    Cwd                 3.80    
    ExtUtils::CBuilder  0.280236
    ExtUtils::Command   7.62    
    ExtUtils::Install   2.20    
    ExtUtils::MakeMaker 7.62    
    ExtUtils::Manifest  1.73    
    ExtUtils::ParseXS   3.43    
    File::Spec          3.80    
    JSON                4.04    
    JSON::PP            4.06    
    Module::Build       0.4231  
    Module::Signature   0.88    
    Parse::CPAN::Meta   2.150010
    Test::Harness       3.43    
    Test::More          1.302183
    YAML                1.30    
    YAML::Syck          1.34    
    version             0.9928  


--

Summary of my perl5 (revision 5 version 34 subversion 0) configuration:
   
  Platform:
    osname=linux
    osvers=4.19.0
    archname=x86_64-linux-gnu-thread-multi
    uname='linux localhost 4.19.0 #1 smp debian 4.19.0 x86_64 gnulinux '
    config_args='-Dmksymlinks -Dusethreads -Duselargefiles -Dcc=x86_64-linux-gnu-gcc -Dcpp=x86_64-linux-gnu-cpp -Dld=x86_64-linux-gnu-gcc -Dccflags=-DDEBIAN -Wdate-time -D_FORTIFY_SOURCE=2 -g -O2 -ffile-prefix-map=/dummy/build/dir=. -flto=auto -ffat-lto-objects -flto=auto -ffat-lto-objects -fstack-protector-strong -Wformat -Werror=format-security -Dldflags= -Wl,-Bsymbolic-functions -flto=auto -ffat-lto-objects -flto=auto -Wl,-z,relro -Dlddlflags=-shared -Wl,-Bsymbolic-functions -flto=auto -ffat-lto-objects -flto=auto -Wl,-z,relro -Dcccdlflags=-fPIC -Darchname=x86_64-linux-gnu -Dprefix=/usr -Dprivlib=/usr/share/perl/5.34 -Darchlib=/usr/lib/x86_64-linux-gnu/perl/5.34 -Dvendorprefix=/usr -Dvendorlib=/usr/share/perl5 -Dvendorarch=/usr/lib/x86_64-linux-gnu/perl5/5.34 -Dsiteprefix=/usr/local -Dsitelib=/usr/local/share/perl/5.34.0 -Dsitearch=/usr/local/lib/x86_64-linux-gnu/perl/5.34.0 -Dman1dir=/usr/share/man/man1 -Dman3dir=/usr/share/man/man3 -Dsiteman1dir=/usr/local/man/man1 -Dsiteman3dir=/usr/local/man/man3 -Duse64bitint -Dman1ext=1 -Dman3ext=3perl -Dpager=/usr/bin/sensible-pager -Uafs -Ud_csh -Ud_ualarm -Uusesfio -Uusenm -Ui_libutil -Ui_xlocale -Uversiononly -DDEBUGGING=-g -Doptimize=-O2 -dEs -Duseshrplib -Dlibperl=libperl.so.5.34.0'
    hint=recommended
    useposix=true
    d_sigaction=define
    useithreads=define
    usemultiplicity=define
    use64bitint=define
    use64bitall=define
    uselongdouble=undef
    usemymalloc=n
    default_inc_excludes_dot=define
  Compiler:
    cc='x86_64-linux-gnu-gcc'
    ccflags ='-D_REENTRANT -D_GNU_SOURCE -DDEBIAN -fwrapv -fno-strict-aliasing -pipe -I/usr/local/include -D_LARGEFILE_SOURCE -D_FILE_OFFSET_BITS=64'
    optimize='-O2 -g'
    cppflags='-D_REENTRANT -D_GNU_SOURCE -DDEBIAN -fwrapv -fno-strict-aliasing -pipe -I/usr/local/include'
    ccversion=''
    gccversion='11.2.0'
    gccosandvers=''
    intsize=4
    longsize=8
    ptrsize=8
    doublesize=8
    byteorder=12345678
    doublekind=3
    d_longlong=define
    longlongsize=8
    d_longdbl=define
    longdblsize=16
    longdblkind=3
    ivtype='long'
    ivsize=8
    nvtype='double'
    nvsize=8
    Off_t='off_t'
    lseeksize=8
    alignbytes=8
    prototype=define
  Linker and Libraries:
    ld='x86_64-linux-gnu-gcc'
    ldflags =' -fstack-protector-strong -L/usr/local/lib'
    libpth=/usr/local/lib /usr/lib/x86_64-linux-gnu /usr/lib /lib/x86_64-linux-gnu /lib
    libs=-lgdbm -lgdbm_compat -ldb -ldl -lm -lpthread -lc -lcrypt
    perllibs=-ldl -lm -lpthread -lc -lcrypt
    libc=/lib/x86_64-linux-gnu/libc.so.6
    so=so
    useshrplib=true
    libperl=libperl.so.5.34
    gnulibc_version='2.35'
  Dynamic Linking:
    dlsrc=dl_dlopen.xs
    dlext=so
    d_dlsymun=undef
    ccdlflags='-Wl,-E'
    cccdlflags='-fPIC'
    lddlflags='-shared -L/usr/local/lib -fstack-protector-strong'


Characteristics of this binary (from libperl): 
  Compile-time options:
    HAS_TIMES
    MULTIPLICITY
    PERLIO_LAYERS
    PERL_COPY_ON_WRITE
    PERL_DONT_CREATE_GVSV
    PERL_IMPLICIT_CONTEXT
    PERL_MALLOC_WRAP
    PERL_OP_PARENT
    PERL_PRESERVE_IVUV
    USE_64_BIT_ALL
    USE_64_BIT_INT
    USE_ITHREADS
    USE_LARGE_FILES
    USE_LOCALE
    USE_LOCALE_COLLATE
    USE_LOCALE_CTYPE
    USE_LOCALE_NUMERIC
    USE_LOCALE_TIME
    USE_PERLIO
    USE_PERL_ATOF
    USE_REENTRANT_API
    USE_THREAD_SAFE_LOCALE
  Locally applied patches:
    DEBPKG:debian/cpan_definstalldirs - Provide a sensible INSTALLDIRS default for modules installed from CPAN.
    DEBPKG:debian/db_file_ver - https://bugs.debian.org/340047 Remove overly restrictive DB_File version check.
    DEBPKG:debian/doc_info - Replace generic man(1) instructions with Debian-specific information.
    DEBPKG:debian/enc2xs_inc - https://bugs.debian.org/290336 Tweak enc2xs to follow symlinks and ignore missing @INC directories.
    DEBPKG:debian/errno_ver - https://bugs.debian.org/343351 Remove Errno version check due to upgrade problems with long-running processes.
    DEBPKG:debian/libperl_embed_doc - https://bugs.debian.org/186778 Note that libperl-dev package is required for embedded linking
    DEBPKG:fixes/respect_umask - Respect umask during installation
    DEBPKG:debian/writable_site_dirs - Set umask approproately for site install directories
    DEBPKG:debian/extutils_set_libperl_path - EU:MM: set location of libperl.a under /usr/lib
    DEBPKG:debian/no_packlist_perllocal - Don't install .packlist or perllocal.pod for perl or vendor
    DEBPKG:debian/fakeroot - Postpone LD_LIBRARY_PATH evaluation to the binary targets.
    DEBPKG:debian/instmodsh_doc - Debian policy doesn't install .packlist files for core or vendor.
    DEBPKG:debian/ld_run_path - Remove standard libs from LD_RUN_PATH as per Debian policy.
    DEBPKG:debian/libnet_config_path - Set location of libnet.cfg to /etc/perl/Net as /usr may not be writable.
    DEBPKG:debian/perlivp - https://bugs.debian.org/510895 Make perlivp skip include directories in /usr/local
    DEBPKG:debian/squelch-locale-warnings - https://bugs.debian.org/508764 Squelch locale warnings in Debian package maintainer scripts
    DEBPKG:debian/patchlevel - https://bugs.debian.org/567489 List packaged patches for 5.34.0-3ubuntu1.1 in patchlevel.h
    DEBPKG:fixes/document_makemaker_ccflags - https://bugs.debian.org/628522 [rt.cpan.org #68613] Document that CCFLAGS should include $Config{ccflags}
    DEBPKG:debian/find_html2text - https://bugs.debian.org/640479 Configure CPAN::Distribution with correct name of html2text
    DEBPKG:debian/perl5db-x-terminal-emulator.patch - https://bugs.debian.org/668490 Invoke x-terminal-emulator rather than xterm in perl5db.pl
    DEBPKG:debian/cpan-missing-site-dirs - https://bugs.debian.org/688842 Fix CPAN::FirstTime defaults with nonexisting site dirs if a parent is writable
    DEBPKG:fixes/memoize_storable_nstore - [rt.cpan.org #77790] https://bugs.debian.org/587650 Memoize::Storable: respect 'nstore' option not respected
    DEBPKG:debian/makemaker-pasthru - https://bugs.debian.org/758471 Pass LD settings through to subdirectories
    DEBPKG:debian/makemaker-manext - https://bugs.debian.org/247370 Make EU::MakeMaker honour MANnEXT settings in generated manpage headers
    DEBPKG:debian/kfreebsd-softupdates - https://bugs.debian.org/796798 Work around Debian Bug#796798
    DEBPKG:fixes/memoize-pod - [rt.cpan.org #89441] Fix POD errors in Memoize
    DEBPKG:debian/hurd-softupdates - https://bugs.debian.org/822735 Fix t/op/stat.t failures on hurd
    DEBPKG:fixes/math_complex_doc_great_circle - https://bugs.debian.org/697567 [rt.cpan.org #114104] Math::Trig: clarify definition of great_circle_midpoint
    DEBPKG:fixes/math_complex_doc_see_also - https://bugs.debian.org/697568 [rt.cpan.org #114105] Math::Trig: add missing SEE ALSO
    DEBPKG:fixes/math_complex_doc_angle_units - https://bugs.debian.org/731505 [rt.cpan.org #114106] Math::Trig: document angle units
    DEBPKG:fixes/cpan_web_link - https://bugs.debian.org/367291 CPAN: Add link to main CPAN web site
    DEBPKG:debian/hppa_op_optimize_workaround - https://bugs.debian.org/838613 Temporarily lower the optimization of op.c on hppa due to gcc-6 problems
    DEBPKG:debian/installman-utf8 - https://bugs.debian.org/840211 Generate man pages with UTF-8 characters
    DEBPKG:debian/hppa_opmini_optimize_workaround - https://bugs.debian.org/869122 Lower the optimization level of opmini.c on hppa
    DEBPKG:debian/sh4_op_optimize_workaround - https://bugs.debian.org/869373 Also lower the optimization level of op.c and opmini.c on sh4
    DEBPKG:debian/perldoc-pager - https://bugs.debian.org/870340 [rt.cpan.org #120229] Fix perldoc terminal escapes when sensible-pager is less
    DEBPKG:debian/prune_libs - https://bugs.debian.org/128355 Prune the list of libraries wanted to what we actually need.
    DEBPKG:debian/mod_paths - Tweak @INC ordering for Debian
    DEBPKG:debian/deprecate-with-apt - https://bugs.debian.org/747628 Point users to Debian packages of deprecated core modules
    DEBPKG:debian/disable-stack-check - https://bugs.debian.org/902779 [GH #16607] Disable debugperl stack extension checks for binary compatibility with perl
    DEBPKG:debian/perlbug-editor - https://bugs.debian.org/922609 Use "editor" as the default perlbug editor, as per Debian policy
    DEBPKG:debian/eu-mm-perl-base - https://bugs.debian.org/962138 Suppress an ExtUtils::MakeMaker warning about our non-default @INC
    DEBPKG:fixes/io_socket_ip_ipv6 - Disable getaddrinfo(3) AI_ADDRCONFIG for localhost and IPv4 numeric addresses
    DEBPKG:debian/usrmerge-lib64 - https://bugs.debian.org/914128 Configure / libpth.U: Do not adjust glibpth when /usr/lib64 is present.
    DEBPKG:debian/usrmerge-realpath - https://bugs.debian.org/914128 Configure / libpth.U: use realpath --no-symlinks on Debian
    DEBPKG:debian/configure-regen - https://bugs.debian.org/762638 Regenerate Configure et al. after probe unit changes
    DEBPKG:fixes/x32-io-msg-skip - https://bugs.debian.org/922609 Skip io/msg.t on x32 due to broken System V message queues
    DEBPKG:fixes/encode-CVE-2021-36770 - mitigate @INC pollution when loading ConfigLocal
    DEBPKG:fixes/gdbm-1.20 - https://bugs.debian.org/993514 [GH #18915] Fix GDBM_File to compile with version 1.20 and earlier
    DEBPKG:disable-libperl-tests -
    DEBPKG:CVE-2020-16156-1.patch - [PATCH] bugfix: signature verification type CANNOT_VERIFY was not recognized
    DEBPKG:CVE-2020-16156-2.patch - [PATCH] Add two new failure modes based on cpan_path
    DEBPKG:CVE-2020-16156-3.patch - [PATCH] use gpg --verify --output ... to disentangle data and signature
    DEBPKG:CVE-2020-16156-4.patch - [PATCH] replacing die with mydie in three spots
    DEBPKG:CVE-2020-16156-5.patch - [PATCH] disambiguate the call to gpg --output by adding --verify
    DEBPKG:CVE-2020-16156-6.patch - [PATCH] s/gpg/$gpg/ in system, add quotes where needed
    DEBPKG:CVE-2020-16156-7.patch - [PATCH] s,/dev/null,$devnull,
  Built under linux
  Compiled at Oct  4 2022 18:16:23
  %ENV:
    PERL5LIB="/home/cpansand/.local/share/.cpan/build/2023031413/FFI-CheckLib-0.31-0/blib/arch:/home/cpansand/.local/share/.cpan/build/2023031413/FFI-CheckLib-0.31-0/blib/lib:/home/cpansand/.local/share/.cpan/build/2023031413/Test2-Suite-0.000148-0/blib/arch:/home/cpansand/.local/share/.cpan/build/2023031413/Test2-Suite-0.000148-0/blib/lib:/home/cpansand/.local/share/.cpan/build/2023031413/Term-Table-0.016-0/blib/arch:/home/cpansand/.local/share/.cpan/build/2023031413/Term-Table-0.016-0/blib/lib:/home/cpansand/.local/share/.cpan/build/2023031413/Sub-Info-0.002-0/blib/arch:/home/cpansand/.local/share/.cpan/build/2023031413/Sub-Info-0.002-0/blib/lib:/home/cpansand/.local/share/.cpan/build/2023031413/Scope-Guard-0.21-0/blib/arch:/home/cpansand/.local/share/.cpan/build/2023031413/Scope-Guard-0.21-0/blib/lib:/home/cpansand/.local/share/.cpan/build/2023031413/Importer-0.026-0/blib/arch:/home/cpansand/.local/share/.cpan/build/2023031413/Importer-0.026-0/blib/lib"
    PERL5OPT=""
    PERL5_CPANPLUS_IS_RUNNING="4086732"
    PERL5_CPAN_IS_RUNNING="4086732"
    PERL5_CPAN_IS_RUNNING_IN_RECURSION="4086629,4086732"
    PERLDOC="-MPod::Perldoc::ToTextOverstrike"
    PERL_BATCH="yes"
    PERL_CANARY_STABILITY_NOPROMPT="1"
    PERL_CPAN_REPORTER_CONFIG="/var/tmp/cpansmoker-1023/2023031413/cpanreporter_000_config.ini"
    PERL_EXTUTILS_AUTOINSTALL="--defaultdeps"
    PERL_USE_UNSAFE_INC="1"
  @INC:
    /home/cpansand/.local/share/.cpan/build/2023031413/FFI-CheckLib-0.31-0/blib/arch
    /home/cpansand/.local/share/.cpan/build/2023031413/FFI-CheckLib-0.31-0/blib/lib
    /home/cpansand/.local/share/.cpan/build/2023031413/Test2-Suite-0.000148-0/blib/arch
    /home/cpansand/.local/share/.cpan/build/2023031413/Test2-Suite-0.000148-0/blib/lib
    /home/cpansand/.local/share/.cpan/build/2023031413/Term-Table-0.016-0/blib/arch
    /home/cpansand/.local/share/.cpan/build/2023031413/Term-Table-0.016-0/blib/lib
    /home/cpansand/.local/share/.cpan/build/2023031413/Sub-Info-0.002-0/blib/arch
    /home/cpansand/.local/share/.cpan/build/2023031413/Sub-Info-0.002-0/blib/lib
    /home/cpansand/.local/share/.cpan/build/2023031413/Scope-Guard-0.21-0/blib/arch
    /home/cpansand/.local/share/.cpan/build/2023031413/Scope-Guard-0.21-0/blib/lib
    /home/cpansand/.local/share/.cpan/build/2023031413/Importer-0.026-0/blib/arch
    /home/cpansand/.local/share/.cpan/build/2023031413/Importer-0.026-0/blib/lib
    /etc/perl
    /usr/local/lib/x86_64-linux-gnu/perl/5.34.0
    /usr/local/share/perl/5.34.0
    /usr/lib/x86_64-linux-gnu/perl5/5.34
    /usr/share/perl5
    /usr/lib/x86_64-linux-gnu/perl-base
    /usr/lib/x86_64-linux-gnu/perl/5.34
    /usr/share/perl/5.34
    /usr/local/lib/site_perl
    .