Math-Symbolic v0.612 Perl 5 v5.20.3 OpenBSD.amd64-openbsd-thread-multi

Status
Pass
From
Nigel Horne
Dist
Math-Symbolic v0.612
Platform
Perl 5 v5.20.3 OpenBSD.amd64-openbsd-thread-multi
Date
2018-01-31 21:51:34
ID
e7853eac-06d0-11e8-af2b-acaf1d79aee4
This distribution has been tested as part of the CPAN Testers
project, supporting the Perl programming language.  See
http://wiki.cpantesters.org/ for more information or email
questions to cpan-testers-discuss@perl.org


--
Dear Steffen Mueller,

This is a computer-generated report for Math-Symbolic-0.612
on perl 5.20.3, created by CPAN-Reporter-1.2018.

Thank you for uploading your work to CPAN.  Congratulations!
All tests were successful.

Sections of this report:

    * Tester comments
    * Program output
    * Prerequisites
    * Environment and other context

------------------------------
TESTER COMMENTS
------------------------------

Additional comments from tester:

this report is from an automated smoke testing program
and was not reviewed by a human for accuracy

------------------------------
PROGRAM OUTPUT
------------------------------

Output from './Build test':

t/01basic.t .............. ok
t/02basic.t .............. ok
t/03exp.t ................ ok
t/04deep_derivatives.t ... ok
t/05unary_minus.t ........ ok
t/06parser.t ............. ok
t/07simple_trig.t ........ ok
t/08parse_hyperbolic.t ... ok
t/09hyperbolic.t ......... ok
t/10hyperbolic.t ......... ok
t/11trigonometric.t ...... ok
t/12overload.t ........... ok
t/13parse_more.t ......... ok
t/14compile.t ............ ok
t/15total_derivatives.t .. ok
t/16tests.t .............. ok
t/17modifications.t ...... ok
t/18vectorcalc.t ......... ok
t/19misccalc.t ........... ok
t/20miscalgebra.t ........ ok
t/21more_derivatives.t ... ok
t/22dumpers.t ............ ok
t/90regression.t ......... ok
All tests successful.
Files=23, Tests=435, 42 wallclock secs ( 0.71 usr  0.35 sys + 35.37 cusr  4.63 csys = 41.06 CPU)
Result: PASS

------------------------------
PREREQUISITES
------------------------------

Prerequisite modules loaded:

requires:

    Module            Need Have    
    ----------------- ---- --------
    Data::Dumper      0    2.151_01
    Memoize           1.01 1.03    
    Parse::RecDescent 0    1.967015

build_requires:

    Module            Need Have    
    ----------------- ---- --------
    Test::More        0    1.302120

configure_requires:

    Module            Need Have    
    ----------------- ---- --------
    Module::Build     0.40 0.4224  


------------------------------
ENVIRONMENT AND OTHER CONTEXT
------------------------------

Environment variables:

    AUTOMATED_TESTING = 1
    PATH = /home/njh/perl5/perlbrew/bin:/home/njh/perl5/perlbrew/perls/perl-5.20.3-thread/bin:src/njh/smoker/bin:/usr/bin:/bin:/usr/sbin:/sbin:/usr/X11R6/bin:/usr/local/bin:/usr/local/sbin
    PERL5LIB = /home/njh/.cpan/build/Parse-RecDescent-1.967015-0/blib/arch:/home/njh/.cpan/build/Parse-RecDescent-1.967015-0/blib/lib:/home/njh/.cpan/build/Math-MatrixReal-2.13-0/blib/arch:/home/njh/.cpan/build/Math-MatrixReal-2.13-0/blib/lib:/home/njh/.cpan/build/Test-Most-0.35-2/blib/arch:/home/njh/.cpan/build/Test-Most-0.35-2/blib/lib:/home/njh/.cpan/build/Test-Differences-0.64-2/blib/arch:/home/njh/.cpan/build/Test-Differences-0.64-2/blib/lib:/home/njh/.cpan/build/Exception-Class-1.44-2/blib/arch:/home/njh/.cpan/build/Exception-Class-1.44-2/blib/lib:/home/njh/.cpan/build/Devel-StackTrace-2.03-2/blib/arch:/home/njh/.cpan/build/Devel-StackTrace-2.03-2/blib/lib:/home/njh/.cpan/build/Class-Data-Inheritable-0.08-2/blib/arch:/home/njh/.cpan/build/Class-Data-Inheritable-0.08-2/blib/lib
    PERL5OPT = 
    PERL5_CPANPLUS_IS_RUNNING = 8559
    PERL5_CPAN_IS_RUNNING = 8559
    PERLBREW_HOME = /home/njh/.perlbrew
    PERLBREW_MANPATH = /home/njh/perl5/perlbrew/perls/perl-5.20.3-thread/man
    PERLBREW_PATH = /home/njh/perl5/perlbrew/bin:/home/njh/perl5/perlbrew/perls/perl-5.20.3-thread/bin
    PERLBREW_PERL = perl-5.20.3-thread
    PERLBREW_ROOT = /home/njh/perl5/perlbrew
    PERLBREW_SHELLRC_VERSION = 0.82
    PERLBREW_VERSION = 0.82
    SHELL = /bin/sh

Perl special variables (and OS-specific diagnostics, for MSWin32):

    $^X = /home/njh/perl5/perlbrew/perls/perl-5.20.3-thread/bin/perl5.20.3
    $UID/$EUID = 1000 / 1000
    $GID = 1000 1000 0
    $EGID = 1000 1000 0

Perl module toolchain versions installed:

    Module              Have    
    ------------------- --------
    CPAN                2.16    
    CPAN::Meta          2.143240
    Cwd                 3.62    
    ExtUtils::CBuilder  0.280217
    ExtUtils::Command   7.30    
    ExtUtils::Install   2.06    
    ExtUtils::MakeMaker 7.30    
    ExtUtils::Manifest  1.70    
    ExtUtils::ParseXS   3.24    
    File::Spec          3.62    
    JSON                n/a     
    JSON::PP            2.27203 
    Module::Build       0.4224  
    Module::Signature   n/a     
    Parse::CPAN::Meta   1.4414  
    Test::Harness       3.39    
    Test::More          1.302120
    YAML                1.24    
    YAML::Syck          1.30    
    version             0.9909  


--

Summary of my perl5 (revision 5 version 20 subversion 3) configuration:
   
  Platform:
    osname=openbsd, osvers=6.2, archname=OpenBSD.amd64-openbsd-thread-multi
    uname='openbsd netgate1.bandsman.co.uk 6.2 generic.mp#2 amd64 '
    config_args='-de -Dprefix=/home/njh/perl5/perlbrew/perls/perl-5.20.3-thread -Dusedevel -Dusethreads -Accflags= -Aeval:scriptdir=/home/njh/perl5/perlbrew/perls/perl-5.20.3-thread/bin'
    hint=recommended, useposix=true, d_sigaction=define
    useithreads=define, usemultiplicity=define
    use64bitint=define, use64bitall=define, uselongdouble=undef
    usemymalloc=n, bincompat5005=undef
  Compiler:
    cc='cc', ccflags ='-pthread -fno-strict-aliasing -pipe -fstack-protector -I/usr/local/include',
    optimize='-O2',
    cppflags='-pthread -fno-strict-aliasing -pipe -fstack-protector -I/usr/local/include'
    ccversion='', gccversion='4.2.1 Compatible OpenBSD Clang 4.0.0 (tags/RELEASE_400/final)', gccosandvers=''
    intsize=4, longsize=8, ptrsize=8, doublesize=8, byteorder=12345678
    d_longlong=define, longlongsize=8, d_longdbl=define, longdblsize=16
    ivtype='long', ivsize=8, nvtype='double', nvsize=8, Off_t='off_t', lseeksize=8
    alignbytes=8, prototype=define
  Linker and Libraries:
    ld='cc', ldflags ='-pthread -Wl,-E  -fstack-protector -L/usr/local/lib'
    libpth=/usr/lib /usr/local/lib
    libs=-lpthread -lm -lutil -lc
    perllibs=-lpthread -lm -lutil -lc
    libc=/usr/lib/libc.so.90.0, so=so, useshrplib=false, libperl=libperl.a
    gnulibc_version=''
  Dynamic Linking:
    dlsrc=dl_dlopen.xs, dlext=so, d_dlsymun=undef, ccdlflags=' '
    cccdlflags='-DPIC -fPIC ', lddlflags='-shared -fPIC  -L/usr/local/lib -fstack-protector'


Characteristics of this binary (from libperl): 
  Compile-time options: HAS_TIMES MULTIPLICITY PERLIO_LAYERS
                        PERL_DONT_CREATE_GVSV
                        PERL_HASH_FUNC_ONE_AT_A_TIME_HARD
                        PERL_IMPLICIT_CONTEXT PERL_MALLOC_WRAP
                        PERL_NEW_COPY_ON_WRITE PERL_PRESERVE_IVUV
                        PERL_USE_DEVEL USE_64_BIT_ALL USE_64_BIT_INT
                        USE_ITHREADS USE_LARGE_FILES USE_LOCALE
                        USE_LOCALE_COLLATE USE_LOCALE_CTYPE
                        USE_LOCALE_NUMERIC USE_PERLIO USE_PERL_ATOF
                        USE_REENTRANT_API
  Locally applied patches:
	Devel::PatchPerl 1.48
  Built under openbsd
  Compiled at Jan 20 2018 09:29:03
  %ENV:
    PERL5LIB="/home/njh/.cpan/build/Parse-RecDescent-1.967015-0/blib/arch:/home/njh/.cpan/build/Parse-RecDescent-1.967015-0/blib/lib:/home/njh/.cpan/build/Math-MatrixReal-2.13-0/blib/arch:/home/njh/.cpan/build/Math-MatrixReal-2.13-0/blib/lib:/home/njh/.cpan/build/Test-Most-0.35-2/blib/arch:/home/njh/.cpan/build/Test-Most-0.35-2/blib/lib:/home/njh/.cpan/build/Test-Differences-0.64-2/blib/arch:/home/njh/.cpan/build/Test-Differences-0.64-2/blib/lib:/home/njh/.cpan/build/Exception-Class-1.44-2/blib/arch:/home/njh/.cpan/build/Exception-Class-1.44-2/blib/lib:/home/njh/.cpan/build/Devel-StackTrace-2.03-2/blib/arch:/home/njh/.cpan/build/Devel-StackTrace-2.03-2/blib/lib:/home/njh/.cpan/build/Class-Data-Inheritable-0.08-2/blib/arch:/home/njh/.cpan/build/Class-Data-Inheritable-0.08-2/blib/lib"
    PERL5OPT=""
    PERL5_CPANPLUS_IS_RUNNING="8559"
    PERL5_CPAN_IS_RUNNING="8559"
    PERLBREW_HOME="/home/njh/.perlbrew"
    PERLBREW_MANPATH="/home/njh/perl5/perlbrew/perls/perl-5.20.3-thread/man"
    PERLBREW_PATH="/home/njh/perl5/perlbrew/bin:/home/njh/perl5/perlbrew/perls/perl-5.20.3-thread/bin"
    PERLBREW_PERL="perl-5.20.3-thread"
    PERLBREW_ROOT="/home/njh/perl5/perlbrew"
    PERLBREW_SHELLRC_VERSION="0.82"
    PERLBREW_VERSION="0.82"
  @INC:
    /home/njh/.cpan/build/Parse-RecDescent-1.967015-0/blib/arch
    /home/njh/.cpan/build/Parse-RecDescent-1.967015-0/blib/lib
    /home/njh/.cpan/build/Math-MatrixReal-2.13-0/blib/arch
    /home/njh/.cpan/build/Math-MatrixReal-2.13-0/blib/lib
    /home/njh/.cpan/build/Test-Most-0.35-2/blib/arch
    /home/njh/.cpan/build/Test-Most-0.35-2/blib/lib
    /home/njh/.cpan/build/Test-Differences-0.64-2/blib/arch
    /home/njh/.cpan/build/Test-Differences-0.64-2/blib/lib
    /home/njh/.cpan/build/Exception-Class-1.44-2/blib/arch
    /home/njh/.cpan/build/Exception-Class-1.44-2/blib/lib
    /home/njh/.cpan/build/Devel-StackTrace-2.03-2/blib/arch
    /home/njh/.cpan/build/Devel-StackTrace-2.03-2/blib/lib
    /home/njh/.cpan/build/Class-Data-Inheritable-0.08-2/blib/arch
    /home/njh/.cpan/build/Class-Data-Inheritable-0.08-2/blib/lib
    /home/njh/perl5/perlbrew/perls/perl-5.20.3-thread/lib/site_perl/5.20.3/OpenBSD.amd64-openbsd-thread-multi
    /home/njh/perl5/perlbrew/perls/perl-5.20.3-thread/lib/site_perl/5.20.3
    /home/njh/perl5/perlbrew/perls/perl-5.20.3-thread/lib/5.20.3/OpenBSD.amd64-openbsd-thread-multi
    /home/njh/perl5/perlbrew/perls/perl-5.20.3-thread/lib/5.20.3
    .