FFI-Platypus v1.10 Perl 5 v5.31.9 amd64-freebsd
- Status
- Pass
- From
- Slaven Rezić (SREZIC)
- Dist
-
FFI-Platypus v1.10
- Platform
- Perl 5 v5.31.9 amd64-freebsd
- Date
- 2020-03-09 09:25:23
- ID
- e759c320-61e7-11ea-a667-d84f1f24ea8f
This distribution has been tested as part of the CPAN Testers
project, supporting the Perl programming language. See
http://wiki.cpantesters.org/ for more information or email
questions to cpan-testers-discuss@perl.org
--
Dear Graham Ollis,
This is a computer-generated report for FFI-Platypus-1.10
on perl 5.31.9, created by CPAN-Reporter-1.2018.
Thank you for uploading your work to CPAN. Congratulations!
All tests were successful.
Sections of this report:
* Tester comments
* Program output
* Prerequisites
* Environment and other context
------------------------------
TESTER COMMENTS
------------------------------
Additional comments from tester:
none provided
------------------------------
PROGRAM OUTPUT
------------------------------
Output from '/usr/bin/make test':
"/usr/perl5.31.9p/bin/perl5.31.9" -MExtUtils::Command::MM -e 'cp_nonempty' -- lib/FFI/Platypus.bs blib/arch/auto/FFI/Platypus/Platypus.bs 644
CC t/ffi/align.c
CC t/ffi/align_array.c
CC t/ffi/align_fixed.c
CC t/ffi/align_string.c
CC t/ffi/basic.c
CC t/ffi/closure.c
CC t/ffi/color.c
CC t/ffi/complex_double.c
CC t/ffi/complex_float.c
CC t/ffi/double.c
CC t/ffi/float.c
CC t/ffi/gh117.c
CC t/ffi/gh174.c
CC t/ffi/longdouble.c
CC t/ffi/memcmp4.c
CC t/ffi/meta.c
CC t/ffi/pointer.c
CC t/ffi/record.c
CC t/ffi/sint16.c
CC t/ffi/sint32.c
CC t/ffi/sint64.c
CC t/ffi/sint8.c
CC t/ffi/string.c
CC t/ffi/string_array.c
CC t/ffi/uint16.c
CC t/ffi/uint32.c
CC t/ffi/uint64.c
CC t/ffi/uint8.c
CC t/ffi/variadic.c
LD t/ffi/libtest.so
PERL_DL_NONLAZY=1 "/usr/perl5.31.9p/bin/perl5.31.9" "-MExtUtils::Command::MM" "-MTest::Harness" "-e" "undef *Test::Harness::Switches; test_harness(0, 'blib/lib', 'blib/arch')" t/*.t
#
#
#
# HARNESS_ACTIVE=1
# HARNESS_VERSION=3.42
# PERL5LIB=/usr/home/cpansand/.cpan/build/2020030909/FFI-Platypus-1.10-0/blib/lib:/usr/home/cpansand/.cpan/build/2020030909/FFI-Platypus-1.10-0/blib/arch:/home/cpansand/.cpan/build/2020030909/Acme-Alien-DontPanic-2.0400-2/blib/arch:/home/cpansand/.cpan/build/2020030909/Acme-Alien-DontPanic-2.0400-2/blib/lib:/home/cpansand/.cpan/build/2020030909/Alien-Base-ModuleBuild-1.14-4/blib/arch:/home/cpansand/.cpan/build/2020030909/Alien-Base-ModuleBuild-1.14-4/blib/lib:/home/cpansand/.cpan/build/2020030909/Shell-Config-Generate-0.34-1/blib/arch:/home/cpansand/.cpan/build/2020030909/Shell-Config-Generate-0.34-1/blib/lib:/home/cpansand/.cpan/build/2020030909/Shell-Guess-0.09-1/blib/arch:/home/cpansand/.cpan/build/2020030909/Shell-Guess-0.09-1/blib/lib:/home/cpansand/.cpan/build/2020030909/Unix-Process-1.3101-1/blib/arch:/home/cpansand/.cpan/build/2020030909/Unix-Process-1.3101-1/blib/lib:/home/cpansand/.cpan/build/2020030909/Acme-Alien-DontPanic-2.0400-2/blib/arch:/home/cpansand/.cpan/build/2020030909/Acme-Alien-DontPanic-2.0400-2/blib/lib:/home/cpansand/.cpan/build/2020030909/Alien-Base-ModuleBuild-1.14-4/blib/arch:/home/cpansand/.cpan/build/2020030909/Alien-Base-ModuleBuild-1.14-4/blib/lib:/home/cpansand/.cpan/build/2020030909/Shell-Config-Generate-0.34-1/blib/arch:/home/cpansand/.cpan/build/2020030909/Shell-Config-Generate-0.34-1/blib/lib:/home/cpansand/.cpan/build/2020030909/Shell-Guess-0.09-1/blib/arch:/home/cpansand/.cpan/build/2020030909/Shell-Guess-0.09-1/blib/lib:/home/cpansand/.cpan/build/2020030909/Unix-Process-1.3101-1/blib/arch:/home/cpansand/.cpan/build/2020030909/Unix-Process-1.3101-1/blib/lib
# PERL5OPT=
# PERL5_CPANPLUS_IS_RUNNING=27790
# PERL5_CPAN_IS_RUNNING=27790
# PERL5_CPAN_IS_RUNNING_IN_RECURSION=5777,27790
# PERL_BATCH=yes
# PERL_CANARY_STABILITY_NOPROMPT=1
# PERL_CPAN_REPORTER_CONFIG=/var/tmp/cpansmoker-1023/2020030909/cpanreporter_000_config.ini
# PERL_DL_NONLAZY=1
# PERL_EXTUTILS_AUTOINSTALL=--defaultdeps
# PERL_USE_UNSAFE_INC=1
# SHELL=/bin/sh
#
#
#
# PERL5LIB path
# /usr/home/cpansand/.cpan/build/2020030909/FFI-Platypus-1.10-0/blib/lib
# /usr/home/cpansand/.cpan/build/2020030909/FFI-Platypus-1.10-0/blib/arch
# /home/cpansand/.cpan/build/2020030909/Acme-Alien-DontPanic-2.0400-2/blib/arch
# /home/cpansand/.cpan/build/2020030909/Acme-Alien-DontPanic-2.0400-2/blib/lib
# /home/cpansand/.cpan/build/2020030909/Alien-Base-ModuleBuild-1.14-4/blib/arch
# /home/cpansand/.cpan/build/2020030909/Alien-Base-ModuleBuild-1.14-4/blib/lib
# /home/cpansand/.cpan/build/2020030909/Shell-Config-Generate-0.34-1/blib/arch
# /home/cpansand/.cpan/build/2020030909/Shell-Config-Generate-0.34-1/blib/lib
# /home/cpansand/.cpan/build/2020030909/Shell-Guess-0.09-1/blib/arch
# /home/cpansand/.cpan/build/2020030909/Shell-Guess-0.09-1/blib/lib
# /home/cpansand/.cpan/build/2020030909/Unix-Process-1.3101-1/blib/arch
# /home/cpansand/.cpan/build/2020030909/Unix-Process-1.3101-1/blib/lib
# /home/cpansand/.cpan/build/2020030909/Acme-Alien-DontPanic-2.0400-2/blib/arch
# /home/cpansand/.cpan/build/2020030909/Acme-Alien-DontPanic-2.0400-2/blib/lib
# /home/cpansand/.cpan/build/2020030909/Alien-Base-ModuleBuild-1.14-4/blib/arch
# /home/cpansand/.cpan/build/2020030909/Alien-Base-ModuleBuild-1.14-4/blib/lib
# /home/cpansand/.cpan/build/2020030909/Shell-Config-Generate-0.34-1/blib/arch
# /home/cpansand/.cpan/build/2020030909/Shell-Config-Generate-0.34-1/blib/lib
# /home/cpansand/.cpan/build/2020030909/Shell-Guess-0.09-1/blib/arch
# /home/cpansand/.cpan/build/2020030909/Shell-Guess-0.09-1/blib/lib
# /home/cpansand/.cpan/build/2020030909/Unix-Process-1.3101-1/blib/arch
# /home/cpansand/.cpan/build/2020030909/Unix-Process-1.3101-1/blib/lib
#
#
#
# perl 5.031009
# Alien::Base 2.08
# Capture::Tiny 0.48
# Devel::Hide 0.0013
# ExtUtils::CBuilder 0.280234
# ExtUtils::MakeMaker 7.44
# ExtUtils::ParseXS 3.40
# FFI::CheckLib 0.26
# IPC::Cmd 1.04
# JSON::PP 4.04
# List::Util 1.54
# Math::LongDouble 0.22
# PkgConfig -
# Test::More 1.302172
# constant 1.33
# forks -
#
#
#
# mode : system
# Alien::FFI::pkgconfig->VERSION = undef
# Alien::FFI::pkgconfig->install_type = system
# Alien::FFI::pkgconfig->cflags = -I/usr/local/lib/libffi-3.2.1/include
# Alien::FFI::pkgconfig->libs = -L/usr/local/lib -lffi
# Alien::FFI::pkgconfig->version = 3.2.1
#
#
#
# ffi.platypus.memory.strdup_impl =libc
# ffi.platypus.memory.strndup_impl=libc
#
#
#
# Types:
# double : double, float complex
# float : float
# longdouble : double complex, long double, long double complex
# sint16 : int16_t, short, signed short
# sint32 : blksize_t, int, int32_t, senum, signed int, wchar_t, wint_t
# sint64 : blkcnt_t, int64_t, intptr_t, long, long long, off_t, ptrdiff_t, signed long, signed long long, ssize_t, time_t
# sint8 : char, int8_t, signed char
# uint16 : mode_t, uint16_t, unsigned short, ushort
# uint32 : enum, gid_t, uid_t, uint, uint32_t, unsigned int
# uint64 : dev_t, ino_t, nlink_t, size_t, uint64_t, uintptr_t, ulong, unsigned long, unsigned long long
# uint8 : bool, uchar, uint8_t, unsigned char
#
#
#
# ABIs:
# default_abi 2
# fastcall 4
# pascal 6
# register 7
# stdcall 5
# sysv 1
# thiscall 3
# unix64 2
#
#
#
# Probes:
# recordvalue 1
# alloca 1
# variadic 1
# bigendian64 0
# bigendian 0
# abi 1
# longdouble 1
#
#
#
# [PLATFORM]
# osname : freebsd
# cc : cc
# cxx : c++
# for : ---
# ld : cc
# ccflags : -DPIC -fPIC -DHAS_FPSETMASK -DHAS_FLOATINGPOINT_H -fno-strict-aliasing -pipe -fstack-protector-strong -I/usr/local/include -O2 -pipe -I/usr/home/cpansand/.cpan/build/2020030909/FFI-Platypus-1.10-0/blib/lib/auto/share/dist/FFI-Platypus/include
# ldflags : -shared -L/usr/local/lib -fstack-protector-strong
# object suffix : .o
# library prefix : lib
# library suffix : .so
# cc mm works : -MM
#
#
#
t/00_diag.t .............................. ok
t/01_use.t ............................... ok
t/ffi_build.t ............................ ok
t/ffi_build_file_base.t .................. ok
t/ffi_build_file_c.t ..................... ok
t/ffi_build_file_cxx.t ................... ok
t/ffi_build_file_library.t ............... ok
t/ffi_build_file_object.t ................ ok
t/ffi_build_mm.t ......................... ok
t/ffi_build_platform.t ................... ok
t/ffi_platypus.t ......................... ok
t/ffi_platypus_api.t ..................... ok
t/ffi_platypus_buffer.t .................. ok
t/ffi_platypus_bundle.t .................. ok
t/ffi_platypus_closure.t ................. ok
t/ffi_platypus_constant.t ................ ok
t/ffi_platypus_declare.t ................. ok
t/ffi_platypus_dl.t ...................... ok
t/ffi_platypus_function.t ................ ok
t/ffi_platypus_function_wrapper.t ........ ok
t/ffi_platypus_internal.t ................ ok
t/ffi_platypus_lang.t .................... ok
t/ffi_platypus_lang_asm.t ................ ok
t/ffi_platypus_lang_c.t .................. ok
t/ffi_platypus_lang_win32.t .............. ok
t/ffi_platypus_legacy.t .................. ok
t/ffi_platypus_memory.t .................. ok
t/ffi_platypus_record.t .................. ok
t/ffi_platypus_record_meta.t ............. ok
t/ffi_platypus_record_tiearray.t ......... ok
t/ffi_platypus_shareconfig.t ............. ok
t/ffi_platypus_type.t .................... ok
t/ffi_platypus_type_pointersizebuffer.t .. ok
t/ffi_platypus_type_stringarray.t ........ ok
t/ffi_platypus_type_stringpointer.t ...... ok
t/ffi_platypus_typeparser.t .............. ok
t/ffi_platypus_typeparser_version0.t ..... ok
t/ffi_platypus_typeparser_version1.t ..... ok
t/ffi_probe.t ............................ ok
t/ffi_probe_runner.t ..................... ok
t/ffi_probe_runner_builder.t ............. ok
t/ffi_probe_runner_result.t .............. ok
t/ffi_temp.t ............................. ok
t/forks.t ................................ skipped: Test requires forks
t/gh117.t ................................ ok
t/gh129.t ................................ ok
t/memory.t ............................... skipped: tested only in CI
t/threads.t .............................. skipped: Test requires a threading Perl
t/type_complex_double.t .................. skipped: Test requires support for double complex
t/type_complex_float.t ................... skipped: Test requires support for float complex
t/type_custom.t .......................... ok
t/type_double.t .......................... ok
t/type_float.t ........................... ok
t/type_longdouble.t ...................... ok
t/type_longdouble__array.t ............... ok
t/type_longdouble__hide.t ................ ok
t/type_longdouble__ptr.t ................. ok
t/type_opaque.t .......................... ok
t/type_record.t .......................... ok
t/type_record_value.t .................... ok
t/type_sint16.t .......................... ok
t/type_sint32.t .......................... ok
t/type_sint64.t .......................... ok
t/type_sint8.t ........................... ok
t/type_string.t .......................... ok
t/type_uint16.t .......................... ok
t/type_uint32.t .......................... ok
t/type_uint64.t .......................... ok
t/type_uint8.t ........................... ok
All tests successful.
Files=69, Tests=340, 14 wallclock secs ( 0.73 usr 0.32 sys + 9.52 cusr 4.41 csys = 14.97 CPU)
Result: PASS
------------------------------
PREREQUISITES
------------------------------
Prerequisite modules loaded:
requires:
Module Need Have
------------------- -------- --------
Capture::Tiny 0 0.48
constant 1.32 1.33
ExtUtils::MakeMaker 7.12 7.44
FFI::CheckLib 0.05 0.26
IPC::Cmd 0 1.04
JSON::PP 0 4.04
List::Util 1.45 1.54
perl 5.008001 5.031009
build_requires:
Module Need Have
------------------- -------- --------
Capture::Tiny 0 0.48
ExtUtils::CBuilder 0 0.280234
Test::More 0.98 1.302172
configure_requires:
Module Need Have
------------------- -------- --------
Capture::Tiny 0 0.48
ExtUtils::MakeMaker 7.12 7.44
ExtUtils::ParseXS 3.30 3.40
IPC::Cmd 0 1.04
perl 5.006 5.031009
------------------------------
ENVIRONMENT AND OTHER CONTEXT
------------------------------
Environment variables:
PATH = /usr/local/bin:/usr/bin:/bin:/usr/local/sbin:/usr/sbin:/sbin:/home/cpansand/bin/sh:/home/cpansand/bin:/usr/games:/home/cpansand/devel:/usr/home/eserte/src/srezic-misc/scripts
PERL5LIB = /home/cpansand/.cpan/build/2020030909/Acme-Alien-DontPanic-2.0400-2/blib/arch:/home/cpansand/.cpan/build/2020030909/Acme-Alien-DontPanic-2.0400-2/blib/lib:/home/cpansand/.cpan/build/2020030909/Alien-Base-ModuleBuild-1.14-4/blib/arch:/home/cpansand/.cpan/build/2020030909/Alien-Base-ModuleBuild-1.14-4/blib/lib:/home/cpansand/.cpan/build/2020030909/Shell-Config-Generate-0.34-1/blib/arch:/home/cpansand/.cpan/build/2020030909/Shell-Config-Generate-0.34-1/blib/lib:/home/cpansand/.cpan/build/2020030909/Shell-Guess-0.09-1/blib/arch:/home/cpansand/.cpan/build/2020030909/Shell-Guess-0.09-1/blib/lib:/home/cpansand/.cpan/build/2020030909/Unix-Process-1.3101-1/blib/arch:/home/cpansand/.cpan/build/2020030909/Unix-Process-1.3101-1/blib/lib
PERL5OPT =
PERL5_CPANPLUS_IS_RUNNING = 27790
PERL5_CPAN_IS_RUNNING = 27790
PERL5_CPAN_IS_RUNNING_IN_RECURSION = 5777,27790
PERL_BATCH = yes
PERL_CANARY_STABILITY_NOPROMPT = 1
PERL_CPAN_REPORTER_CONFIG = /var/tmp/cpansmoker-1023/2020030909/cpanreporter_000_config.ini
PERL_EXTUTILS_AUTOINSTALL = --defaultdeps
PERL_USE_UNSAFE_INC = 1
SHELL = /bin/sh
TMPDIR = /var/tmp/cpansmoker-1023/2020030909
Perl special variables (and OS-specific diagnostics, for MSWin32):
$^X = /usr/perl5.31.9p/bin/perl5.31.9
$UID/$EUID = 1023 / 1023
$GID = 1023 1023
$EGID = 1023 1023
Perl module toolchain versions installed:
Module Have
------------------- --------
CPAN 2.27
CPAN::Meta 2.150010
Cwd 3.78
ExtUtils::CBuilder 0.280234
ExtUtils::Command 7.44
ExtUtils::Install 2.14
ExtUtils::MakeMaker 7.44
ExtUtils::Manifest 1.72
ExtUtils::ParseXS 3.40
File::Spec 3.78
JSON 4.02
JSON::PP 4.04
Module::Build 0.4231
Module::Signature n/a
Parse::CPAN::Meta 2.150010
Test::Harness 3.42
Test::More 1.302172
YAML 1.30
YAML::Syck 1.32
version 0.9924
--
Summary of my perl5 (revision 5 version 31 subversion 9) configuration:
Platform:
osname=freebsd
osvers=12.1-stable
archname=amd64-freebsd
uname='freebsd cloud1.bbbike.org 12.1-stable freebsd 12.1-stable 9bc8f31ae35(stable12) generic amd64 '
config_args='-ds -e -Dprefix=/usr/perl5.31.9p -Dusedevel -Dusemallocwrap=no -Dcf_email=srezic@cpan.org -Doptimize=-O2 -pipe'
hint=recommended
useposix=true
d_sigaction=define
useithreads=undef
usemultiplicity=undef
use64bitint=define
use64bitall=define
uselongdouble=undef
usemymalloc=n
default_inc_excludes_dot=define
bincompat5005=undef
Compiler:
cc='cc'
ccflags ='-DHAS_FPSETMASK -DHAS_FLOATINGPOINT_H -fno-strict-aliasing -pipe -fstack-protector-strong -I/usr/local/include'
optimize='-O2 -pipe'
cppflags='-DHAS_FPSETMASK -DHAS_FLOATINGPOINT_H -fno-strict-aliasing -pipe -fstack-protector-strong -I/usr/local/include'
ccversion=''
gccversion='FreeBSD Clang 9.0.1 (git@github.com:llvm/llvm-project.git c1a0a213378a458fbea1a5c77b315c7dce08fd05)'
gccosandvers=''
intsize=4
longsize=8
ptrsize=8
doublesize=8
byteorder=12345678
doublekind=3
d_longlong=define
longlongsize=8
d_longdbl=define
longdblsize=16
longdblkind=3
ivtype='long'
ivsize=8
nvtype='double'
nvsize=8
Off_t='off_t'
lseeksize=8
alignbytes=8
prototype=define
Linker and Libraries:
ld='cc'
ldflags ='-pthread -Wl,-E -fstack-protector-strong -L/usr/local/lib'
libpth=/usr/lib /usr/local/lib /usr/lib/clang/9.0.1/lib /usr/lib
libs=-lpthread -lgdbm -ldl -lm -lcrypt -lutil -lc
perllibs=-lpthread -ldl -lm -lcrypt -lutil -lc
libc=
so=so
useshrplib=false
libperl=libperl.a
gnulibc_version=''
Dynamic Linking:
dlsrc=dl_dlopen.xs
dlext=so
d_dlsymun=undef
ccdlflags=' '
cccdlflags='-DPIC -fPIC'
lddlflags='-shared -L/usr/local/lib -fstack-protector-strong'
Characteristics of this binary (from libperl):
Compile-time options:
HAS_TIMES
PERLIO_LAYERS
PERL_COPY_ON_WRITE
PERL_DONT_CREATE_GVSV
PERL_OP_PARENT
PERL_PRESERVE_IVUV
PERL_USE_DEVEL
USE_64_BIT_ALL
USE_64_BIT_INT
USE_LARGE_FILES
USE_LOCALE
USE_LOCALE_COLLATE
USE_LOCALE_CTYPE
USE_LOCALE_NUMERIC
USE_LOCALE_TIME
USE_PERLIO
USE_PERL_ATOF
Built under freebsd
Compiled at Feb 21 2020 18:23:36
%ENV:
PERL5LIB="/home/cpansand/.cpan/build/2020030909/Acme-Alien-DontPanic-2.0400-2/blib/arch:/home/cpansand/.cpan/build/2020030909/Acme-Alien-DontPanic-2.0400-2/blib/lib:/home/cpansand/.cpan/build/2020030909/Alien-Base-ModuleBuild-1.14-4/blib/arch:/home/cpansand/.cpan/build/2020030909/Alien-Base-ModuleBuild-1.14-4/blib/lib:/home/cpansand/.cpan/build/2020030909/Shell-Config-Generate-0.34-1/blib/arch:/home/cpansand/.cpan/build/2020030909/Shell-Config-Generate-0.34-1/blib/lib:/home/cpansand/.cpan/build/2020030909/Shell-Guess-0.09-1/blib/arch:/home/cpansand/.cpan/build/2020030909/Shell-Guess-0.09-1/blib/lib:/home/cpansand/.cpan/build/2020030909/Unix-Process-1.3101-1/blib/arch:/home/cpansand/.cpan/build/2020030909/Unix-Process-1.3101-1/blib/lib"
PERL5OPT=""
PERL5_CPANPLUS_IS_RUNNING="27790"
PERL5_CPAN_IS_RUNNING="27790"
PERL5_CPAN_IS_RUNNING_IN_RECURSION="5777,27790"
PERL_BATCH="yes"
PERL_CANARY_STABILITY_NOPROMPT="1"
PERL_CPAN_REPORTER_CONFIG="/var/tmp/cpansmoker-1023/2020030909/cpanreporter_000_config.ini"
PERL_EXTUTILS_AUTOINSTALL="--defaultdeps"
PERL_USE_UNSAFE_INC="1"
@INC:
/home/cpansand/.cpan/build/2020030909/Acme-Alien-DontPanic-2.0400-2/blib/arch
/home/cpansand/.cpan/build/2020030909/Acme-Alien-DontPanic-2.0400-2/blib/lib
/home/cpansand/.cpan/build/2020030909/Alien-Base-ModuleBuild-1.14-4/blib/arch
/home/cpansand/.cpan/build/2020030909/Alien-Base-ModuleBuild-1.14-4/blib/lib
/home/cpansand/.cpan/build/2020030909/Shell-Config-Generate-0.34-1/blib/arch
/home/cpansand/.cpan/build/2020030909/Shell-Config-Generate-0.34-1/blib/lib
/home/cpansand/.cpan/build/2020030909/Shell-Guess-0.09-1/blib/arch
/home/cpansand/.cpan/build/2020030909/Shell-Guess-0.09-1/blib/lib
/home/cpansand/.cpan/build/2020030909/Unix-Process-1.3101-1/blib/arch
/home/cpansand/.cpan/build/2020030909/Unix-Process-1.3101-1/blib/lib
/usr/perl5.31.9p/lib/site_perl/5.31.9/amd64-freebsd
/usr/perl5.31.9p/lib/site_perl/5.31.9
/usr/perl5.31.9p/lib/5.31.9/amd64-freebsd
/usr/perl5.31.9p/lib/5.31.9
.