Yancy v1.080 Perl 5 v5.30.1 i386-freebsd

Status
Pass
From
Chris Williams (BINGOS)
Dist
Yancy v1.080
Platform
Perl 5 v5.30.1 i386-freebsd
Date
2021-10-31 16:09:15
ID
e52703a4-3a64-11ec-bc66-57723b537541
This distribution has been tested as part of the CPAN Testers
project, supporting the Perl programming language.  See
http://wiki.cpantesters.org/ for more information or email
questions to cpan-testers-discuss@perl.org


--

Dear PREACTION,

This is a computer-generated error report created automatically by
CPANPLUS, version 0.9912. Testers personal comments may appear
at the end of this report.


Thank you for uploading your work to CPAN.  Congratulations!
All tests were successful.

TEST RESULTS:

Below is the error stack from stage 'make test':

Skip blib/lib/auto/share/dist/Yancy/update_resources.sh (unchanged)
PERL_DL_NONLAZY=1 "/usr/home/cpan/pit/bare/perl-5.30.1/bin/perl" "-MExtUtils::Command::MM" "-MTest::Harness" "-e" "undef *Test::Harness::Switches; test_harness(0, 'blib/lib', 'blib/arch')" t/*.t t/backend/*.t t/command/backend/*.t t/controller/*.t t/examples/*.t t/plugin/*.t t/plugin/auth/*.t t/plugin/form/*.t
t/00-compile.t ............... ok
# 
# Versions for all modules listed in MYMETA.json (including optional ones):
# 
# === Configure Requires ===
# 
#     Module                  Want Have
#     ----------------------- ---- ----
#     ExtUtils::MakeMaker      any 7.62
#     File::ShareDir::Install 0.06 0.13
# 
# === Configure Suggests ===
# 
#     Module      Want Have
#     -------- ------- ----
#     JSON::PP 2.27300 4.02
# 
# === Build Requires ===
# 
#     Module              Want Have
#     ------------------- ---- ----
#     ExtUtils::MakeMaker  any 7.62
# 
# === Test Requires ===
# 
#     Module                  Want     Have
#     ------------------- -------- --------
#     ExtUtils::MakeMaker      any     7.62
#     File::Spec               any     3.78
#     File::Temp            0.2307   0.2311
#     IO::Handle               any     1.40
#     IPC::Open3               any     1.20
#     Test::More          1.001005 1.302187
# 
# === Test Recommends ===
# 
#     Module         Want     Have
#     ---------- -------- --------
#     CPAN::Meta 2.120900 2.150010
# 
# === Runtime Requires ===
# 
#     Module                           Want     Have
#     ---------------------------- -------- --------
#     Class::Method::Modifiers          any     2.13
#     Digest                            any  1.17_01
#     Exporter                          any     5.73
#     File::Spec::Functions             any     3.78
#     FindBin                           any     1.51
#     JSON::Validator                  5.00     5.02
#     Mojolicious                         9     9.22
#     Mojolicious::Plugin::I18N         1.6      1.6
#     Mojolicious::Plugin::OpenAPI     5.00     5.00
#     Role::Tiny                   2.000001 2.002004
#     Scalar::Util                      any     1.50
#     Sys::Hostname                     any     1.22
#     Text::Balanced                    any     2.03
# 
t/00-report-prereqs.t ........ ok
x-view is deprecated and will be removed in v2. Use Yancy::Model or your database's CREATE VIEW instead. at /usr/home/cpan/pit/jail/tOfZrd3x5J/lib/perl5/Mojolicious/Plugins.pm line 45.
t/api.t ...................... ok
t/app.t ...................... ok
t/backend/dbic.t ............. skipped: DBIx::Class >= 0.082842 required for this test
t/backend/mock.t ............. ok
t/backend/mysql.t ............ skipped: Mojo::mysql >= 1.0 required for this test
t/backend/pg.t ............... skipped: Mojo::Pg >= 3.0 required for this test
t/backend/sqlite.t ........... skipped: DBD::SQLite >= 1.56 required for this test
x-view is deprecated and will be removed in v2. Use Yancy::Model or your database's CREATE VIEW instead. at /usr/home/cpan/pit/jail/tOfZrd3x5J/lib/perl5/Mojolicious/Plugins.pm line 45.
t/command/backend/copy.t ..... ok
x-view is deprecated and will be removed in v2. Use Yancy::Model or your database's CREATE VIEW instead. at /usr/home/cpan/pit/jail/tOfZrd3x5J/lib/perl5/Mojolicious/Plugins.pm line 45.
t/config.t ................... ok
x-view is deprecated and will be removed in v2. Use Yancy::Model or your database's CREATE VIEW instead. at /usr/home/cpan/pit/jail/tOfZrd3x5J/lib/perl5/Mojolicious/Plugins.pm line 45.
t/controller/multi_tenant.t .. ok
x-view is deprecated and will be removed in v2. Use Yancy::Model or your database's CREATE VIEW instead. at /usr/home/cpan/pit/jail/tOfZrd3x5J/lib/perl5/Mojolicious/Plugins.pm line 45.
t/controller/yancy.t ......... ok
t/examples/doc-site.t ........ skipped: Set TEST_YANCY_EXAMPLES to run these tests
t/examples/limited-editor.t .. skipped: Set TEST_YANCY_EXAMPLES to run these tests
t/examples/test-app.t ........ skipped: Set TEST_YANCY_EXAMPLES to run these tests
t/examples/todo-app.t ........ skipped: Set TEST_YANCY_EXAMPLES to run these tests
x-view is deprecated and will be removed in v2. Use Yancy::Model or your database's CREATE VIEW instead. at /usr/home/cpan/pit/jail/tOfZrd3x5J/lib/perl5/Mojolicious/Plugins.pm line 45.
[2021-10-31 16:08:45.09046] [5304] [fatal] [r1DycLaMQDJb] Unknown filter: DOES.NOT.EXIST (schema: user, field: email) at /usr/home/cpan/pit/bare/conf/perl-5.30.1/.cpanplus/5.30.1/build/ewrgBNKtnd/Yancy-1.080/blib/lib/Mojolicious/Plugin/Yancy.pm line 977.

t/filter.t ................... ok
x-view is deprecated and will be removed in v2. Use Yancy::Model or your database's CREATE VIEW instead. at /usr/home/cpan/pit/jail/tOfZrd3x5J/lib/perl5/Mojolicious/Plugins.pm line 45.
t/helpers.t .................. ok
x-view is deprecated and will be removed in v2. Use Yancy::Model or your database's CREATE VIEW instead. at /usr/home/cpan/pit/jail/tOfZrd3x5J/lib/perl5/Mojolicious/Plugins.pm line 45.
t/i18n.t ..................... ok
t/model.t .................... ok
x-view is deprecated and will be removed in v2. Use Yancy::Model or your database's CREATE VIEW instead. at /usr/home/cpan/pit/jail/tOfZrd3x5J/lib/perl5/Mojolicious/Plugins.pm line 45.
t/plugin/auth.t .............. ok
x-view is deprecated and will be removed in v2. Use Yancy::Model or your database's CREATE VIEW instead. at /usr/home/cpan/pit/jail/tOfZrd3x5J/lib/perl5/Mojolicious/Plugins.pm line 45.
The Auth::Basic plugin is deprecated and will be removed in Yancy v2.000. Please migrate to the Auth::Password module.
 at /usr/home/cpan/pit/bare/conf/perl-5.30.1/.cpanplus/5.30.1/build/ewrgBNKtnd/Yancy-1.080/blib/lib/Yancy/Plugin/Auth/Basic.pm line 256.
t/plugin/auth/basic.t ........ ok
x-view is deprecated and will be removed in v2. Use Yancy::Model or your database's CREATE VIEW instead. at /usr/home/cpan/pit/jail/tOfZrd3x5J/lib/perl5/Mojolicious/Plugins.pm line 45.
t/plugin/auth/github.t ....... ok
x-view is deprecated and will be removed in v2. Use Yancy::Model or your database's CREATE VIEW instead. at /usr/home/cpan/pit/jail/tOfZrd3x5J/lib/perl5/Mojolicious/Plugins.pm line 45.
t/plugin/auth/oauth2.t ....... ok
x-view is deprecated and will be removed in v2. Use Yancy::Model or your database's CREATE VIEW instead. at /usr/home/cpan/pit/jail/tOfZrd3x5J/lib/perl5/Mojolicious/Plugins.pm line 45.
t/plugin/auth/password.t ..... ok
x-view is deprecated and will be removed in v2. Use Yancy::Model or your database's CREATE VIEW instead. at /usr/home/cpan/pit/jail/tOfZrd3x5J/lib/perl5/Mojolicious/Plugins.pm line 45.
t/plugin/auth/token.t ........ ok
t/plugin/editor.t ............ ok
x-view is deprecated and will be removed in v2. Use Yancy::Model or your database's CREATE VIEW instead. at /usr/home/cpan/pit/jail/tOfZrd3x5J/lib/perl5/Mojolicious/Plugins.pm line 45.
[2021-10-31 16:09:09.51510] [5315] [warn] *** Cannot verify that admin editor is behind authentication.
Add a Yancy Auth plugin, add a `route` to the Yancy plugin config,
or set `editor.require_user => undef` to silence this warning

t/plugin/file.t .............. ok
x-view is deprecated and will be removed in v2. Use Yancy::Model or your database's CREATE VIEW instead. at /usr/home/cpan/pit/jail/tOfZrd3x5J/lib/perl5/Mojolicious/Plugins.pm line 45.
[2021-10-31 16:09:11.51204] [5316] [warn] [xflC8uGadYIT] form_for() called with incomplete request. CSRF token may not validate!
t/plugin/form/bootstrap4.t ... ok
x-view is deprecated and will be removed in v2. Use Yancy::Model or your database's CREATE VIEW instead. at /usr/home/cpan/pit/jail/tOfZrd3x5J/lib/perl5/Mojolicious/Plugins.pm line 45.
t/plugin/roles.t ............. ok
    # Can't locate DBI.pm in @INC (you may need to install the DBI module) (@INC contains: /usr/home/cpan/pit/bare/conf/perl-5.30.1/.cpanplus/5.30.1/build/ewrgBNKtnd/Yancy-1.080/t/lib /usr/home/cpan/pit/bare/conf/perl-5.30.1/.cpanplus/5.30.1/build/ewrgBNKtnd/Yancy-1.080/blib/lib /usr/home/cpan/pit/bare/conf/perl-5.30.1/.cpanplus/5.30.1/build/ewrgBNKtnd/Yancy-1.080/blib/arch /usr/home/cpan/pit/jail/tOfZrd3x5J/lib/perl5/5.30.1/i386-freebsd /usr/home/cpan/pit/jail/tOfZrd3x5J/lib/perl5/5.30.1 /usr/home/cpan/pit/jail/tOfZrd3x5J/lib/perl5/i386-freebsd /usr/home/cpan/pit/jail/tOfZrd3x5J/lib/perl5 /usr/home/cpan/pit/bare/perl-5.30.1/lib/site_perl/5.30.1/i386-freebsd /usr/home/cpan/pit/bare/perl-5.30.1/lib/site_perl/5.30.1 /usr/home/cpan/pit/bare/perl-5.30.1/lib/5.30.1/i386-freebsd /usr/home/cpan/pit/bare/perl-5.30.1/lib/5.30.1 .) at /usr/home/cpan/pit/bare/conf/perl-5.30.1/.cpanplus/5.30.1/build/ewrgBNKtnd/Yancy-1.080/blib/lib/Yancy/Backend/Role/DBI.pm line 27.
    # BEGIN failed--compilation aborted at /usr/home/cpan/pit/bare/conf/perl-5.30.1/.cpanplus/5.30.1/build/ewrgBNKtnd/Yancy-1.080/blib/lib/Yancy/Backend/Role/DBI.pm line 27.
    # Compilation failed in require at /usr/home/cpan/pit/jail/tOfZrd3x5J/lib/perl5/Role/Tiny.pm line 51.
    # Compilation failed in require at /usr/home/cpan/pit/jail/tOfZrd3x5J/lib/perl5/Mojo/Base.pm line 134.
    # BEGIN failed--compilation aborted at /usr/home/cpan/pit/bare/conf/perl-5.30.1/.cpanplus/5.30.1/build/ewrgBNKtnd/Yancy-1.080/blib/lib/Yancy/Backend/Sqlite.pm line 108.
    # Compilation failed in require at t/register.t line 21.
    # Could not load Pg backend: Mojo::Pg version 4.03 or higher required
    # BEGIN failed--compilation aborted at /usr/home/cpan/pit/bare/conf/perl-5.30.1/.cpanplus/5.30.1/build/ewrgBNKtnd/Yancy-1.080/blib/lib/Yancy/Backend/Pg.pm line 128.
    # Compilation failed in require at t/register.t line 37.
    # Could not load Mysql backend: Mojo::mysql version 1.05 or higher required
    # BEGIN failed--compilation aborted at /usr/home/cpan/pit/bare/conf/perl-5.30.1/.cpanplus/5.30.1/build/ewrgBNKtnd/Yancy-1.080/blib/lib/Yancy/Backend/Mysql.pm line 119.
    # Compilation failed in require at t/register.t line 53.
t/register.t ................. ok
t/util.t ..................... ok
All tests successful.
Files=33, Tests=200, 76 wallclock secs ( 0.49 usr  0.29 sys + 59.60 cusr 11.67 csys = 72.05 CPU)
Result: PASS


PREREQUISITES:

Here is a list of prerequisites you specified and versions we
managed to load:

	  Module Name                        Have     Want
	  Class::Method::Modifiers           2.13        0
	  Digest                          1.17_01        0
	  Exporter                           5.73        0
	  ExtUtils::MakeMaker                7.62        0
	  File::Spec                         3.78        0
	  File::Spec::Functions              3.78        0
	  File::Temp                       0.2311   0.2307
	  FindBin                            1.51        0
	  IO::Handle                         1.40        0
	  IPC::Open3                         1.20        0
	  JSON::Validator                    5.02     5.00
	  Mojolicious                        9.22        9
	  Mojolicious::Plugin::I18N           1.6      1.6
	  Mojolicious::Plugin::OpenAPI       5.00     5.00
	  Role::Tiny                     2.002004 2.000001
	  Scalar::Util                       1.50        0
	  Sys::Hostname                      1.22        0
	  Test::More                     1.302187 1.001005
	  Text::Balanced                     2.03        0

Perl module toolchain versions installed:
	Module Name                        Have
	CPANPLUS                         0.9912
	CPANPLUS::Dist::Build              0.90
	Cwd                                3.78
	ExtUtils::CBuilder             0.280236
	ExtUtils::Command                  7.62
	ExtUtils::Install                  2.20
	ExtUtils::MakeMaker                7.62
	ExtUtils::Manifest                 1.73
	ExtUtils::ParseXS                  3.40
	File::Spec                         3.78
	Module::Build                    0.4231
	Pod::Parser                        1.63
	Pod::Simple                        3.35
	Test2                          1.302187
	Test::Harness                      3.42
	Test::More                     1.302187
	version                          0.9929

******************************** NOTE ********************************
The comments above are created mechanically, possibly without manual
checking by the sender.  As there are many people performing automatic
tests on each upload to CPAN, it is likely that you will receive
identical messages about the same problem.

If you believe that the message is mistaken, please reply to the first
one with correction and/or additional informations, and do not take
it personally.  We appreciate your patience. :)
**********************************************************************

Additional comments:


This report was machine-generated by CPANPLUS::Dist::YACSmoke 1.08.
Powered by minismokebox version 0.68

CPANPLUS is prefering Build.PL

------------------------------
ENVIRONMENT AND OTHER CONTEXT
------------------------------

Environment variables:

    AUTOMATED_TESTING = 1
    NONINTERACTIVE_TESTING = 1
    PATH = /usr/home/cpan/pit/bare/conf/perl-5.30.1/.cpanplus/5.30.1/build/ewrgBNKtnd/Yancy-1.080/blib/script:/sbin:/bin:/usr/sbin:/usr/bin:/usr/local/sbin:/usr/local/bin:/home/cpan/bin
    PERL5LIB = /usr/home/cpan/pit/jail/tOfZrd3x5J/lib/perl5:/usr/home/cpan/pit/bare/conf/perl-5.30.1/.cpanplus/5.30.1/build/ewrgBNKtnd/Yancy-1.080/blib/lib:/usr/home/cpan/pit/bare/conf/perl-5.30.1/.cpanplus/5.30.1/build/ewrgBNKtnd/Yancy-1.080/blib/arch
    PERL5_CPANPLUS_IS_RUNNING = 4252
    PERL5_CPANPLUS_IS_VERSION = 0.9912
    PERL5_MINISMOKEBOX = 0.68
    PERL5_YACSMOKE_BASE = /usr/home/cpan/pit/bare/conf/perl-5.30.1
    PERL_EXTUTILS_AUTOINSTALL = --defaultdeps
    PERL_LOCAL_LIB_ROOT = /usr/home/cpan/pit/jail/tOfZrd3x5J
    PERL_MB_OPT = --install_base "/usr/home/cpan/pit/jail/tOfZrd3x5J"
    PERL_MM_OPT = INSTALL_BASE=/usr/home/cpan/pit/jail/tOfZrd3x5J
    PERL_MM_USE_DEFAULT = 1
    SHELL = /usr/local/bin/bash
    TERM = screen

Perl special variables (and OS-specific diagnostics, for MSWin32):

    Perl: $^X = /usr/home/cpan/pit/bare/perl-5.30.1/bin/perl
    UID:  $<  = 1002
    EUID: $>  = 1002
    GID:  $(  = 1002 1002
    EGID: $)  = 1002 1002


-------------------------------


--

Summary of my perl5 (revision 5 version 30 subversion 1) configuration:
   
  Platform:
    osname=freebsd
    osvers=12.2-release
    archname=i386-freebsd
    uname='freebsd ffyrc 12.2-release freebsd 12.2-release r366954 generic i386 '
    config_args='-des -Dprefix=/usr/home/cpan/pit/bare/perl-5.30.1'
    hint=recommended
    useposix=true
    d_sigaction=define
    useithreads=undef
    usemultiplicity=undef
    use64bitint=undef
    use64bitall=undef
    uselongdouble=undef
    usemymalloc=n
    default_inc_excludes_dot=define
    bincompat5005=undef
  Compiler:
    cc='cc'
    ccflags ='-DHAS_FPSETMASK -DHAS_FLOATINGPOINT_H -fno-strict-aliasing -pipe -fstack-protector-strong -I/usr/local/include'
    optimize='-O2'
    cppflags='-DHAS_FPSETMASK -DHAS_FLOATINGPOINT_H -fno-strict-aliasing -pipe -fstack-protector-strong -I/usr/local/include'
    ccversion=''
    gccversion='FreeBSD Clang 10.0.1 (git@github.com:llvm/llvm-project.git llvmorg-10.0.1-0-gef32c611aa2)'
    gccosandvers=''
    intsize=4
    longsize=4
    ptrsize=4
    doublesize=8
    byteorder=1234
    doublekind=3
    d_longlong=define
    longlongsize=8
    d_longdbl=define
    longdblsize=12
    longdblkind=3
    ivtype='long'
    ivsize=4
    nvtype='double'
    nvsize=8
    Off_t='off_t'
    lseeksize=8
    alignbytes=4
    prototype=define
  Linker and Libraries:
    ld='cc'
    ldflags ='-Wl,-E  -fstack-protector-strong -L/usr/local/lib'
    libpth=/usr/lib /usr/local/lib /usr/lib/clang/10.0.1/lib /usr/lib
    libs=-lpthread -lgdbm -ldl -lm -lcrypt -lutil -lc
    perllibs=-lpthread -ldl -lm -lcrypt -lutil -lc
    libc=
    so=so
    useshrplib=false
    libperl=libperl.a
    gnulibc_version=''
  Dynamic Linking:
    dlsrc=dl_dlopen.xs
    dlext=so
    d_dlsymun=undef
    ccdlflags=' '
    cccdlflags='-DPIC -fPIC'
    lddlflags='-shared  -L/usr/local/lib -fstack-protector-strong'


Characteristics of this binary (from libperl): 
  Compile-time options:
    HAS_TIMES
    PERLIO_LAYERS
    PERL_COPY_ON_WRITE
    PERL_DONT_CREATE_GVSV
    PERL_MALLOC_WRAP
    PERL_OP_PARENT
    PERL_PRESERVE_IVUV
    USE_LARGE_FILES
    USE_LOCALE
    USE_LOCALE_COLLATE
    USE_LOCALE_CTYPE
    USE_LOCALE_NUMERIC
    USE_LOCALE_TIME
    USE_PERLIO
    USE_PERL_ATOF
  Locally applied patches:
    Devel::PatchPerl 2.00
  Built under freebsd
  Compiled at Nov  1 2020 06:13:38
  %ENV:
    PERL5LIB="/usr/home/cpan/pit/jail/tOfZrd3x5J/lib/perl5:/usr/home/cpan/pit/bare/conf/perl-5.30.1/.cpanplus/5.30.1/build/ewrgBNKtnd/Yancy-1.080/blib/lib:/usr/home/cpan/pit/bare/conf/perl-5.30.1/.cpanplus/5.30.1/build/ewrgBNKtnd/Yancy-1.080/blib/arch"
    PERL5_CPANPLUS_IS_RUNNING="4252"
    PERL5_CPANPLUS_IS_VERSION="0.9912"
    PERL5_MINISMOKEBOX="0.68"
    PERL5_YACSMOKE_BASE="/usr/home/cpan/pit/bare/conf/perl-5.30.1"
    PERL_EXTUTILS_AUTOINSTALL="--defaultdeps"
    PERL_LOCAL_LIB_ROOT="/usr/home/cpan/pit/jail/tOfZrd3x5J"
    PERL_MB_OPT="--install_base "/usr/home/cpan/pit/jail/tOfZrd3x5J""
    PERL_MM_OPT="INSTALL_BASE=/usr/home/cpan/pit/jail/tOfZrd3x5J"
    PERL_MM_USE_DEFAULT="1"
  @INC:
    /usr/home/cpan/pit/jail/tOfZrd3x5J/lib/perl5/5.30.1/i386-freebsd
    /usr/home/cpan/pit/jail/tOfZrd3x5J/lib/perl5/5.30.1
    /usr/home/cpan/pit/jail/tOfZrd3x5J/lib/perl5/i386-freebsd
    /usr/home/cpan/pit/jail/tOfZrd3x5J/lib/perl5
    /usr/home/cpan/pit/bare/conf/perl-5.30.1/.cpanplus/5.30.1/build/ewrgBNKtnd/Yancy-1.080/blib/lib
    /usr/home/cpan/pit/bare/conf/perl-5.30.1/.cpanplus/5.30.1/build/ewrgBNKtnd/Yancy-1.080/blib/arch
    /usr/home/cpan/pit/bare/perl-5.30.1/lib/site_perl/5.30.1/i386-freebsd
    /usr/home/cpan/pit/bare/perl-5.30.1/lib/site_perl/5.30.1
    /usr/home/cpan/pit/bare/perl-5.30.1/lib/5.30.1/i386-freebsd
    /usr/home/cpan/pit/bare/perl-5.30.1/lib/5.30.1