Beam-Wire v1.021 Perl 5 v5.20.3 OpenBSD.amd64-openbsd-multi

Status
Pass
From
Nigel Horne
Dist
Beam-Wire v1.021
Platform
Perl 5 v5.20.3 OpenBSD.amd64-openbsd-multi
Date
2018-03-18 19:16:43
ID
e4924dc8-2ae0-11e8-91ce-d3e3deac0b3f
This distribution has been tested as part of the CPAN Testers
project, supporting the Perl programming language.  See
http://wiki.cpantesters.org/ for more information or email
questions to cpan-testers-discuss@perl.org


--
Dear Doug Bell,

This is a computer-generated report for Beam-Wire-1.021
on perl 5.20.3, created by CPAN-Reporter-1.2018.

Thank you for uploading your work to CPAN.  Congratulations!
All tests were successful.

Sections of this report:

    * Tester comments
    * Program output
    * Prerequisites
    * Environment and other context

------------------------------
TESTER COMMENTS
------------------------------

Additional comments from tester:

this report is from an automated smoke testing program
and was not reviewed by a human for accuracy

------------------------------
PROGRAM OUTPUT
------------------------------

Output from '/usr/bin/make test':

PERL_DL_NONLAZY=1 "/home/njh/perl5/perlbrew/perls/perl-5.20.3-multi/bin/perl5.20.3" "-MExtUtils::Command::MM" "-MTest::Harness" "-e" "undef *Test::Harness::Switches; test_harness(0, 'blib/lib', 'blib/arch')" t/*.t t/container/*.t t/dependency/*.t t/deprecated/*.t t/method/*.t t/regression/*.t t/service/*.t
t/00-compile.t ..................... ok
# 
# Versions for all modules listed in MYMETA.json (including optional ones):
# 
# === Configure Requires ===
# 
#     Module                       Want     Have
#     ------------------------ -------- --------
#     CPAN::Meta::Requirements 2.120620    2.131
#     ExtUtils::MakeMaker           any     7.30
#     Module::Metadata              any 1.000033
# 
# === Build Requires ===
# 
#     Module              Want Have
#     ------------------- ---- ----
#     ExtUtils::MakeMaker  any 7.30
# 
# === Test Requires ===
# 
#     Module                  Want     Have
#     ------------------- -------- --------
#     ExtUtils::MakeMaker      any     7.30
#     File::Spec               any     3.62
#     IO::Handle               any     1.35
#     IPC::Open3               any     1.16
#     Test::Deep               any    1.127
#     Test::Differences       0.64     0.64
#     Test::Exception          any     0.43
#     Test::Lib                any    0.002
#     Test::More          1.001005 1.302130
# 
# === Test Recommends ===
# 
#     Module         Want     Have
#     ---------- -------- --------
#     CPAN::Meta 2.120900 2.143240
# 
# === Runtime Requires ===
# 
#     Module           Want     Have
#     --------------- ----- --------
#     Beam::Emitter     any    1.007
#     Beam::Service     any    0.001
#     Config::Any      0.23     0.32
#     Data::DPath      0.51     0.57
#     Module::Runtime   any    0.016
#     Moo               any 2.003004
#     Path::Tiny      0.055    0.104
#     Throwable         any 0.200013
#     Types::Standard   any 1.002001
#     YAML              any     1.24
# 
# === Runtime Recommends ===
# 
#     Module Want    Have
#     ------ ---- -------
#     JSON    any 2.97001
# 
t/00-report-prereqs.t .............. ok
t/container/config.t ............... ok
t/container/inner.t ................ ok
t/container/override.t ............. ok
t/dependency/anonymous.t ........... ok
t/dependency/call.t ................ ok
t/dependency/config.t .............. ok
t/dependency/value.t ............... ok
t/deprecated/event_listeners.t ..... ok
t/deprecated/method_call.t ......... ok
t/exception.t ...................... ok
t/method/create_service.t .......... ok
t/method/is_meta.t ................. ok
t/regression/60_unprefixed_meta.t .. ok
t/service/attributes.t ............. ok
t/service/class_args.t ............. ok
t/service/config.t ................. ok
t/service/event_listener.t ......... ok
t/service/extends.t ................ ok
t/service/lifecycle.t .............. ok
t/service/method.t ................. ok
t/service/value.t .................. ok
t/service/with.t ................... ok
t/service/with_args.t .............. ok
All tests successful.
Files=25, Tests=81, 53 wallclock secs ( 0.67 usr  0.30 sys + 40.65 cusr 10.91 csys = 52.53 CPU)
Result: PASS

------------------------------
PREREQUISITES
------------------------------

Prerequisite modules loaded:

requires:

    Module                   Need     Have    
    ------------------------ -------- --------
    Beam::Emitter            0        1.007   
    Beam::Service            0        0.001   
    Config::Any              0.23     0.32    
    Data::DPath              0.51     0.57    
    Module::Runtime          0        0.016   
    Moo                      0        2.003004
    Path::Tiny               0.055    0.104   
    Throwable                0        0.200013
    Types::Standard          0        1.002001
    YAML                     0        1.24    

build_requires:

    Module                   Need     Have    
    ------------------------ -------- --------
    ExtUtils::MakeMaker      0        7.30    
    File::Spec               0        3.62    
    IO::Handle               0        1.35    
    IPC::Open3               0        1.16    
    Test::Deep               0        1.127   
    Test::Differences        0.64     0.64    
    Test::Exception          0        0.43    
    Test::Lib                0        0.002   
    Test::More               1.001005 1.302130

configure_requires:

    Module                   Need     Have    
    ------------------------ -------- --------
    CPAN::Meta::Requirements 2.120620 2.131   
    ExtUtils::MakeMaker      0        7.30    
    Module::Metadata         0        1.000033


------------------------------
ENVIRONMENT AND OTHER CONTEXT
------------------------------

Environment variables:

    AUTOMATED_TESTING = 1
    PATH = /home/njh/perl5/perlbrew/bin:/home/njh/perl5/perlbrew/perls/perl-5.20.3-multi/bin:src/njh/smoker/bin:/usr/bin:/bin:/usr/sbin:/sbin:/usr/X11R6/bin:/usr/local/bin:/usr/local/sbin
    PERL5LIB = /home/njh/.cpan/build/Throwable-0.200013-8/blib/arch:/home/njh/.cpan/build/Throwable-0.200013-8/blib/lib:/home/njh/.cpan/build/Data-DPath-0.57-5/blib/arch:/home/njh/.cpan/build/Data-DPath-0.57-5/blib/lib:/home/njh/.cpan/build/Iterator-Util-0.02-5/blib/arch:/home/njh/.cpan/build/Iterator-Util-0.02-5/blib/lib:/home/njh/.cpan/build/Iterator-0.03-5/blib/arch:/home/njh/.cpan/build/Iterator-0.03-5/blib/lib:/home/njh/.cpan/build/Config-Any-0.32-3/blib/arch:/home/njh/.cpan/build/Config-Any-0.32-3/blib/lib:/home/njh/.cpan/build/Beam-Service-0.001-1/blib/arch:/home/njh/.cpan/build/Beam-Service-0.001-1/blib/lib:/home/njh/.cpan/build/Beam-Emitter-1.007-1/blib/arch:/home/njh/.cpan/build/Beam-Emitter-1.007-1/blib/lib:/home/njh/.cpan/build/Type-Tiny-1.002001-16/blib/arch:/home/njh/.cpan/build/Type-Tiny-1.002001-16/blib/lib:/home/njh/.cpan/build/Test-Lib-0.002-1/blib/arch:/home/njh/.cpan/build/Test-Lib-0.002-1/blib/lib:/home/njh/.cpan/build/Test-API-0.010-1/blib/arch:/home/njh/.cpan/build/Test-API-0.010-1/blib/lib:/home/njh/.cpan/build/Moo-2.003004-44/blib/arch:/home/njh/.cpan/build/Moo-2.003004-44/blib/lib:/home/njh/.cpan/build/Sub-Quote-2.005000-48/blib/arch:/home/njh/.cpan/build/Sub-Quote-2.005000-48/blib/lib:/home/njh/.cpan/build/Role-Tiny-2.000006-50/blib/arch:/home/njh/.cpan/build/Role-Tiny-2.000006-50/blib/lib:/home/njh/.cpan/build/Class-Method-Modifiers-2.12-53/blib/arch:/home/njh/.cpan/build/Class-Method-Modifiers-2.12-53/blib/lib
    PERL5OPT = 
    PERL5_CPANPLUS_IS_RUNNING = 58814
    PERL5_CPAN_IS_RUNNING = 58814
    PERLBREW_HOME = /home/njh/.perlbrew
    PERLBREW_MANPATH = /home/njh/perl5/perlbrew/perls/perl-5.20.3-multi/man
    PERLBREW_PATH = /home/njh/perl5/perlbrew/bin:/home/njh/perl5/perlbrew/perls/perl-5.20.3-multi/bin
    PERLBREW_PERL = perl-5.20.3-multi
    PERLBREW_ROOT = /home/njh/perl5/perlbrew
    PERLBREW_SHELLRC_VERSION = 0.82
    PERLBREW_VERSION = 0.82
    SHELL = /bin/sh

Perl special variables (and OS-specific diagnostics, for MSWin32):

    $^X = /home/njh/perl5/perlbrew/perls/perl-5.20.3-multi/bin/perl5.20.3
    $UID/$EUID = 1000 / 1000
    $GID = 1000 1000 0
    $EGID = 1000 1000 0

Perl module toolchain versions installed:

    Module              Have    
    ------------------- --------
    CPAN                2.16    
    CPAN::Meta          2.143240
    Cwd                 3.62    
    ExtUtils::CBuilder  0.280217
    ExtUtils::Command   7.30    
    ExtUtils::Install   2.06    
    ExtUtils::MakeMaker 7.30    
    ExtUtils::Manifest  1.70    
    ExtUtils::ParseXS   3.24    
    File::Spec          3.62    
    JSON                2.97001 
    JSON::PP            2.97001 
    Module::Build       0.4224  
    Module::Signature   n/a     
    Parse::CPAN::Meta   1.4414  
    Test::Harness       3.39    
    Test::More          1.302130
    YAML                1.24    
    YAML::Syck          1.30    
    version             0.9909  


--

Summary of my perl5 (revision 5 version 20 subversion 3) configuration:
   
  Platform:
    osname=openbsd, osvers=6.2, archname=OpenBSD.amd64-openbsd-multi
    uname='openbsd netgate1.bandsman.co.uk 6.2 generic.mp#2 amd64 '
    config_args='-de -Dprefix=/home/njh/perl5/perlbrew/perls/perl-5.20.3-multi -Dusedevel -Dusemultiplicity -Accflags= -Aeval:scriptdir=/home/njh/perl5/perlbrew/perls/perl-5.20.3-multi/bin'
    hint=recommended, useposix=true, d_sigaction=define
    useithreads=undef, usemultiplicity=define
    use64bitint=define, use64bitall=define, uselongdouble=undef
    usemymalloc=n, bincompat5005=undef
  Compiler:
    cc='cc', ccflags ='-fno-strict-aliasing -pipe -fstack-protector -I/usr/local/include',
    optimize='-O2',
    cppflags='-fno-strict-aliasing -pipe -fstack-protector -I/usr/local/include'
    ccversion='', gccversion='4.2.1 Compatible OpenBSD Clang 4.0.0 (tags/RELEASE_400/final)', gccosandvers=''
    intsize=4, longsize=8, ptrsize=8, doublesize=8, byteorder=12345678
    d_longlong=define, longlongsize=8, d_longdbl=define, longdblsize=16
    ivtype='long', ivsize=8, nvtype='double', nvsize=8, Off_t='off_t', lseeksize=8
    alignbytes=8, prototype=define
  Linker and Libraries:
    ld='cc', ldflags ='-Wl,-E  -fstack-protector -L/usr/local/lib'
    libpth=/usr/lib /usr/local/lib
    libs=-lpthread -lm -lutil -lc
    perllibs=-lpthread -lm -lutil -lc
    libc=/usr/lib/libc.so.90.0, so=so, useshrplib=false, libperl=libperl.a
    gnulibc_version=''
  Dynamic Linking:
    dlsrc=dl_dlopen.xs, dlext=so, d_dlsymun=undef, ccdlflags=' '
    cccdlflags='-DPIC -fPIC ', lddlflags='-shared -fPIC  -L/usr/local/lib -fstack-protector'


Characteristics of this binary (from libperl): 
  Compile-time options: HAS_TIMES MULTIPLICITY PERLIO_LAYERS
                        PERL_DONT_CREATE_GVSV
                        PERL_HASH_FUNC_ONE_AT_A_TIME_HARD
                        PERL_IMPLICIT_CONTEXT PERL_MALLOC_WRAP
                        PERL_NEW_COPY_ON_WRITE PERL_PRESERVE_IVUV
                        PERL_USE_DEVEL USE_64_BIT_ALL USE_64_BIT_INT
                        USE_LARGE_FILES USE_LOCALE USE_LOCALE_COLLATE
                        USE_LOCALE_CTYPE USE_LOCALE_NUMERIC USE_PERLIO
                        USE_PERL_ATOF
  Locally applied patches:
	Devel::PatchPerl 1.48
  Built under openbsd
  Compiled at Jan 21 2018 05:07:46
  %ENV:
    PERL5LIB="/home/njh/.cpan/build/Throwable-0.200013-8/blib/arch:/home/njh/.cpan/build/Throwable-0.200013-8/blib/lib:/home/njh/.cpan/build/Data-DPath-0.57-5/blib/arch:/home/njh/.cpan/build/Data-DPath-0.57-5/blib/lib:/home/njh/.cpan/build/Iterator-Util-0.02-5/blib/arch:/home/njh/.cpan/build/Iterator-Util-0.02-5/blib/lib:/home/njh/.cpan/build/Iterator-0.03-5/blib/arch:/home/njh/.cpan/build/Iterator-0.03-5/blib/lib:/home/njh/.cpan/build/Config-Any-0.32-3/blib/arch:/home/njh/.cpan/build/Config-Any-0.32-3/blib/lib:/home/njh/.cpan/build/Beam-Service-0.001-1/blib/arch:/home/njh/.cpan/build/Beam-Service-0.001-1/blib/lib:/home/njh/.cpan/build/Beam-Emitter-1.007-1/blib/arch:/home/njh/.cpan/build/Beam-Emitter-1.007-1/blib/lib:/home/njh/.cpan/build/Type-Tiny-1.002001-16/blib/arch:/home/njh/.cpan/build/Type-Tiny-1.002001-16/blib/lib:/home/njh/.cpan/build/Test-Lib-0.002-1/blib/arch:/home/njh/.cpan/build/Test-Lib-0.002-1/blib/lib:/home/njh/.cpan/build/Test-API-0.010-1/blib/arch:/home/njh/.cpan/build/Test-API-0.010-1/blib/lib:/home/njh/.cpan/build/Moo-2.003004-44/blib/arch:/home/njh/.cpan/build/Moo-2.003004-44/blib/lib:/home/njh/.cpan/build/Sub-Quote-2.005000-48/blib/arch:/home/njh/.cpan/build/Sub-Quote-2.005000-48/blib/lib:/home/njh/.cpan/build/Role-Tiny-2.000006-50/blib/arch:/home/njh/.cpan/build/Role-Tiny-2.000006-50/blib/lib:/home/njh/.cpan/build/Class-Method-Modifiers-2.12-53/blib/arch:/home/njh/.cpan/build/Class-Method-Modifiers-2.12-53/blib/lib"
    PERL5OPT=""
    PERL5_CPANPLUS_IS_RUNNING="58814"
    PERL5_CPAN_IS_RUNNING="58814"
    PERLBREW_HOME="/home/njh/.perlbrew"
    PERLBREW_MANPATH="/home/njh/perl5/perlbrew/perls/perl-5.20.3-multi/man"
    PERLBREW_PATH="/home/njh/perl5/perlbrew/bin:/home/njh/perl5/perlbrew/perls/perl-5.20.3-multi/bin"
    PERLBREW_PERL="perl-5.20.3-multi"
    PERLBREW_ROOT="/home/njh/perl5/perlbrew"
    PERLBREW_SHELLRC_VERSION="0.82"
    PERLBREW_VERSION="0.82"
  @INC:
    /home/njh/.cpan/build/Throwable-0.200013-8/blib/arch
    /home/njh/.cpan/build/Throwable-0.200013-8/blib/lib
    /home/njh/.cpan/build/Data-DPath-0.57-5/blib/arch
    /home/njh/.cpan/build/Data-DPath-0.57-5/blib/lib
    /home/njh/.cpan/build/Iterator-Util-0.02-5/blib/arch
    /home/njh/.cpan/build/Iterator-Util-0.02-5/blib/lib
    /home/njh/.cpan/build/Iterator-0.03-5/blib/arch
    /home/njh/.cpan/build/Iterator-0.03-5/blib/lib
    /home/njh/.cpan/build/Config-Any-0.32-3/blib/arch
    /home/njh/.cpan/build/Config-Any-0.32-3/blib/lib
    /home/njh/.cpan/build/Beam-Service-0.001-1/blib/arch
    /home/njh/.cpan/build/Beam-Service-0.001-1/blib/lib
    /home/njh/.cpan/build/Beam-Emitter-1.007-1/blib/arch
    /home/njh/.cpan/build/Beam-Emitter-1.007-1/blib/lib
    /home/njh/.cpan/build/Type-Tiny-1.002001-16/blib/arch
    /home/njh/.cpan/build/Type-Tiny-1.002001-16/blib/lib
    /home/njh/.cpan/build/Test-Lib-0.002-1/blib/arch
    /home/njh/.cpan/build/Test-Lib-0.002-1/blib/lib
    /home/njh/.cpan/build/Test-API-0.010-1/blib/arch
    /home/njh/.cpan/build/Test-API-0.010-1/blib/lib
    /home/njh/.cpan/build/Moo-2.003004-44/blib/arch
    /home/njh/.cpan/build/Moo-2.003004-44/blib/lib
    /home/njh/.cpan/build/Sub-Quote-2.005000-48/blib/arch
    /home/njh/.cpan/build/Sub-Quote-2.005000-48/blib/lib
    /home/njh/.cpan/build/Role-Tiny-2.000006-50/blib/arch
    /home/njh/.cpan/build/Role-Tiny-2.000006-50/blib/lib
    /home/njh/.cpan/build/Class-Method-Modifiers-2.12-53/blib/arch
    /home/njh/.cpan/build/Class-Method-Modifiers-2.12-53/blib/lib
    /home/njh/perl5/perlbrew/perls/perl-5.20.3-multi/lib/site_perl/5.20.3/OpenBSD.amd64-openbsd-multi
    /home/njh/perl5/perlbrew/perls/perl-5.20.3-multi/lib/site_perl/5.20.3
    /home/njh/perl5/perlbrew/perls/perl-5.20.3-multi/lib/5.20.3/OpenBSD.amd64-openbsd-multi
    /home/njh/perl5/perlbrew/perls/perl-5.20.3-multi/lib/5.20.3
    .