Moo v2.005005 Perl 5 v5.30.2 i86pc-solaris-thread-multi-64
- Status
- Pass
- From
- David Cantrell (DCANTRELL)
- Dist
-
Moo v2.005005
- Platform
- Perl 5 v5.30.2 i86pc-solaris-thread-multi-64
- Date
- 2023-01-07 05:48:19
- ID
- e37a549a-8e4e-11ed-ba73-52507bd01da2
This distribution has been tested as part of the CPAN Testers
project, supporting the Perl programming language. See
http://wiki.cpantesters.org/ for more information or email
questions to cpan-testers-discuss@perl.org
--
Dear Graham Knop,
This is a computer-generated report for Moo-2.005005
on perl 5.30.2, created by CPAN-Reporter-1.2018.
Thank you for uploading your work to CPAN. Congratulations!
All tests were successful.
Sections of this report:
* Tester comments
* Program output
* Prerequisites
* Environment and other context
------------------------------
TESTER COMMENTS
------------------------------
Additional comments from tester:
this report is from an automated smoke testing program
and was not reviewed by a human for accuracy
------------------------------
PROGRAM OUTPUT
------------------------------
Output from '/usr/bin/make test':
PERL_DL_NONLAZY=1 "/home/david/cpantesting/perl-5.30.2/bin/perl" -It/lib "-MTestEnv=" "-MExtUtils::Command::MM" "-MTest::Harness" "-e" "undef *Test::Harness::Switches; test_harness(0, 'blib/lib', 'blib/arch')" t/*.t
t/accessor-coerce.t ................ ok
t/accessor-default.t ............... ok
t/accessor-generator-extension.t ... ok
t/accessor-handles.t ............... ok
t/accessor-isa.t ................... ok
t/accessor-mixed.t ................. ok
t/accessor-pred-clear.t ............ ok
t/accessor-reader-writer.t ......... ok
t/accessor-roles.t ................. ok
t/accessor-shortcuts.t ............. ok
t/accessor-trigger.t ............... ok
t/accessor-weaken-pre-5_8_3.t ...... ok
t/accessor-weaken.t ................ ok
t/buildall-subconstructor.t ........ ok
t/buildall.t ....................... ok
t/buildargs-error.t ................ ok
t/buildargs.t ...................... ok
t/coerce-1.t ....................... ok
t/compose-conflicts.t .............. ok
t/compose-non-role.t ............... ok
t/compose-roles.t .................. ok
t/constructor-modify.t ............. ok
t/croak-locations.t ................ ok
t/demolish-basics.t ................ ok
t/demolish-bugs-eats_exceptions.t .. ok
t/demolish-bugs-eats_mini.t ........ ok
t/demolish-global_destruction.t .... ok
t/demolish-throw.t ................. ok
t/does.t ........................... ok
t/extend-constructor.t ............. ok
t/extends-non-moo.t ................ ok
t/extends-role.t ................... ok
t/foreignbuildargs.t ............... ok
t/global_underscore.t .............. ok
t/has-array.t ...................... ok
t/has-before-extends.t ............. ok
t/has-plus.t ....................... ok
t/init-arg.t ....................... ok
t/isa-interfere.t .................. ok
t/lazy_isa.t ....................... ok
t/load_module.t .................... ok
t/load_module_error.t .............. ok
t/load_module_role_tiny.t .......... ok
t/long-package-name.t .............. ok
t/method-generate-accessor.t ....... ok
t/method-generate-constructor.t .... ok
t/modifiers.t ...................... ok
t/modify_lazy_handlers.t ........... ok
t/moo-accessors.t .................. ok
t/moo-c3.t ......................... ok
t/moo-object.t ..................... ok
t/moo-utils-_name_coderef.t ........ ok
t/moo-utils-_subname-Sub-Name.t .... ok
t/moo-utils-_subname.t ............. ok
t/moo-utils.t ...................... ok
t/moo.t ............................ ok
t/mutual-requires.t ................ ok
t/no-build.t ....................... ok
t/no-moo.t ......................... ok
t/non-moo-extends-c3.t ............. ok
t/non-moo-extends.t ................ ok
t/not-both.t ....................... ok
t/not-methods.t .................... ok
t/overloaded-coderefs.t ............ ok
t/overridden-core-funcs.t .......... ok
t/role-conflicts-moox.t ............ ok
t/sub-and-handles.t ................ ok
t/subconstructor.t ................. ok
t/undef-bug.t ...................... ok
t/use-after-no.t ................... ok
t/zzz-check-breaks.t ............... ok
All tests successful.
Files=71, Tests=841, 96 wallclock secs ( 2.30 usr 1.36 sys + 62.86 cusr 20.41 csys = 86.93 CPU)
Result: PASS
------------------------------
PREREQUISITES
------------------------------
Prerequisite modules loaded:
requires:
Module Need Have
------------------------ -------- --------
Carp 0 1.50
Class::Method::Modifiers 1.10 2.13
Exporter 0 5.74
perl 5.006 5.030002
Role::Tiny 2.002003 2.002004
Scalar::Util 1.00 1.63
Sub::Defer 2.006006 2.006006
Sub::Quote 2.006006 2.006006
build_requires:
Module Need Have
------------------------ -------- --------
Test::More 0.94 1.302191
configure_requires:
Module Need Have
------------------------ -------- --------
ExtUtils::MakeMaker 0 7.64
------------------------------
ENVIRONMENT AND OTHER CONTEXT
------------------------------
Environment variables:
AUTOMATED_TESTING = 1
LANG = en_GB.UTF-8
NONINTERACTIVE_TESTING = 1
PATH = /home/david/bin:/home/david/perl5/perlbrew/bin:/home/david/perl5/perlbrew/perls/perl-5.32.0/bin:/home/david/bin:/home/david/bin:/usr/bin:/usr/sbin:/sbin:/usr/gnu/bin:/opt/ooce/bin:/home/david/.fzf.git/bin:/opt/ooce/bin:/opt/ooce/bin
PERL = 5.30.2
PERL5LIB =
PERL5OPT =
PERL5_CPANPLUS_IS_RUNNING = 12189
PERL5_CPAN_IS_RUNNING = 12189
PERLBREW_HOME = /home/david/.perlbrew
PERLBREW_MANPATH = /home/david/perl5/perlbrew/perls/perl-5.32.0/man
PERLBREW_PATH = /home/david/perl5/perlbrew/bin:/home/david/perl5/perlbrew/perls/perl-5.32.0/bin
PERLBREW_PERL = perl-5.32.0
PERLBREW_ROOT = /home/david/perl5/perlbrew
PERLBREW_SHELLRC_VERSION = 0.89
PERLBREW_VERSION = 0.89
PERLVER = 5.30.2
PERL_INLINE_DIRECTORY = /home/david/.Inline-5.30.2
PERL_MM_USE_DEFAULT = 1
PERL_USE_UNSAFE_INC = 0
SHELL = /bin/bash
TERM = screen
Perl special variables (and OS-specific diagnostics, for MSWin32):
$^X = /home/david/cpantesting/perl-5.30.2/bin/perl
$UID/$EUID = 100 / 100
$GID = 1 1 100
$EGID = 1 1 100
Perl module toolchain versions installed:
Module Have
------------------- --------
CPAN 2.22
CPAN::Meta 2.150010
Cwd 3.75
ExtUtils::CBuilder 0.280236
ExtUtils::Command 7.64
ExtUtils::Install 2.20
ExtUtils::MakeMaker 7.64
ExtUtils::Manifest 1.73
ExtUtils::ParseXS 3.44
File::Spec 3.75
JSON 4.09
JSON::PP 4.11
Module::Build 0.4231
Module::Signature n/a
Parse::CPAN::Meta 2.150010
Test::Harness 3.44
Test::More 1.302191
YAML 1.30
YAML::Syck n/a
version 0.9929
--
Summary of my perl5 (revision 5 version 30 subversion 2) configuration:
Platform:
osname=solaris
osvers=2.11
archname=i86pc-solaris-thread-multi-64
uname='sunos cpantesting-illumos 5.11 omnios-r151036-4a32ffb911 i86pc i386 i86pc '
config_args='-de -Dcc=gcc -Dprefix=/home/david/cpantesting/perl-5.30.2 -Dusethreads'
hint=recommended
useposix=true
d_sigaction=define
useithreads=define
usemultiplicity=define
use64bitint=define
use64bitall=define
uselongdouble=undef
usemymalloc=n
default_inc_excludes_dot=define
bincompat5005=undef
Compiler:
cc='gcc'
ccflags ='-D_REENTRANT -fwrapv -fno-strict-aliasing -pipe -fstack-protector-strong -m64 -D_LARGEFILE_SOURCE -D_FILE_OFFSET_BITS=64 -D_FORTIFY_SOURCE=2 -DPERL_USE_SAFE_PUTENV'
optimize='-O'
cppflags='-D_REENTRANT -fwrapv -fno-strict-aliasing -pipe -fstack-protector-strong'
ccversion=''
gccversion='9.3.0'
gccosandvers=''
intsize=4
longsize=8
ptrsize=8
doublesize=8
byteorder=12345678
doublekind=3
d_longlong=define
longlongsize=8
d_longdbl=define
longdblsize=16
longdblkind=3
ivtype='long'
ivsize=8
nvtype='double'
nvsize=8
Off_t='off_t'
lseeksize=8
alignbytes=8
prototype=define
Linker and Libraries:
ld='gcc'
ldflags =' -fstack-protector-strong -L/usr/gnu/lib -m64 '
libpth=/opt/gcc-9/lib /opt/gcc-9/lib/gcc/x86_64-pc-solaris2.11/9.3.0/include-fixed /usr/lib /usr/gnu/lib /usr/ccs/lib
libs=-lpthread -lsocket -lnsl -ldl -lm -lc
perllibs=-lpthread -lsocket -lnsl -ldl -lm -lc
libc=/lib/libc.so
so=so
useshrplib=true
libperl=libperl.so
gnulibc_version=''
Dynamic Linking:
dlsrc=dl_dlopen.xs
dlext=so
d_dlsymun=undef
ccdlflags=' -R /home/david/cpantesting/perl-5.30.2/lib/5.30.2/i86pc-solaris-thread-multi-64/CORE'
cccdlflags='-fPIC'
lddlflags=' -shared -m64 -L/usr/gnu/lib -fstack-protector-strong'
Characteristics of this binary (from libperl):
Compile-time options:
HAS_TIMES
MULTIPLICITY
PERLIO_LAYERS
PERL_COPY_ON_WRITE
PERL_DONT_CREATE_GVSV
PERL_IMPLICIT_CONTEXT
PERL_MALLOC_WRAP
PERL_OP_PARENT
PERL_PRESERVE_IVUV
PERL_USE_SAFE_PUTENV
USE_64_BIT_ALL
USE_64_BIT_INT
USE_ITHREADS
USE_LARGE_FILES
USE_LOCALE
USE_LOCALE_COLLATE
USE_LOCALE_CTYPE
USE_LOCALE_NUMERIC
USE_LOCALE_TIME
USE_PERLIO
USE_PERL_ATOF
USE_REENTRANT_API
USE_THREAD_SAFE_LOCALE
Built under solaris
Compiled at Dec 12 2020 00:49:07
%ENV:
PERL="5.30.2"
PERL5LIB=""
PERL5OPT=""
PERL5_CPANPLUS_IS_RUNNING="12189"
PERL5_CPAN_IS_RUNNING="12189"
PERLBREW_HOME="/home/david/.perlbrew"
PERLBREW_MANPATH="/home/david/perl5/perlbrew/perls/perl-5.32.0/man"
PERLBREW_PATH="/home/david/perl5/perlbrew/bin:/home/david/perl5/perlbrew/perls/perl-5.32.0/bin"
PERLBREW_PERL="perl-5.32.0"
PERLBREW_ROOT="/home/david/perl5/perlbrew"
PERLBREW_SHELLRC_VERSION="0.89"
PERLBREW_VERSION="0.89"
PERLVER="5.30.2"
PERL_INLINE_DIRECTORY="/home/david/.Inline-5.30.2"
PERL_MM_USE_DEFAULT="1"
PERL_USE_UNSAFE_INC="0"
@INC:
/home/david/cpantesting/perl-5.30.2/lib/site_perl/5.30.2/i86pc-solaris-thread-multi-64
/home/david/cpantesting/perl-5.30.2/lib/site_perl/5.30.2
/home/david/cpantesting/perl-5.30.2/lib/5.30.2/i86pc-solaris-thread-multi-64
/home/david/cpantesting/perl-5.30.2/lib/5.30.2