CHI v0.61 Perl 5 v5.40.0 BePC-haiku-thread-multi

Status
Pass
From
Nigel Horne
Dist
CHI v0.61
Platform
Perl 5 v5.40.0 BePC-haiku-thread-multi
Date
2024-09-25 21:19:45
ID
e31c7e78-7b83-11ef-b328-bcdb3b58bcef
This distribution has been tested as part of the CPAN Testers
project, supporting the Perl programming language.  See
http://wiki.cpantesters.org/ for more information or email
questions to cpan-testers-discuss@perl.org


--
Dear Alexander Becker,

This is a computer-generated report for CHI-0.61
on perl 5.40.0, created by CPAN-Reporter-1.2020.

Thank you for uploading your work to CPAN.  Congratulations!
All tests were successful.

Sections of this report:

    * Tester comments
    * Program output
    * Prerequisites
    * Environment and other context

------------------------------
TESTER COMMENTS
------------------------------

Additional comments from tester:

none provided

------------------------------
PROGRAM OUTPUT
------------------------------

Output from '/bin/make test':

"/packages/perl_x86-5.40.0-4/.self/bin/perl" "-MExtUtils::Command::MM" "-MTest::Harness" "-e" "undef *Test::Harness::Switches; test_harness(0, 'blib/lib', 'blib/arch')" t/*.t
# Testing CHI 0.61, Perl 5.040000, /packages/perl_x86-5.40.0-4/.self/bin/perl
t/00-load.t ............................. ok
t/author-03-pod.t ....................... skipped: these tests are for testing by the author
t/author-file-driver.t .................. skipped: these tests are for testing by the author
t/author-no-data-serializer.t ........... skipped: these tests are for testing by the author
t/author-RequiredModules.t .............. skipped: these tests are for testing by the author
t/Bugs.t ................................ ok
t/Config.t .............................. ok
t/Constants.t ........................... ok
t/Driver-Memory.t ....................... ok
t/Driver-RawMemory.t .................... ok
t/GetError.t ............................ ok
t/Initialize.t .......................... ok
t/release-dependent.t ................... skipped: these tests are for release candidate testing
t/Sanity.t .............................. ok
t/SetError.t ............................ ok
t/smoke-Driver-CacheCache.t ............. skipped: these tests are for "smoke bot" testing
t/smoke-Driver-FastMmap.t ............... skipped: these tests are for "smoke bot" testing
t/smoke-Driver-File-DepthZero.t ......... skipped: these tests are for "smoke bot" testing
t/smoke-Driver-File.t ................... skipped: these tests are for "smoke bot" testing
t/smoke-Driver-NonMoose.t ............... skipped: these tests are for "smoke bot" testing
t/smoke-Driver-Subcache-l1_cache.t ...... skipped: these tests are for "smoke bot" testing
t/smoke-Driver-Subcache-mirror_cache.t .. skipped: these tests are for "smoke bot" testing
t/smoke-Null.t .......................... skipped: these tests are for "smoke bot" testing
t/Subcache.t ............................ ok
t/Subclass.t ............................ ok
t/Util.t ................................ ok
All tests successful.
Files=26, Tests=1787, 13 wallclock secs ( 0.44 usr  0.07 sys + 12.22 cusr  0.79 csys = 13.52 CPU)
Result: PASS

------------------------------
PREREQUISITES
------------------------------

Prerequisite modules loaded:

requires:

    Module                          Need     Have    
    ------------------------------- -------- --------
    Carp::Assert                    0.20     0.22    
    Class::Load                     0        0.25    
    Data::UUID                      0        1.227   
    Digest::JHash                   0        0.10    
    Digest::MD5                     0        2.59    
    File::Spec                      0.80     3.90    
    Hash::MoreUtils                 0        0.06    
    JSON::MaybeXS                   1.003003 1.004008
    List::MoreUtils                 0.13     0.430   
    Log::Any                        0.08     1.717   
    Moo                             1.003    2.005005
    MooX::Types::MooseLike          0.23     0.29    
    MooX::Types::MooseLike::Base    0        0.29    
    MooX::Types::MooseLike::Numeric 0        1.03    
    Storable                        0        3.32    
    String::RewritePrefix           0        0.009   
    Task::Weaken                    0        1.06    
    Time::Duration                  1.06     1.21    
    Time::Duration::Parse           0.03     0.16    
    Time::HiRes                     1.30     1.9777  
    Try::Tiny                       0.05     0.32    

build_requires:

    Module                          Need     Have    
    ------------------------------- -------- --------
    Cache::FileCache                0        0       
    Date::Parse                     0        2.33    
    ExtUtils::MakeMaker             0        7.70    
    Module::Mask                    0        0.06    
    Test::Builder                   0        1.302204
    Test::Class                     0        0.52    
    Test::Deep                      0        1.204   
    Test::Exception                 0        0.43    
    Test::More                      0        1.302204
    Test::Warn                      0        0.37    

configure_requires:

    Module                          Need     Have    
    ------------------------------- -------- --------
    ExtUtils::MakeMaker             0        7.70    


------------------------------
ENVIRONMENT AND OTHER CONTEXT
------------------------------

Environment variables:

    LC_COLLATE = en.UTF-8
    LC_CTYPE = en.UTF-8
    LC_MESSAGES = en.UTF-8
    LC_MONETARY = en.UTF-8
    LC_NUMERIC = en.UTF-8
    LC_TIME = en.UTF-8
    NONINTERACTIVE_TESTING = 1
    PATH = /boot/home/perl5/perlbrew/bin:/boot/system/develop/tools/x86/bin:/boot/home/perl5/bin:.:/boot/home/config/non-packaged/bin:/boot/home/config/bin:/boot/system/non-packaged/bin:/bin:/boot/system/apps:/boot/system/preferences
    PERL5LIB = /boot/home/perl5/lib/perl5
    PERL5OPT = 
    PERL5_CPANPLUS_IS_RUNNING = 26391
    PERL5_CPAN_IS_RUNNING = 26391
    PERLBREW_HOME = /boot/home/.perlbrew
    PERLBREW_PATH = /boot/home/perl5/perlbrew/bin
    PERLBREW_ROOT = /boot/home/perl5/perlbrew
    PERLBREW_SHELLRC_VERSION = 0.99
    PERLBREW_VERSION = 0.99
    PERL_LOCAL_LIB_ROOT = /boot/home/perl5
    PERL_MB_OPT = --install_base "/boot/home/perl5"
    PERL_MM_OPT = INSTALL_BASE=/boot/home/perl5
    PERL_MM_USE_DEFAULT = 1
    PERL_USE_UNSAFE_INC = 1
    SHELL = /bin/bash
    TERM = xterm-256color

Perl special variables (and OS-specific diagnostics, for MSWin32):

    $^X = /packages/perl_x86-5.40.0-4/.self/bin/perl
    $UID/$EUID = 0 / 0
    $GID = 0 101 0
    $EGID = 0 101 0

Perl module toolchain versions installed:

    Module              Have    
    ------------------- --------
    CPAN                2.37    
    CPAN::Meta          2.150010
    Cwd                 3.90    
    ExtUtils::CBuilder  0.280240
    ExtUtils::Command   7.70    
    ExtUtils::Install   2.22    
    ExtUtils::MakeMaker 7.70    
    ExtUtils::Manifest  1.75    
    ExtUtils::ParseXS   3.51    
    File::Spec          3.90    
    JSON                4.10    
    JSON::PP            4.16    
    Module::Build       0.4234  
    Module::Signature   n/a     
    Parse::CPAN::Meta   2.150010
    Test2               1.302204
    Test::Harness       3.50    
    Test::More          1.302204
    YAML                1.31    
    YAML::Syck          n/a     
    version             0.9933  


--

Summary of my perl5 (revision 5 version 40 subversion 0) configuration:
  Derived from: 
  Platform:
    osname=haiku
    osvers=1
    archname=BePC-haiku-thread-multi
    uname='haiku shredder 1 hrev57937+5 aug 8 2024 06:51:3 bepc x86 haiku '
    config_args='-Dprefix=/packages/perl_x86-5.40.0-4/.self -Dprivlib=/packages/perl_x86-5.40.0-4/.self/lib/perl5/5.40.0 -Dsiteprefix=/packages/perl_x86-5.40.0-4/.self/non-packaged -Dsitelib=/packages/perl_x86-5.40.0-4/.self/non-packaged/lib/perl5/site_perl/5.40 -Dvendorprefix=/packages/perl_x86-5.40.0-4/.self -Dvendorlib=/packages/perl_x86-5.40.0-4/.self/lib/perl5/vendor_perl/5.40 -Dcf_email=zooey@hirschkaefer.de -Uusenm -Duseshrplib -Dusethreads -Uusemymalloc -Dlibpth=/boot/home/config/develop/lib/x86 /boot/system/develop/lib/x86 /boot/home/config/lib/x86 /boot/system/lib/x86 -Dusrinc=/boot/system/develop/headers/x86/posix -Dlocinc=/boot/home/config/develop/headers/x86 /boot/system/develop/headers/x86 -Dlibc='/boot/system/lib/x86/libroot.so' -Dlibs=-lnetwork -Dcc=gcc -Dld=gcc -Ud_link -Ddont_use_nlink -Ud_syserrlst -Dldlibpthname=LIBRARY_PATH -Dstartperl=#! perl -Dccdlflags=-Wl,-fno-stack-protector,-rpath=/packages/perl_x86-5.40.0-4/.self/lib/perl5/5.40.0/BePC-haiku-thread-multi/CORE -Dusesitecustomize -de'
    hint=recommended
    useposix=true
    d_sigaction=define
    useithreads=define
    usemultiplicity=define
    use64bitint=undef
    use64bitall=undef
    uselongdouble=undef
    usemymalloc=n
    default_inc_excludes_dot=define
  Compiler:
    cc='gcc'
    ccflags ='-fno-stack-protector -fwrapv -fno-strict-aliasing -pipe -D_FORTIFY_SOURCE=2'
    optimize='-O'
    cppflags='-fno-stack-protector -fwrapv -fno-strict-aliasing -pipe'
    ccversion=''
    gccversion='13.3.0'
    gccosandvers=''
    intsize=4
    longsize=4
    ptrsize=4
    doublesize=8
    byteorder=1234
    doublekind=3
    d_longlong=define
    longlongsize=8
    d_longdbl=define
    longdblsize=12
    longdblkind=3
    ivtype='long'
    ivsize=4
    nvtype='double'
    nvsize=8
    Off_t='off_t'
    lseeksize=8
    alignbytes=4
    prototype=define
  Linker and Libraries:
    ld='gcc'
    ldflags =''
    libpth=/boot/home/config/develop/lib/x86 /boot/system/develop/lib/x86 /boot/home/config/lib/x86 /boot/system/lib/x86
    libs=-lnetwork
    perllibs=-lnetwork
    libc=/boot/system/lib/x86/libroot.so
    so=so
    useshrplib=true
    libperl=libperl.so
    gnulibc_version=''
  Dynamic Linking:
    dlsrc=dl_dlopen.xs
    dlext=so
    d_dlsymun=undef
    ccdlflags='-Wl,-fno-stack-protector,-rpath=/packages/perl_x86-5.40.0-4/.self/lib/perl5/5.40.0/BePC-haiku-thread-multi/CORE -Wl,-rpath,/packages/perl_x86-5.40.0-4/.self/lib/perl5/5.40.0/BePC-haiku-thread-multi/CORE'
    cccdlflags='-fpic'
    lddlflags='-shared'


Characteristics of this binary (from libperl): 
  Compile-time options:
    HAS_LONG_DOUBLE
    HAS_STRTOLD
    HAS_TIMES
    MULTIPLICITY
    PERLIO_LAYERS
    PERL_COPY_ON_WRITE
    PERL_DONT_CREATE_GVSV
    PERL_HASH_FUNC_ZAPHOD32
    PERL_HASH_USE_SBOX32
    PERL_OP_PARENT
    PERL_PRESERVE_IVUV
    PERL_USE_SAFE_PUTENV
    USE_ITHREADS
    USE_LARGE_FILES
    USE_LOCALE
    USE_LOCALE_COLLATE
    USE_LOCALE_CTYPE
    USE_LOCALE_NUMERIC
    USE_LOCALE_TIME
    USE_PERLIO
    USE_PERL_ATOF
    USE_REENTRANT_API
    USE_SITECUSTOMIZE
    USE_THREAD_SAFE_LOCALE
  Locally applied patches:
    uncommitted-changes
  Built under haiku
  Compiled at Aug 18 2024 17:21:04
  %ENV:
    PERL5LIB="/boot/home/perl5/lib/perl5"
    PERL5OPT=""
    PERL5_CPANPLUS_IS_RUNNING="26391"
    PERL5_CPAN_IS_RUNNING="26391"
    PERLBREW_HOME="/boot/home/.perlbrew"
    PERLBREW_PATH="/boot/home/perl5/perlbrew/bin"
    PERLBREW_ROOT="/boot/home/perl5/perlbrew"
    PERLBREW_SHELLRC_VERSION="0.99"
    PERLBREW_VERSION="0.99"
    PERL_LOCAL_LIB_ROOT="/boot/home/perl5"
    PERL_MB_OPT="--install_base "/boot/home/perl5""
    PERL_MM_OPT="INSTALL_BASE=/boot/home/perl5"
    PERL_MM_USE_DEFAULT="1"
    PERL_USE_UNSAFE_INC="1"
  @INC:
    /boot/home/perl5/lib/perl5/5.40.0/BePC-haiku-thread-multi
    /boot/home/perl5/lib/perl5/5.40.0
    /boot/home/perl5/lib/perl5/BePC-haiku-thread-multi
    /boot/home/perl5/lib/perl5
    /packages/perl_x86-5.40.0-4/.self/non-packaged/lib/perl5/site_perl/5.40/BePC-haiku-thread-multi
    /packages/perl_x86-5.40.0-4/.self/non-packaged/lib/perl5/site_perl/5.40
    /packages/perl_x86-5.40.0-4/.self/lib/perl5/vendor_perl/5.40/BePC-haiku-thread-multi
    /packages/perl_x86-5.40.0-4/.self/lib/perl5/vendor_perl/5.40
    /packages/perl_x86-5.40.0-4/.self/lib/perl5/5.40.0/BePC-haiku-thread-multi
    /packages/perl_x86-5.40.0-4/.self/lib/perl5/5.40.0
    .