App-perlimports v0.000048 Perl 5 v5.32.1 MSWin32-x86-multi-thread-64int

Status
Pass
From
gregor herrmann
Dist
App-perlimports v0.000048
Platform
Perl 5 v5.32.1 MSWin32-x86-multi-thread-64int
Date
2022-09-14 02:16:41
ID
e2699061-6c11-1014-9b97-3d08cca71e1c
This distribution has been tested as part of the CPAN Testers
project, supporting the Perl programming language.  See
http://wiki.cpantesters.org/ for more information or email
questions to cpan-testers-discuss@perl.org


--
Dear Olaf Alders,

This is a computer-generated report for App-perlimports-0.000048
on perl 5.32.1, created by CPAN-Reporter-1.2018.

Thank you for uploading your work to CPAN.  Congratulations!
All tests were successful.

Sections of this report:

    * Tester comments
    * Program output
    * Prerequisites
    * Environment and other context

------------------------------
TESTER COMMENTS
------------------------------

Additional comments from tester:

this report is from an automated smoke testing program
and was not reviewed by a human for accuracy

------------------------------
PROGRAM OUTPUT
------------------------------

Output from 'C:\strawberry\c\bin\gmake.EXE test':

"C:\Strawberry\perl\bin\perl.exe" "-MExtUtils::Command::MM" "-MTest::Harness" "-e" "undef *Test::Harness::Switches; test_harness(0, 'blib\lib', 'blib\arch')" t/*.t t/ExportInspector/*.t t/cpan-modules/*.t
# 
# Versions for all modules listed in MYMETA.json (including optional ones):
# 
# === Configure Requires ===
# 
#     Module              Want    Have
#     ------------------- ---- -------
#     ExtUtils::MakeMaker  any 7.65_02
# 
# === Build Requires ===
# 
#     Module              Want    Have
#     ------------------- ---- -------
#     ExtUtils::MakeMaker  any 7.65_02
# 
# === Test Requires ===
# 
#     Module                 Want     Have
#     ---------------------- ---- --------
#     DDP                     any    undef
#     ExtUtils::MakeMaker     any  7.65_02
#     File::Spec              any     3.78
#     File::pushd             any    1.016
#     Log::Dispatch::Array    any    1.003
#     PPI::Dumper             any    1.276
#     Sub::Exporter           any    0.988
#     Test::Differences       any     0.69
#     Test::Fatal             any    0.016
#     Test::More              any 1.302191
#     Test::Needs             any 0.002006
#     Test::RequiresInternet  any     0.05
#     Test::Script           1.29     1.29
#     Test::Warnings          any    0.031
#     lib                     any     0.65
# 
# === Test Recommends ===
# 
#     Module         Want     Have
#     ---------- -------- --------
#     CPAN::Meta 2.120900 2.150010
# 
# === Runtime Requires ===
# 
#     Module                           Want      Have
#     ---------------------------- -------- ---------
#     Capture::Tiny                     any      0.48
#     Class::Inspector                 1.36      1.36
#     Data::Dumper                      any     2.183
#     Data::UUID                        any     1.226
#     File::Basename                    any      2.85
#     File::XDG                        1.01      1.02
#     Getopt::Long::Descriptive         any     0.110
#     List::Util                        any      1.63
#     Log::Dispatch                    2.70      2.70
#     Memoize                           any      1.13
#     Module::Runtime                   any     0.016
#     Moo                               any  2.005004
#     Moo::Role                         any  2.005004
#     MooX::StrictConstructor           any     0.011
#     PPI                             1.276     1.276
#     PPI::Document                     any     1.276
#     PPIx::Utils::Classification       any     0.003
#     Path::Iterator::Rule              any     1.015
#     Path::Tiny                        any     0.124
#     Perl::Tidy                   20220613  20220613
#     Pod::Usage                        any      2.03
#     Ref::Util                         any     0.204
#     Sereal::Decoder                   any     5.001
#     Sereal::Encoder                   any     5.001
#     Sub::HandlesVia                   any     0.036
#     Symbol::Get                      0.10      0.10
#     TOML::Tiny                        any      0.15
#     Text::Diff                        any      1.45
#     Text::SimpleTable::AutoWidth      any      0.09
#     Try::Tiny                         any      0.31
#     Types::Standard                   any 1.999_007
#     feature                           any      1.58
#     strict                            any      1.11
#     utf8                              any      1.22
#     warnings                          any      1.47
# 
t/00-report-prereqs.t ............ ok
t/after.t ........................ ok
t/annotations.t .................. ok
t/args-in-import.t ............... ok
t/builtin.t ...................... ok
t/carp.t ......................... ok
t/cast-in-regex.t ................ ok
t/cast.t ......................... ok
t/cli-args.t ..................... ok
t/cli.t .......................... ok
t/config-in-import.t ............. ok
t/Config.t ....................... ok
t/cpan-modules/pithub.t .......... ok
t/cpan-modules/test2-v0.t ........ ok
t/datetime.t ..................... ok
t/do-block.t ..................... ok
t/Document.t ..................... ok
t/dump-perl-exports.t ............ ok
t/dupes.t ........................ ok
t/english.t ...................... ok
t/explodes.t ..................... ok
t/export-tags.t .................. ok
t/exported-variables.t ........... ok
t/ExportInspector/load.t ......... ok
t/ExportInspector/SubExporter.t .. skipped: Need MetaCPAN::Moose
t/find-bin.t ..................... ok
t/fully-qualified.t .............. ok
t/func-in-use.t .................. ok
t/func-in-var.t .................. ok
t/geo-ip.t ....................... ok
t/hash-in-regex.t ................ ok
t/hash-key.t ..................... ok
t/heredoc.t ...................... ok
t/ignored-modules.t .............. ok
t/import-error.t ................. ok
t/interpolation.t ................ ok
t/is-ignored.t ................... ok
t/lookalike-words.t .............. ok
t/memoize.t ...................... skipped: Need MooseX::Types::UUID
t/meta.t ......................... ok
t/method.t ....................... ok
t/missing-semicolon-in-import.t .. ok
t/module-with-inner-packages.t ... ok
t/moo.t .......................... ok
t/moose-types.t .................. ok
t/moose.t ........................ ok
t/moosex-types-moose.t ........... ok
t/nested-quotes.t ................ ok
t/never-exports.t ................ ok
t/original-imports.t ............. ok
t/padding.t ...................... ok
t/perl-imports.t ................. ok
t/perl.t ......................... ok
t/perlimports.t .................. ok
t/pragma.t ....................... ok
t/preserve-some-padding.t ........ ok
t/preserve-spaces.t .............. ok
t/qualified-bareword.t ........... ok
t/quoted-var.t ................... ok
t/re-export-via-sub-exporter.t ... ok
t/regex-replacement.t ............ skipped: Need IP::Random 1.200230
t/require.t ...................... ok
t/respace-include.t .............. ok
t/Sandbox.t ...................... ok
t/script-with-inner-packages.t ... ok
t/signatures.t ................... ok
t/skip-all.t ..................... skipped: Test is broken
t/socket.t ....................... ok
t/sort-imports.t ................. ok
t/switches-in-import.t ........... ok
t/symbol-as-method-call.t ........ skipped: Need Object::Tap
t/symbol-in-export.t ............. ok
t/test-builder.t ................. ok
t/test-most.t .................... ok
t/typeglob.t ..................... ok
t/unnest-quotes.t ................ ok
t/use-and-require.t .............. ok
t/var-in-hash-key.t .............. ok
t/var-in-regex.t ................. ok
t/variable.t ..................... ok
t/warning.t ...................... ok
t/with-version.t ................. ok
All tests successful.
Files=82, Tests=193, 411 wallclock secs ( 0.36 usr +  0.09 sys =  0.45 CPU)
Result: PASS

------------------------------
PREREQUISITES
------------------------------

Prerequisite modules loaded:

requires:

    Module                       Need     Have     
    ---------------------------- -------- ---------
    Capture::Tiny                0        0.48     
    Class::Inspector             1.36     1.36     
    Data::Dumper                 0        2.183    
    Data::UUID                   0        1.226    
    feature                      0        1.58     
    File::Basename               0        2.85     
    File::XDG                    1.01     1.02     
    Getopt::Long::Descriptive    0        0.110    
    List::Util                   0        1.63     
    Log::Dispatch                2.70     2.70     
    Memoize                      0        1.13     
    Module::Runtime              0        0.016    
    Moo                          0        2.005004 
    Moo::Role                    0        2.005004 
    MooX::StrictConstructor      0        0.011    
    Path::Iterator::Rule         0        1.015    
    Path::Tiny                   0        0.124    
    perl                         5.018000 5.032001 
    Perl::Tidy                   20220613 20220613 
    Pod::Usage                   0        2.03     
    PPI                          1.276    1.276    
    PPI::Document                0        1.276    
    PPIx::Utils::Classification  0        0.003    
    Ref::Util                    0        0.204    
    Sereal::Decoder              0        5.001    
    Sereal::Encoder              0        5.001    
    strict                       0        1.11     
    Sub::HandlesVia              0        0.036    
    Symbol::Get                  0.10     0.10     
    Text::Diff                   0        1.45     
    Text::SimpleTable::AutoWidth 0        0.09     
    TOML::Tiny                   0        0.15     
    Try::Tiny                    0        0.31     
    Types::Standard              0        1.999_007
    utf8                         0        1.22     
    warnings                     0        1.47     

build_requires:

    Module                       Need     Have     
    ---------------------------- -------- ---------
    DDP                          0        0.40     
    ExtUtils::MakeMaker          0        7.65_02  
    File::pushd                  0        1.016    
    File::Spec                   0        3.78     
    lib                          0        0.65     
    Log::Dispatch::Array         0        1.003    
    PPI::Dumper                  0        1.276    
    Sub::Exporter                0        0.988    
    Test::Differences            0        0.69     
    Test::Fatal                  0        0.016    
    Test::More                   0        1.302191 
    Test::Needs                  0        0.002006 
    Test::RequiresInternet       0        0.05     
    Test::Script                 1.29     1.29     
    Test::Warnings               0        0.031    

configure_requires:

    Module                       Need     Have     
    ---------------------------- -------- ---------
    ExtUtils::MakeMaker          0        7.65_02  
    perl                         v5.10.0  5.032001 


------------------------------
ENVIRONMENT AND OTHER CONTEXT
------------------------------

Environment variables:

    AUTOMATED_TESTING = 1
    COMSPEC = C:\WINDOWS.0\system32\cmd.exe
    NONINTERACTIVE_TESTING = 1
    NUMBER_OF_PROCESSORS = 1
    PATH = C:\WINDOWS.0\system32;C:\strawberry\c\bin;C:\strawberry\perl\site\bin;C:\strawberry\perl\bin
    PERL5LIB = C:\cpan\build\Text-SimpleTable-AutoWidth-0.09-0/blib/arch;C:\cpan\build\Text-SimpleTable-AutoWidth-0.09-0/blib/lib;C:\cpan\build\Test-Script-1.29-0/blib/arch;C:\cpan\build\Test-Script-1.29-0/blib/lib
    PERL5OPT = 
    PERL5_CPANPLUS_IS_RUNNING = 3496
    PERL5_CPAN_IS_RUNNING = 3496
    PERL5_CPAN_IS_RUNNING_IN_RECURSION = 1736,3496
    PERL_CR_SMOKER_CURRENT = App-perlimports-0.000048
    PERL_EXTUTILS_AUTOINSTALL = --defaultdeps
    PERL_MM_USE_DEFAULT = 1
    PERL_USE_UNSAFE_INC = 1
    PROCESSOR_IDENTIFIER = x86 Family 6 Model 14 Stepping 8, GenuineIntel
    TEMP = C:\DOKUME~1\smoker\LOKALE~1\Temp
    TERM = dumb

Perl special variables (and OS-specific diagnostics, for MSWin32):

    $^X = C:\Strawberry\perl\bin\perl.exe
    $UID/$EUID = 0 / 0
    $GID = 0
    $EGID = 0
    Win32::GetOSName = WinXP/.Net
    Win32::GetOSVersion = Service Pack 3, 5, 1, 2600, 2, 3, 0, 256, 1
    Win32::FsType = NTFS
    Win32::IsAdminUser = 1

Perl module toolchain versions installed:

    Module              Have    
    ------------------- --------
    CPAN                2.34    
    CPAN::Meta          2.150010
    Cwd                 3.78    
    ExtUtils::CBuilder  0.280235
    ExtUtils::Command   7.65_02 
    ExtUtils::Install   2.20    
    ExtUtils::MakeMaker 7.65_02 
    ExtUtils::Manifest  1.73    
    ExtUtils::ParseXS   3.44    
    File::Spec          3.78    
    JSON                4.09    
    JSON::PP            4.11    
    Module::Build       0.4231  
    Module::Signature   0.88    
    Parse::CPAN::Meta   2.150010
    Test::Harness       3.44    
    Test::More          1.302191
    YAML                1.30    
    YAML::Syck          1.34    
    version             0.9928  


--

Summary of my perl5 (revision 5 version 32 subversion 1) configuration:
   
  Platform:
    osname=MSWin32
    osvers=10.0.19042.746
    archname=MSWin32-x86-multi-thread-64int
    uname='Win32 strawberry-perl 5.32.1.1 #1 Sun Jan 24 12:17:47 2021 i386'
    config_args='undef'
    hint=recommended
    useposix=true
    d_sigaction=undef
    useithreads=define
    usemultiplicity=define
    use64bitint=define
    use64bitall=undef
    uselongdouble=undef
    usemymalloc=n
    default_inc_excludes_dot=define
    bincompat5005=undef
  Compiler:
    cc='gcc'
    ccflags =' -DWIN32 -D__USE_MINGW_ANSI_STDIO -DPERL_TEXTMODE_SCRIPTS -DPERL_IMPLICIT_CONTEXT -DPERL_IMPLICIT_SYS -DUSE_PERLIO -fwrapv -fno-strict-aliasing -mms-bitfields'
    optimize='-s -O2'
    cppflags='-DWIN32'
    ccversion=''
    gccversion='8.3.0'
    gccosandvers=''
    intsize=4
    longsize=4
    ptrsize=4
    doublesize=8
    byteorder=12345678
    doublekind=3
    d_longlong=define
    longlongsize=8
    d_longdbl=define
    longdblsize=12
    longdblkind=3
    ivtype='long long'
    ivsize=8
    nvtype='double'
    nvsize=8
    Off_t='long long'
    lseeksize=8
    alignbytes=8
    prototype=define
  Linker and Libraries:
    ld='g++'
    ldflags ='-s -L"C:\STRAWB~1\perl\lib\CORE" -L"C:\STRAWB~1\c\lib"'
    libpth=C:\STRAWB~1\c\lib C:\STRAWB~1\c\i686-w64-mingw32\lib C:\STRAWB~1\c\lib\gcc\i686-w64-mingw32\8.3.0
    libs= -lmoldname -lkernel32 -luser32 -lgdi32 -lwinspool -lcomdlg32 -ladvapi32 -lshell32 -lole32 -loleaut32 -lnetapi32 -luuid -lws2_32 -lmpr -lwinmm -lversion -lodbc32 -lodbccp32 -lcomctl32
    perllibs= -lmoldname -lkernel32 -luser32 -lgdi32 -lwinspool -lcomdlg32 -ladvapi32 -lshell32 -lole32 -loleaut32 -lnetapi32 -luuid -lws2_32 -lmpr -lwinmm -lversion -lodbc32 -lodbccp32 -lcomctl32
    libc=
    so=dll
    useshrplib=true
    libperl=libperl532.a
    gnulibc_version=''
  Dynamic Linking:
    dlsrc=dl_win32.xs
    dlext=xs.dll
    d_dlsymun=undef
    ccdlflags=' '
    cccdlflags=' '
    lddlflags='-mdll -s -L"C:\STRAWB~1\perl\lib\CORE" -L"C:\STRAWB~1\c\lib"'


Characteristics of this binary (from libperl): 
  Compile-time options:
    HAS_TIMES
    HAVE_INTERP_INTERN
    MULTIPLICITY
    PERLIO_LAYERS
    PERL_COPY_ON_WRITE
    PERL_DONT_CREATE_GVSV
    PERL_IMPLICIT_CONTEXT
    PERL_IMPLICIT_SYS
    PERL_MALLOC_WRAP
    PERL_OP_PARENT
    PERL_PRESERVE_IVUV
    USE_64_BIT_INT
    USE_ITHREADS
    USE_LARGE_FILES
    USE_LOCALE
    USE_LOCALE_COLLATE
    USE_LOCALE_CTYPE
    USE_LOCALE_NUMERIC
    USE_LOCALE_TIME
    USE_PERLIO
    USE_PERL_ATOF
  Built under MSWin32
  Compiled at Jan 24 2021 12:22:49
  %ENV:
    PERL5LIB="C:\cpan\build\Text-SimpleTable-AutoWidth-0.09-0/blib/arch;C:\cpan\build\Text-SimpleTable-AutoWidth-0.09-0/blib/lib;C:\cpan\build\Test-Script-1.29-0/blib/arch;C:\cpan\build\Test-Script-1.29-0/blib/lib"
    PERL5_CPANPLUS_IS_RUNNING="3496"
    PERL5_CPAN_IS_RUNNING="3496"
    PERL5_CPAN_IS_RUNNING_IN_RECURSION="1736,3496"
    PERL_CR_SMOKER_CURRENT="App-perlimports-0.000048"
    PERL_EXTUTILS_AUTOINSTALL="--defaultdeps"
    PERL_MM_USE_DEFAULT="1"
    PERL_USE_UNSAFE_INC="1"
  @INC:
    C:\cpan\build\Text-SimpleTable-AutoWidth-0.09-0/blib/arch
    C:\cpan\build\Text-SimpleTable-AutoWidth-0.09-0/blib/lib
    C:\cpan\build\Test-Script-1.29-0/blib/arch
    C:\cpan\build\Test-Script-1.29-0/blib/lib
    C:/Strawberry/perl/site/lib/MSWin32-x86-multi-thread-64int
    C:/Strawberry/perl/site/lib
    C:/Strawberry/perl/vendor/lib
    C:/Strawberry/perl/lib
    .