Yancy v1.084 Perl 5 v5.24.0 x86_64-linux

Status
Pass
From
Chris Williams (BINGOS)
Dist
Yancy v1.084
Platform
Perl 5 v5.24.0 x86_64-linux
Date
2021-11-04 15:14:19
ID
e20ae83c-3d81-11ec-bc66-57723b537541
This distribution has been tested as part of the CPAN Testers
project, supporting the Perl programming language.  See
http://wiki.cpantesters.org/ for more information or email
questions to cpan-testers-discuss@perl.org


--

Dear PREACTION,

This is a computer-generated error report created automatically by
CPANPLUS, version 0.9912. Testers personal comments may appear
at the end of this report.


Thank you for uploading your work to CPAN.  Congratulations!
All tests were successful.

TEST RESULTS:

Below is the error stack from stage 'make test':

Skip blib/lib/auto/share/dist/Yancy/update_resources.sh (unchanged)
PERL_DL_NONLAZY=1 "/home/cpan/pit/bare/perl-5.24.0/bin/perl" "-MExtUtils::Command::MM" "-MTest::Harness" "-e" "undef *Test::Harness::Switches; test_harness(0, 'blib/lib', 'blib/arch')" t/*.t t/backend/*.t t/command/backend/*.t t/controller/*.t t/examples/*.t t/plugin/*.t t/plugin/auth/*.t t/plugin/form/*.t
t/00-compile.t ............... ok
# 
# Versions for all modules listed in MYMETA.json (including optional ones):
# 
# === Configure Requires ===
# 
#     Module                  Want Have
#     ----------------------- ---- ----
#     ExtUtils::MakeMaker      any 7.62
#     File::ShareDir::Install 0.06 0.13
# 
# === Configure Suggests ===
# 
#     Module      Want    Have
#     -------- ------- -------
#     JSON::PP 2.27300 2.27300
# 
# === Build Requires ===
# 
#     Module              Want Have
#     ------------------- ---- ----
#     ExtUtils::MakeMaker  any 7.62
# 
# === Test Requires ===
# 
#     Module                  Want     Have
#     ------------------- -------- --------
#     ExtUtils::MakeMaker      any     7.62
#     File::Spec               any     3.75
#     File::Temp            0.2307   0.2311
#     IO::Handle               any     1.36
#     IPC::Open3               any     1.20
#     Test::More          1.001005 1.302186
# 
# === Test Recommends ===
# 
#     Module         Want     Have
#     ---------- -------- --------
#     CPAN::Meta 2.120900 2.150010
# 
# === Runtime Requires ===
# 
#     Module                           Want     Have
#     ---------------------------- -------- --------
#     Class::Method::Modifiers          any     2.13
#     Digest                            any     1.17
#     Exporter                          any     5.72
#     File::Spec::Functions             any     3.75
#     FindBin                           any     1.51
#     JSON::Validator                  5.00     5.02
#     Mojolicious                         9     9.22
#     Mojolicious::Plugin::I18N         1.6      1.6
#     Mojolicious::Plugin::OpenAPI     5.00     5.00
#     Role::Tiny                   2.000001 2.002004
#     Scalar::Util                      any     1.60
#     Sys::Hostname                     any     1.20
#     Text::Balanced                    any     2.03
# 
t/00-report-prereqs.t ........ ok
x-view is deprecated and will be removed in v2. Use Yancy::Model or your database's CREATE VIEW instead. at /home/cpan/pit/bare/conf/perl-5.24.0/.cpanplus/5.24.0/build/TgpZSgFFR3/Yancy-1.084/blib/lib/Yancy/Model/Schema.pm line 283.
t/api.t ...................... ok
t/app.t ...................... ok
t/backend/dbic.t ............. skipped: DBIx::Class >= 0.082842 required for this test
t/backend/memory.t ........... ok
t/backend/mysql.t ............ skipped: Mojo::mysql >= 1.0 required for this test
t/backend/pg.t ............... skipped: Mojo::Pg >= 3.0 required for this test
t/backend/sqlite.t ........... skipped: DBD::SQLite >= 1.56 required for this test
x-view is deprecated and will be removed in v2. Use Yancy::Model or your database's CREATE VIEW instead. at /home/cpan/pit/bare/conf/perl-5.24.0/.cpanplus/5.24.0/build/TgpZSgFFR3/Yancy-1.084/blib/lib/Yancy/Model/Schema.pm line 283.
t/command/backend/copy.t ..... ok
x-view is deprecated and will be removed in v2. Use Yancy::Model or your database's CREATE VIEW instead. at /home/cpan/pit/bare/conf/perl-5.24.0/.cpanplus/5.24.0/build/TgpZSgFFR3/Yancy-1.084/blib/lib/Yancy/Model/Schema.pm line 283.
t/config.t ................... ok
x-view is deprecated and will be removed in v2. Use Yancy::Model or your database's CREATE VIEW instead. at /home/cpan/pit/bare/conf/perl-5.24.0/.cpanplus/5.24.0/build/TgpZSgFFR3/Yancy-1.084/blib/lib/Yancy/Model/Schema.pm line 283.
t/controller/multi_tenant.t .. ok
x-view is deprecated and will be removed in v2. Use Yancy::Model or your database's CREATE VIEW instead. at /home/cpan/pit/bare/conf/perl-5.24.0/.cpanplus/5.24.0/build/TgpZSgFFR3/Yancy-1.084/blib/lib/Yancy/Model/Schema.pm line 283.
t/controller/yancy.t ......... ok
t/examples/doc-site.t ........ skipped: Set TEST_YANCY_EXAMPLES to run these tests
t/examples/limited-editor.t .. skipped: Set TEST_YANCY_EXAMPLES to run these tests
t/examples/test-app.t ........ skipped: Set TEST_YANCY_EXAMPLES to run these tests
t/examples/todo-app.t ........ skipped: Set TEST_YANCY_EXAMPLES to run these tests
x-view is deprecated and will be removed in v2. Use Yancy::Model or your database's CREATE VIEW instead. at /home/cpan/pit/bare/conf/perl-5.24.0/.cpanplus/5.24.0/build/TgpZSgFFR3/Yancy-1.084/blib/lib/Yancy/Model/Schema.pm line 283.
[2021-11-04 15:14:06.72350] [27493] [fatal] [zevG_BmLhIQ_] Unknown filter: DOES.NOT.EXIST (schema: user, field: email) at /home/cpan/pit/bare/conf/perl-5.24.0/.cpanplus/5.24.0/build/TgpZSgFFR3/Yancy-1.084/blib/lib/Mojolicious/Plugin/Yancy.pm line 876.

t/filter.t ................... ok
x-view is deprecated and will be removed in v2. Use Yancy::Model or your database's CREATE VIEW instead. at /home/cpan/pit/bare/conf/perl-5.24.0/.cpanplus/5.24.0/build/TgpZSgFFR3/Yancy-1.084/blib/lib/Yancy/Model/Schema.pm line 283.
t/helpers.t .................. ok
x-view is deprecated and will be removed in v2. Use Yancy::Model or your database's CREATE VIEW instead. at /home/cpan/pit/bare/conf/perl-5.24.0/.cpanplus/5.24.0/build/TgpZSgFFR3/Yancy-1.084/blib/lib/Yancy/Model/Schema.pm line 283.
t/i18n.t ..................... ok
t/model.t .................... ok
x-view is deprecated and will be removed in v2. Use Yancy::Model or your database's CREATE VIEW instead. at /home/cpan/pit/bare/conf/perl-5.24.0/.cpanplus/5.24.0/build/TgpZSgFFR3/Yancy-1.084/blib/lib/Yancy/Model/Schema.pm line 283.
t/plugin/auth.t .............. ok
x-view is deprecated and will be removed in v2. Use Yancy::Model or your database's CREATE VIEW instead. at /home/cpan/pit/bare/conf/perl-5.24.0/.cpanplus/5.24.0/build/TgpZSgFFR3/Yancy-1.084/blib/lib/Yancy/Model/Schema.pm line 283.
The Auth::Basic plugin is deprecated and will be removed in Yancy v2.000. Please migrate to the Auth::Password module.
 at /home/cpan/pit/bare/conf/perl-5.24.0/.cpanplus/5.24.0/build/TgpZSgFFR3/Yancy-1.084/blib/lib/Yancy/Plugin/Auth/Basic.pm line 256.
t/plugin/auth/basic.t ........ ok
x-view is deprecated and will be removed in v2. Use Yancy::Model or your database's CREATE VIEW instead. at /home/cpan/pit/bare/conf/perl-5.24.0/.cpanplus/5.24.0/build/TgpZSgFFR3/Yancy-1.084/blib/lib/Yancy/Model/Schema.pm line 283.
t/plugin/auth/github.t ....... ok
x-view is deprecated and will be removed in v2. Use Yancy::Model or your database's CREATE VIEW instead. at /home/cpan/pit/bare/conf/perl-5.24.0/.cpanplus/5.24.0/build/TgpZSgFFR3/Yancy-1.084/blib/lib/Yancy/Model/Schema.pm line 283.
t/plugin/auth/oauth2.t ....... ok
x-view is deprecated and will be removed in v2. Use Yancy::Model or your database's CREATE VIEW instead. at /home/cpan/pit/bare/conf/perl-5.24.0/.cpanplus/5.24.0/build/TgpZSgFFR3/Yancy-1.084/blib/lib/Yancy/Model/Schema.pm line 283.
t/plugin/auth/password.t ..... ok
x-view is deprecated and will be removed in v2. Use Yancy::Model or your database's CREATE VIEW instead. at /home/cpan/pit/bare/conf/perl-5.24.0/.cpanplus/5.24.0/build/TgpZSgFFR3/Yancy-1.084/blib/lib/Yancy/Model/Schema.pm line 283.
t/plugin/auth/token.t ........ ok
t/plugin/editor.t ............ ok
x-view is deprecated and will be removed in v2. Use Yancy::Model or your database's CREATE VIEW instead. at /home/cpan/pit/bare/conf/perl-5.24.0/.cpanplus/5.24.0/build/TgpZSgFFR3/Yancy-1.084/blib/lib/Yancy/Model/Schema.pm line 283.
[2021-11-04 15:14:17.07352] [27504] [warn] *** Cannot verify that admin editor is behind authentication.
Add a Yancy Auth plugin, add a `route` to the Yancy plugin config,
or set `editor.require_user => undef` to silence this warning

t/plugin/file.t .............. ok
x-view is deprecated and will be removed in v2. Use Yancy::Model or your database's CREATE VIEW instead. at /home/cpan/pit/bare/conf/perl-5.24.0/.cpanplus/5.24.0/build/TgpZSgFFR3/Yancy-1.084/blib/lib/Yancy/Model/Schema.pm line 283.
[2021-11-04 15:14:17.89257] [27505] [warn] [cfwkprmbLDwH] form_for() called with incomplete request. CSRF token may not validate!
t/plugin/form/bootstrap4.t ... ok
x-view is deprecated and will be removed in v2. Use Yancy::Model or your database's CREATE VIEW instead. at /home/cpan/pit/bare/conf/perl-5.24.0/.cpanplus/5.24.0/build/TgpZSgFFR3/Yancy-1.084/blib/lib/Yancy/Model/Schema.pm line 283.
t/plugin/roles.t ............. ok
    # Can't locate DBI.pm in @INC (you may need to install the DBI module) (@INC contains: /home/cpan/pit/bare/conf/perl-5.24.0/.cpanplus/5.24.0/build/TgpZSgFFR3/Yancy-1.084/t/lib /home/cpan/pit/bare/conf/perl-5.24.0/.cpanplus/5.24.0/build/TgpZSgFFR3/Yancy-1.084/blib/lib /home/cpan/pit/bare/conf/perl-5.24.0/.cpanplus/5.24.0/build/TgpZSgFFR3/Yancy-1.084/blib/arch /home/cpan/pit/jail/ii_JtpJYnA/lib/perl5/5.24.0/x86_64-linux /home/cpan/pit/jail/ii_JtpJYnA/lib/perl5/5.24.0 /home/cpan/pit/jail/ii_JtpJYnA/lib/perl5/x86_64-linux /home/cpan/pit/jail/ii_JtpJYnA/lib/perl5 /home/cpan/pit/bare/perl-5.24.0/lib/site_perl/5.24.0/x86_64-linux /home/cpan/pit/bare/perl-5.24.0/lib/site_perl/5.24.0 /home/cpan/pit/bare/perl-5.24.0/lib/5.24.0/x86_64-linux /home/cpan/pit/bare/perl-5.24.0/lib/5.24.0 .) at /home/cpan/pit/bare/conf/perl-5.24.0/.cpanplus/5.24.0/build/TgpZSgFFR3/Yancy-1.084/blib/lib/Yancy/Backend/Role/DBI.pm line 27.
    # BEGIN failed--compilation aborted at /home/cpan/pit/bare/conf/perl-5.24.0/.cpanplus/5.24.0/build/TgpZSgFFR3/Yancy-1.084/blib/lib/Yancy/Backend/Role/DBI.pm line 27.
    # Compilation failed in require at /home/cpan/pit/jail/ii_JtpJYnA/lib/perl5/Role/Tiny.pm line 51.
    # Compilation failed in require at /home/cpan/pit/jail/ii_JtpJYnA/lib/perl5/Mojo/Base.pm line 134.
    # BEGIN failed--compilation aborted at /home/cpan/pit/bare/conf/perl-5.24.0/.cpanplus/5.24.0/build/TgpZSgFFR3/Yancy-1.084/blib/lib/Yancy/Backend/Sqlite.pm line 108.
    # Compilation failed in require at t/register.t line 21.
    # Could not load Pg backend: Mojo::Pg version 4.03 or higher required
    # BEGIN failed--compilation aborted at /home/cpan/pit/bare/conf/perl-5.24.0/.cpanplus/5.24.0/build/TgpZSgFFR3/Yancy-1.084/blib/lib/Yancy/Backend/Pg.pm line 128.
    # Compilation failed in require at t/register.t line 37.
    # Could not load Mysql backend: Mojo::mysql version 1.05 or higher required
    # BEGIN failed--compilation aborted at /home/cpan/pit/bare/conf/perl-5.24.0/.cpanplus/5.24.0/build/TgpZSgFFR3/Yancy-1.084/blib/lib/Yancy/Backend/Mysql.pm line 119.
    # Compilation failed in require at t/register.t line 53.
t/register.t ................. ok
t/util.t ..................... ok
All tests successful.
Files=33, Tests=201, 33 wallclock secs ( 0.32 usr  0.06 sys + 26.31 cusr  2.74 csys = 29.43 CPU)
Result: PASS


PREREQUISITES:

Here is a list of prerequisites you specified and versions we
managed to load:

	  Module Name                        Have     Want
	  Class::Method::Modifiers           2.13        0
	  Digest                             1.17        0
	  Exporter                           5.72        0
	  ExtUtils::MakeMaker                7.62        0
	  File::Spec                         3.75        0
	  File::Spec::Functions              3.75        0
	  File::Temp                       0.2311   0.2307
	  FindBin                            1.51        0
	  IO::Handle                         1.36        0
	  IPC::Open3                         1.20        0
	  JSON::Validator                    5.02     5.00
	  Mojolicious                        9.22        9
	  Mojolicious::Plugin::I18N           1.6      1.6
	  Mojolicious::Plugin::OpenAPI       5.00     5.00
	  Role::Tiny                     2.002004 2.000001
	  Scalar::Util                       1.60        0
	  Sys::Hostname                      1.20        0
	  Test::More                     1.302186 1.001005
	  Text::Balanced                     2.03        0

Perl module toolchain versions installed:
	Module Name                        Have
	CPANPLUS                         0.9912
	CPANPLUS::Dist::Build              0.90
	Cwd                                3.75
	ExtUtils::CBuilder             0.280236
	ExtUtils::Command                  7.62
	ExtUtils::Install                  2.20
	ExtUtils::MakeMaker                7.62
	ExtUtils::Manifest                 1.73
	ExtUtils::ParseXS                  3.35
	File::Spec                         3.75
	Module::Build                    0.4231
	Pod::Parser                        1.63
	Pod::Simple                        3.32
	Test2                          1.302186
	Test::Harness                      3.42
	Test::More                     1.302186
	version                          0.9929

******************************** NOTE ********************************
The comments above are created mechanically, possibly without manual
checking by the sender.  As there are many people performing automatic
tests on each upload to CPAN, it is likely that you will receive
identical messages about the same problem.

If you believe that the message is mistaken, please reply to the first
one with correction and/or additional informations, and do not take
it personally.  We appreciate your patience. :)
**********************************************************************

Additional comments:


This report was machine-generated by CPANPLUS::Dist::YACSmoke 1.08.
Powered by minismokebox version 0.68

CPANPLUS is prefering Build.PL

------------------------------
ENVIRONMENT AND OTHER CONTEXT
------------------------------

Environment variables:

    AUTOMATED_TESTING = 1
    LANG = C.UTF-8
    LC_COLLATE = C
    NONINTERACTIVE_TESTING = 1
    PATH = /home/cpan/pit/bare/conf/perl-5.24.0/.cpanplus/5.24.0/build/TgpZSgFFR3/Yancy-1.084/blib/script:/bin:/usr/bin:/sbin:/usr/sbin:/usr/local/sbin:/usr/local/bin
    PERL5LIB = /home/cpan/pit/jail/ii_JtpJYnA/lib/perl5:/home/cpan/pit/bare/conf/perl-5.24.0/.cpanplus/5.24.0/build/TgpZSgFFR3/Yancy-1.084/blib/lib:/home/cpan/pit/bare/conf/perl-5.24.0/.cpanplus/5.24.0/build/TgpZSgFFR3/Yancy-1.084/blib/arch
    PERL5_CPANPLUS_IS_RUNNING = 26291
    PERL5_CPANPLUS_IS_VERSION = 0.9912
    PERL5_MINISMOKEBOX = 0.68
    PERL5_YACSMOKE_BASE = /home/cpan/pit/bare/conf/perl-5.24.0
    PERL_EXTUTILS_AUTOINSTALL = --defaultdeps
    PERL_LOCAL_LIB_ROOT = /home/cpan/pit/jail/ii_JtpJYnA
    PERL_MB_OPT = --install_base "/home/cpan/pit/jail/ii_JtpJYnA"
    PERL_MM_OPT = INSTALL_BASE=/home/cpan/pit/jail/ii_JtpJYnA
    PERL_MM_USE_DEFAULT = 1
    SHELL = /bin/bash
    TERM = screen

Perl special variables (and OS-specific diagnostics, for MSWin32):

    Perl: $^X = /home/cpan/pit/bare/perl-5.24.0/bin/perl
    UID:  $<  = 1001
    EUID: $>  = 1001
    GID:  $(  = 1001 1001
    EGID: $)  = 1001 1001


-------------------------------


--

Summary of my perl5 (revision 5 version 24 subversion 0) configuration:
   
  Platform:
    osname=linux, osvers=5.10.16-0-lts, archname=x86_64-linux
    uname='linux agaric 5.10.16-0-lts #1-alpine smp wed, 17 feb 2021 08:17:06 utc x86_64 linux '
    config_args='-des -Dprefix=/home/cpan/pit/bare/perl-5.24.0'
    hint=recommended, useposix=true, d_sigaction=define
    useithreads=undef, usemultiplicity=undef
    use64bitint=define, use64bitall=define, uselongdouble=undef
    usemymalloc=n, bincompat5005=undef
  Compiler:
    cc='cc', ccflags ='-D_GNU_SOURCE -fwrapv -fno-strict-aliasing -pipe -fstack-protector-strong -D_LARGEFILE_SOURCE -D_FILE_OFFSET_BITS=64',
    optimize='-O2',
    cppflags='-D_GNU_SOURCE -fwrapv -fno-strict-aliasing -pipe -fstack-protector-strong'
    ccversion='', gccversion='10.2.1 20201203', gccosandvers=''
    intsize=4, longsize=8, ptrsize=8, doublesize=8, byteorder=12345678, doublekind=3
    d_longlong=define, longlongsize=8, d_longdbl=define, longdblsize=16, longdblkind=3
    ivtype='long', ivsize=8, nvtype='double', nvsize=8, Off_t='off_t', lseeksize=8
    alignbytes=8, prototype=define
  Linker and Libraries:
    ld='cc', ldflags =' -fstack-protector-strong -L/usr/local/lib'
    libpth=/usr/include/fortify /usr/lib /usr/local/lib /lib/../lib /usr/lib/../lib /lib
    libs=-lpthread -lgdbm -ldl -lm -lcrypt -lutil -lc -lgdbm_compat
    perllibs=-lpthread -ldl -lm -lcrypt -lutil -lc
    libc=/usr/lib/libc.a, so=so, useshrplib=false, libperl=libperl.a
    gnulibc_version=''
  Dynamic Linking:
    dlsrc=dl_dlopen.xs, dlext=so, d_dlsymun=undef, ccdlflags='-Wl,-E'
    cccdlflags='-fPIC', lddlflags='-shared -O2 -L/usr/local/lib -fstack-protector-strong'


Characteristics of this binary (from libperl): 
  Compile-time options: HAS_TIMES PERLIO_LAYERS PERL_COPY_ON_WRITE
                        PERL_DONT_CREATE_GVSV
                        PERL_HASH_FUNC_ONE_AT_A_TIME_HARD PERL_MALLOC_WRAP
                        PERL_PRESERVE_IVUV USE_64_BIT_ALL USE_64_BIT_INT
                        USE_LARGE_FILES USE_LOCALE USE_LOCALE_COLLATE
                        USE_LOCALE_CTYPE USE_LOCALE_NUMERIC USE_LOCALE_TIME
                        USE_PERLIO USE_PERL_ATOF
  Locally applied patches:
	Devel::PatchPerl 2.08
  Built under linux
  Compiled at Mar 12 2021 04:39:20
  %ENV:
    PERL5LIB="/home/cpan/pit/jail/ii_JtpJYnA/lib/perl5:/home/cpan/pit/bare/conf/perl-5.24.0/.cpanplus/5.24.0/build/TgpZSgFFR3/Yancy-1.084/blib/lib:/home/cpan/pit/bare/conf/perl-5.24.0/.cpanplus/5.24.0/build/TgpZSgFFR3/Yancy-1.084/blib/arch"
    PERL5_CPANPLUS_IS_RUNNING="26291"
    PERL5_CPANPLUS_IS_VERSION="0.9912"
    PERL5_MINISMOKEBOX="0.68"
    PERL5_YACSMOKE_BASE="/home/cpan/pit/bare/conf/perl-5.24.0"
    PERL_EXTUTILS_AUTOINSTALL="--defaultdeps"
    PERL_LOCAL_LIB_ROOT="/home/cpan/pit/jail/ii_JtpJYnA"
    PERL_MB_OPT="--install_base "/home/cpan/pit/jail/ii_JtpJYnA""
    PERL_MM_OPT="INSTALL_BASE=/home/cpan/pit/jail/ii_JtpJYnA"
    PERL_MM_USE_DEFAULT="1"
  @INC:
    /home/cpan/pit/jail/ii_JtpJYnA/lib/perl5/5.24.0/x86_64-linux
    /home/cpan/pit/jail/ii_JtpJYnA/lib/perl5/5.24.0
    /home/cpan/pit/jail/ii_JtpJYnA/lib/perl5/x86_64-linux
    /home/cpan/pit/jail/ii_JtpJYnA/lib/perl5
    /home/cpan/pit/bare/conf/perl-5.24.0/.cpanplus/5.24.0/build/TgpZSgFFR3/Yancy-1.084/blib/lib
    /home/cpan/pit/bare/conf/perl-5.24.0/.cpanplus/5.24.0/build/TgpZSgFFR3/Yancy-1.084/blib/arch
    /home/cpan/pit/bare/perl-5.24.0/lib/site_perl/5.24.0/x86_64-linux
    /home/cpan/pit/bare/perl-5.24.0/lib/site_perl/5.24.0
    /home/cpan/pit/bare/perl-5.24.0/lib/5.24.0/x86_64-linux
    /home/cpan/pit/bare/perl-5.24.0/lib/5.24.0
    .