Net-IPAM-Tree v1.09 Perl 5 v5.14.0 x86_64-linux-thread-multi

Status
Pass
From
Nigel Horne
Dist
Net-IPAM-Tree v1.09
Platform
Perl 5 v5.14.0 x86_64-linux-thread-multi
Date
2020-04-20 15:59:14
ID
e1c3b1c4-831f-11ea-baf9-8e7157f1bc38
This distribution has been tested as part of the CPAN Testers
project, supporting the Perl programming language.  See
http://wiki.cpantesters.org/ for more information or email
questions to cpan-testers-discuss@perl.org


--
Dear Karl Gaissmaier,

This is a computer-generated report for Net-IPAM-Tree-1.09
on perl 5.14.0, created by CPAN-Reporter-1.2018.

Thank you for uploading your work to CPAN.  Congratulations!
All tests were successful.

Sections of this report:

    * Tester comments
    * Program output
    * Prerequisites
    * Environment and other context

------------------------------
TESTER COMMENTS
------------------------------

Additional comments from tester:

this report is from an automated smoke testing program
and was not reviewed by a human for accuracy

------------------------------
PROGRAM OUTPUT
------------------------------

Output from './Build test':

t/00-load.t ....... ok
t/01-new.t ........ ok
t/03-remove.t ..... ok
t/02-lookup.t ..... ok
t/04-to_string.t .. ok
t/05-errors.t ..... ok
t/manifest.t ...... skipped: Author tests not required for installation
t/06-walk.t ....... ok
t/pod-coverage.t .. skipped: Author tests not required for installation
t/pod.t ........... skipped: Author tests not required for installation
All tests successful.
Files=10, Tests=73,  0 wallclock secs ( 0.05 usr  0.02 sys +  0.83 cusr  0.15 csys =  1.05 CPU)
Result: PASS

------------------------------
PREREQUISITES
------------------------------

Prerequisite modules loaded:

requires:

    Module           Need      Have    
    ---------------- --------- --------
    List::MoreUtils  0.420_001 0.428   
    namespace::clean 0         0.27    
    Net::IPAM::Block 1.10      1.10    
  ! Net::IPAM::IP    1.16      1.15    
    perl             v5.10.0   5.014000
    Scalar::Util     1.39      1.52    

build_requires:

    Module           Need      Have    
    ---------------- --------- --------
    Test::More       0         1.302136

configure_requires:

    Module           Need      Have    
    ---------------- --------- --------
    Module::Build    0.4004    0.4210  


------------------------------
ENVIRONMENT AND OTHER CONTEXT
------------------------------

Environment variables:

    AUTOMATED_TESTING = 1
    HARNESS_OPTIONS = j2
    LANG = en_US.UTF-8
    PATH = /home/njh/perl5/perlbrew/bin:/home/njh/perl5/perlbrew/perls/perl-5.14.0/bin:/home/njh/src/njh/smoker/bin:/usr/bin:/bin
    PERL5LIB = /tmp/build/Net-IPAM-Block-1.10-0/blib/arch:/tmp/build/Net-IPAM-Block-1.10-0/blib/lib:/tmp/build/Net-IPAM-IP-1.15-0/blib/arch:/tmp/build/Net-IPAM-IP-1.15-0/blib/lib:/tmp/build/List-MoreUtils-0.428-0/blib/arch:/tmp/build/List-MoreUtils-0.428-0/blib/lib:/tmp/build/List-MoreUtils-XS-0.428-0/blib/arch:/tmp/build/List-MoreUtils-XS-0.428-0/blib/lib:/tmp/build/Exporter-Tiny-1.002001-0/blib/arch:/tmp/build/Exporter-Tiny-1.002001-0/blib/lib:/tmp/build/Net-IPAM-IP-1.16-0/blib/arch:/tmp/build/Net-IPAM-IP-1.16-0/blib/lib:/tmp/build/Test-Ratchet-0.005-0/blib/arch:/tmp/build/Test-Ratchet-0.005-0/blib/lib:/tmp/build/Exporter-Easy-0.18-0/blib/arch:/tmp/build/Exporter-Easy-0.18-0/blib/lib:/tmp/build/Data-Munge-0.097-0/blib/arch:/tmp/build/Data-Munge-0.097-0/blib/lib
    PERL5OPT = 
    PERL5_CPANPLUS_IS_RUNNING = 2880848
    PERL5_CPAN_IS_RUNNING = 2880848
    PERL5_CPAN_IS_RUNNING_IN_RECURSION = 2880644,2880848
    PERLBREW_HOME = /home/njh/.perlbrew
    PERLBREW_MANPATH = /home/njh/perl5/perlbrew/perls/perl-5.14.0/man
    PERLBREW_PATH = /home/njh/perl5/perlbrew/bin:/home/njh/perl5/perlbrew/perls/perl-5.14.0/bin
    PERLBREW_PERL = perl-5.14.0
    PERLBREW_ROOT = /home/njh/perl5/perlbrew
    PERLBREW_SHELLRC_VERSION = 0.86
    PERLBREW_VERSION = 0.86
    PERL_USE_UNSAFE_INC = 1
    SHELL = /bin/sh
    TEMP = /tmp/user/1000
    TMPDIR = /tmp/user/1000/testwrapper.2880834

Perl special variables (and OS-specific diagnostics, for MSWin32):

    $^X = /home/njh/perl5/perlbrew/perls/perl-5.14.0/bin/perl
    $UID/$EUID = 1000 / 1000
    $GID = 1000 4 24 25 29 30 44 46 103 108 115 123 996 1000
    $EGID = 1000 4 24 25 29 30 44 46 103 108 115 123 996 1000

Perl module toolchain versions installed:

    Module              Have    
    ------------------- --------
    CPAN                2.25    
    CPAN::Meta          2.150005
    Cwd                 3.74    
    ExtUtils::CBuilder  0.280220
    ExtUtils::Command   7.36    
    ExtUtils::Install   2.06    
    ExtUtils::MakeMaker 7.36    
    ExtUtils::Manifest  1.70    
    ExtUtils::ParseXS   3.30    
    File::Spec          3.74    
    JSON                4.02    
    JSON::PP            2.27400 
    Module::Build       0.4210  
    Module::Signature   n/a     
    Parse::CPAN::Meta   1.4422  
    Test::Harness       3.36    
    Test::More          1.302136
    YAML                1.30    
    YAML::Syck          1.32    
    version             0.88    


--

Summary of my perl5 (revision 5 version 14 subversion 0) configuration:
   
  Platform:
    osname=linux, osvers=3.16-3-amd64, archname=x86_64-linux-thread-multi
    uname='linux amelia 3.16-3-amd64 #1 smp debian 3.16.5-1 (2014-10-10) x86_64 gnulinux '
    config_args='-de -Dprefix=/home/njh/perl5/perlbrew/perls/perl-5.14.0 -Duseithreads -Dusemultiplicity -Dusedevel -Accflags= -Aeval:scriptdir=/home/njh/perl5/perlbrew/perls/perl-5.14.0/bin'
    hint=recommended, useposix=true, d_sigaction=define
    useithreads=define, usemultiplicity=define
    useperlio=define, d_sfio=undef, uselargefiles=define, usesocks=undef
    use64bitint=define, use64bitall=define, uselongdouble=undef
    usemymalloc=n, bincompat5005=undef
  Compiler:
    cc='cc', ccflags ='-D_REENTRANT -D_GNU_SOURCE -fno-strict-aliasing -pipe -fstack-protector -I/usr/local/include -D_LARGEFILE_SOURCE -D_FILE_OFFSET_BITS=64',
    optimize='-O2',
    cppflags='-D_REENTRANT -D_GNU_SOURCE -fno-strict-aliasing -pipe -fstack-protector -I/usr/local/include'
    ccversion='', gccversion='4.9.2', gccosandvers=''
    intsize=4, longsize=8, ptrsize=8, doublesize=8, byteorder=12345678
    d_longlong=define, longlongsize=8, d_longdbl=define, longdblsize=16
    ivtype='long', ivsize=8, nvtype='double', nvsize=8, Off_t='off_t', lseeksize=8
    alignbytes=8, prototype=define
  Linker and Libraries:
    ld='cc', ldflags =' -fstack-protector -L/usr/local/lib'
    libpth=/usr/local/lib /lib/x86_64-linux-gnu /lib/../lib /usr/lib/x86_64-linux-gnu /usr/lib/../lib /lib /usr/lib
    libs=-lnsl -lgdbm -ldb -ldl -lm -lcrypt -lutil -lpthread -lc -lgdbm_compat
    perllibs=-lnsl -ldl -lm -lcrypt -lutil -lpthread -lc
    libc=libc-2.19.so, so=so, useshrplib=false, libperl=libperl.a
    gnulibc_version='2.19'
  Dynamic Linking:
    dlsrc=dl_dlopen.xs, dlext=so, d_dlsymun=undef, ccdlflags='-Wl,-E'
    cccdlflags='-fPIC', lddlflags='-shared -O2 -L/usr/local/lib -fstack-protector'


Characteristics of this binary (from libperl): 
  Compile-time options: MULTIPLICITY PERL_DONT_CREATE_GVSV
                        PERL_IMPLICIT_CONTEXT PERL_MALLOC_WRAP
                        PERL_PRESERVE_IVUV PERL_USE_DEVEL USE_64_BIT_ALL
                        USE_64_BIT_INT USE_ITHREADS USE_LARGE_FILES
                        USE_PERLIO USE_PERL_ATOF USE_REENTRANT_API
  Built under linux
  Compiled at Nov 15 2014 02:23:01
  %ENV:
    PERL5LIB="/tmp/build/Net-IPAM-Block-1.10-0/blib/arch:/tmp/build/Net-IPAM-Block-1.10-0/blib/lib:/tmp/build/Net-IPAM-IP-1.15-0/blib/arch:/tmp/build/Net-IPAM-IP-1.15-0/blib/lib:/tmp/build/List-MoreUtils-0.428-0/blib/arch:/tmp/build/List-MoreUtils-0.428-0/blib/lib:/tmp/build/List-MoreUtils-XS-0.428-0/blib/arch:/tmp/build/List-MoreUtils-XS-0.428-0/blib/lib:/tmp/build/Exporter-Tiny-1.002001-0/blib/arch:/tmp/build/Exporter-Tiny-1.002001-0/blib/lib:/tmp/build/Net-IPAM-IP-1.16-0/blib/arch:/tmp/build/Net-IPAM-IP-1.16-0/blib/lib:/tmp/build/Test-Ratchet-0.005-0/blib/arch:/tmp/build/Test-Ratchet-0.005-0/blib/lib:/tmp/build/Exporter-Easy-0.18-0/blib/arch:/tmp/build/Exporter-Easy-0.18-0/blib/lib:/tmp/build/Data-Munge-0.097-0/blib/arch:/tmp/build/Data-Munge-0.097-0/blib/lib"
    PERL5OPT=""
    PERL5_CPANPLUS_IS_RUNNING="2880848"
    PERL5_CPAN_IS_RUNNING="2880848"
    PERL5_CPAN_IS_RUNNING_IN_RECURSION="2880644,2880848"
    PERLBREW_HOME="/home/njh/.perlbrew"
    PERLBREW_MANPATH="/home/njh/perl5/perlbrew/perls/perl-5.14.0/man"
    PERLBREW_PATH="/home/njh/perl5/perlbrew/bin:/home/njh/perl5/perlbrew/perls/perl-5.14.0/bin"
    PERLBREW_PERL="perl-5.14.0"
    PERLBREW_ROOT="/home/njh/perl5/perlbrew"
    PERLBREW_SHELLRC_VERSION="0.86"
    PERLBREW_VERSION="0.86"
    PERL_USE_UNSAFE_INC="1"
  @INC:
    /tmp/build/Net-IPAM-Block-1.10-0/blib/arch
    /tmp/build/Net-IPAM-Block-1.10-0/blib/lib
    /tmp/build/Net-IPAM-IP-1.15-0/blib/arch
    /tmp/build/Net-IPAM-IP-1.15-0/blib/lib
    /tmp/build/List-MoreUtils-0.428-0/blib/arch
    /tmp/build/List-MoreUtils-0.428-0/blib/lib
    /tmp/build/List-MoreUtils-XS-0.428-0/blib/arch
    /tmp/build/List-MoreUtils-XS-0.428-0/blib/lib
    /tmp/build/Exporter-Tiny-1.002001-0/blib/arch
    /tmp/build/Exporter-Tiny-1.002001-0/blib/lib
    /tmp/build/Net-IPAM-IP-1.16-0/blib/arch
    /tmp/build/Net-IPAM-IP-1.16-0/blib/lib
    /tmp/build/Test-Ratchet-0.005-0/blib/arch
    /tmp/build/Test-Ratchet-0.005-0/blib/lib
    /tmp/build/Exporter-Easy-0.18-0/blib/arch
    /tmp/build/Exporter-Easy-0.18-0/blib/lib
    /tmp/build/Data-Munge-0.097-0/blib/arch
    /tmp/build/Data-Munge-0.097-0/blib/lib
    /home/njh/perl5/perlbrew/perls/perl-5.14.0/lib/site_perl/5.14.0/x86_64-linux-thread-multi
    /home/njh/perl5/perlbrew/perls/perl-5.14.0/lib/site_perl/5.14.0
    /home/njh/perl5/perlbrew/perls/perl-5.14.0/lib/5.14.0/x86_64-linux-thread-multi
    /home/njh/perl5/perlbrew/perls/perl-5.14.0/lib/5.14.0
    .