Org-Parser v0.554 Perl 5 v5.30.3 sparc64-openbsd

Status
Pass
From
Dist
Org-Parser v0.554
Platform
Perl 5 v5.30.3 sparc64-openbsd
Date
2020-12-31 07:07:41
ID
dfab5c9a-4b36-11eb-8ed6-9cd4d0547fc4
This distribution has been tested as part of the CPAN Testers
project, supporting the Perl programming language.  See
http://wiki.cpantesters.org/ for more information or email
questions to cpan-testers-discuss@perl.org


--
Dear perlancar,

This is a computer-generated report for Org-Parser-0.554
on perl 5.30.3, created by CPAN-Reporter-1.2018.

Thank you for uploading your work to CPAN.  Congratulations!
All tests were successful.

Sections of this report:

    * Tester comments
    * Program output
    * Prerequisites
    * Environment and other context

------------------------------
TESTER COMMENTS
------------------------------

Additional comments from tester:

this report is from an automated smoke testing program
and was not reviewed by a human for accuracy

------------------------------
PROGRAM OUTPUT
------------------------------

Output from '/usr/bin/make test':

PERL_DL_NONLAZY=1 "/usr/bin/perl" "-MExtUtils::Command::MM" "-MTest::Harness" "-e" "undef *Test::Harness::Switches; test_harness(0, 'blib/lib', 'blib/arch')" t/*.t
t/00-compile.t ............... ok
t/01-basics.t ................ ok
t/author-critic.t ............ skipped: these tests are for testing by the author
t/author-pod-coverage.t ...... skipped: these tests are for testing by the author
t/author-pod-syntax.t ........ skipped: these tests are for testing by the author
t/base_element-field_name.t .. ok
t/base_element.t ............. ok
t/block.t .................... ok
t/comment.t .................. ok
t/document.t ................. ok
t/drawer.t ................... ok
t/fixed_width_section.t ...... ok
t/footnote.t ................. ok
t/headline-get_property.t .... ok
t/headline.t ................. ok
t/link_and_target.t .......... ok
t/list.t ..................... ok
t/radio_target.t ............. ok
t/regression-rt68443.t ....... ok
t/rt98375.t .................. ok
t/setting-todo.t ............. ok
t/setting.t .................. ok
t/table.t .................... ok
t/text.t ..................... ok
t/timerange.t ................ ok
t/timestamp.t ................ ok
t/unicode.t .................. ok
t/various.t .................. ok
All tests successful.
Files=28, Tests=120, 45 wallclock secs ( 0.58 usr  0.54 sys + 32.47 cusr  6.80 csys = 40.39 CPU)
Result: PASS

------------------------------
PREREQUISITES
------------------------------

Prerequisite modules loaded:

requires:

    Module                      Need     Have    
    --------------------------- -------- --------
    Cwd                         0        3.78    
    DateTime                    0        1.54    
    DateTime::Event::Recurrence 0        0.19    
    Digest::MD5                 0        2.55    
    experimental                0        0.020   
    File::Slurper               0        0.012   
    if                          0        0.0608  
    List::MoreUtils             0        0.428   
    locale                      0        1.09    
    Log::ger                    0.037    0.037   
    Module::List                0        0.004   
    Module::Load                0        0.34    
    Moo                         0        2.004004
    Moo::Role                   0        2.004004
    perl                        5.010001 5.030003
    Scalar::Util                0        1.55    
    Storable                    3.08     3.15    
    Time::HiRes                 0        1.9764  
    utf8                        0        1.22    
    warnings                    0        1.44    

build_requires:

    Module                      Need     Have    
    --------------------------- -------- --------
    ExtUtils::MakeMaker         0        7.58    
    File::Spec                  0        3.78    
    File::Temp                  0.2307   0.2311  
    FindBin                     0        1.51    
    IO::Handle                  0        1.40    
    IPC::Open3                  0        1.20    
    lib                         0        0.65    
    Module::Loaded              0        0.08    
    Org::Dump                   0.551    0.552   
    strict                      0        1.11    
    Test::Exception             0        0.43    
    Test::More                  0.98     1.302183

configure_requires:

    Module                      Need     Have    
    --------------------------- -------- --------
    ExtUtils::MakeMaker         0        7.58    


------------------------------
ENVIRONMENT AND OTHER CONTEXT
------------------------------

Environment variables:

    AUTOMATED_TESTING = 1
    NONINTERACTIVE_TESTING = 1
    PATH = /home/smoker/perl/system/bin:/home/smoker/.plenv/libexec:/home/smoker/.plenv/plugins/perl-build/bin:/home/smoker/.plenv/plugins/plenv-contrib/bin:/home/smoker/.plenv/shims:/home/smoker/.plenv/bin:/home/smoker/bin:/bin:/sbin:/usr/bin:/usr/sbin:/usr/X11R6/bin:/usr/local/bin:/usr/local/sbin:/usr/games
    PERL5LIB = /home/smoker/perl/system/lib/perl5
    PERL5OPT = 
    PERL5_CPANPLUS_IS_RUNNING = 410
    PERL5_CPAN_IS_RUNNING = 410
    PERL5_CPAN_IS_RUNNING_IN_RECURSION = 38161,410
    PERL_CARTON_PATH = /home/afresh1/cpan-smoker-setup/local/system
    PERL_CR_SMOKER_CURRENT = Org-Parser-0.554
    PERL_EXTUTILS_AUTOINSTALL = --defaultdeps
    PERL_LOCAL_LIB_ROOT = /home/smoker/perl/system
    PERL_MB_OPT = --install_base '/home/smoker/perl/system'
    PERL_MM_OPT = INSTALL_BASE=/home/smoker/perl/system
    PERL_MM_USE_DEFAULT = 1
    PERL_USE_UNSAFE_INC = 1
    SHELL = /bin/ksh
    TERM = screen

Perl special variables (and OS-specific diagnostics, for MSWin32):

    $^X = /usr/bin/perl
    $UID/$EUID = 900 / 900
    $GID = 900 900
    $EGID = 900 900

Perl module toolchain versions installed:

    Module              Have    
    ------------------- --------
    CPAN                2.22    
    CPAN::Meta          2.150010
    Cwd                 3.78    
    ExtUtils::CBuilder  0.280231
    ExtUtils::Command   7.58    
    ExtUtils::Install   2.20    
    ExtUtils::MakeMaker 7.58    
    ExtUtils::Manifest  1.72    
    ExtUtils::ParseXS   3.40    
    File::Spec          3.78    
    JSON                4.02    
    JSON::PP            4.05    
    Module::Build       0.4231  
    Module::Signature   0.87    
    Parse::CPAN::Meta   2.150010
    Test::Harness       3.42    
    Test::More          1.302183
    YAML                1.26    
    YAML::Syck          1.34    
    version             0.9924  


--

Summary of my perl5 (revision 5 version 30 subversion 3) configuration:
   
  Platform:
    osname=openbsd
    osvers=6.8
    archname=sparc64-openbsd
    uname='openbsd'
    config_args='-dse -Dopenbsd_distribution=defined -Dmksymlinks'
    hint=recommended
    useposix=true
    d_sigaction=define
    useithreads=undef
    usemultiplicity=undef
    use64bitint=define
    use64bitall=define
    uselongdouble=undef
    usemymalloc=n
    default_inc_excludes_dot=define
    bincompat5005=undef
  Compiler:
    cc='cc'
    ccflags ='-DNO_LOCALE_NUMERIC -DNO_LOCALE_COLLATE -fno-strict-aliasing -fno-delete-null-pointer-checks -pipe -fstack-protector-strong -D_FORTIFY_SOURCE=2 -I/usr/local/include'
    optimize='-O2'
    cppflags='-DBIG_TIME -DNO_LOCALE_NUMERIC -DNO_LOCALE_COLLATE -fno-strict-aliasing -fno-delete-null-pointer-checks -pipe -fstack-protector-strong -I/usr/local/include'
    ccversion=''
    gccversion='4.2.1 20070719 '
    gccosandvers='openbsd6.8'
    intsize=4
    longsize=8
    ptrsize=8
    doublesize=8
    byteorder=87654321
    doublekind=4
    d_longlong=define
    longlongsize=8
    d_longdbl=define
    longdblsize=16
    longdblkind=2
    ivtype='long'
    ivsize=8
    nvtype='double'
    nvsize=8
    Off_t='off_t'
    lseeksize=8
    alignbytes=8
    prototype=define
  Linker and Libraries:
    ld='cc'
    ldflags ='-Wl,-E  -fstack-protector-strong -L/usr/local/lib'
    libpth=/usr/lib /usr/lib
    libs=-lm -lc
    perllibs=-lm -lc
    libc=/usr/lib/libc.so.96.0
    so=so
    useshrplib=true
    libperl=libperl.so.20.0
    gnulibc_version=''
  Dynamic Linking:
    dlsrc=dl_dlopen.xs
    dlext=so
    d_dlsymun=undef
    ccdlflags='-Wl,-R/usr/libdata/perl5/sparc64-openbsd/CORE'
    cccdlflags='-DPIC -fPIC '
    lddlflags='-shared -fPIC  -fstack-protector-strong -L/usr/local/lib'


Characteristics of this binary (from libperl): 
  Compile-time options:
    HAS_TIMES
    PERLIO_LAYERS
    PERL_COPY_ON_WRITE
    PERL_DONT_CREATE_GVSV
    PERL_MALLOC_WRAP
    PERL_OP_PARENT
    PERL_PRESERVE_IVUV
    USE_64_BIT_ALL
    USE_64_BIT_INT
    USE_LARGE_FILES
    USE_LOCALE
    USE_LOCALE_CTYPE
    USE_LOCALE_TIME
    USE_PERLIO
    USE_PERL_ATOF
  Built under openbsd
  %ENV:
    PERL5LIB="/home/smoker/perl/system/lib/perl5"
    PERL5OPT=""
    PERL5_CPANPLUS_IS_RUNNING="410"
    PERL5_CPAN_IS_RUNNING="410"
    PERL5_CPAN_IS_RUNNING_IN_RECURSION="38161,410"
    PERL_CARTON_PATH="/home/afresh1/cpan-smoker-setup/local/system"
    PERL_CR_SMOKER_CURRENT="Org-Parser-0.554"
    PERL_EXTUTILS_AUTOINSTALL="--defaultdeps"
    PERL_LOCAL_LIB_ROOT="/home/smoker/perl/system"
    PERL_MB_OPT="--install_base '/home/smoker/perl/system'"
    PERL_MM_OPT="INSTALL_BASE=/home/smoker/perl/system"
    PERL_MM_USE_DEFAULT="1"
    PERL_USE_UNSAFE_INC="1"
  @INC:
    /home/smoker/perl/system/lib/perl5/sparc64-openbsd
    /home/smoker/perl/system/lib/perl5
    /usr/local/libdata/perl5/site_perl/sparc64-openbsd
    /usr/local/libdata/perl5/site_perl
    /usr/libdata/perl5/sparc64-openbsd
    /usr/libdata/perl5
    .