Firefox-Marionette v1.55 Perl 5 v5.30.3 x86_64-linux
- Status
- Pass
- From
- Slaven Rezić
- Dist
-
Firefox-Marionette v1.55
- Platform
- Perl 5 v5.30.3 x86_64-linux
- Date
- 2024-04-06 02:03:28
- ID
- dc8301f6-f3b9-11ee-bc02-b1046e8775ea
This distribution has been tested as part of the CPAN Testers
project, supporting the Perl programming language. See
http://wiki.cpantesters.org/ for more information or email
questions to cpan-testers-discuss@perl.org
--
Dear David Dick,
This is a computer-generated report for Firefox-Marionette-1.55
on perl 5.30.3, created by CPAN-Reporter-1.2018.
Thank you for uploading your work to CPAN. Congratulations!
All tests were successful.
Sections of this report:
* Tester comments
* Program output
* Prerequisites
* Environment and other context
------------------------------
TESTER COMMENTS
------------------------------
Additional comments from tester:
none provided
------------------------------
PROGRAM OUTPUT
------------------------------
Output from '/usr/bin/make test':
PERL_DL_NONLAZY=1 "/opt/perl-5.30.3/bin/perl" "-MExtUtils::Command::MM" "-MTest::Harness" "-e" "undef *Test::Harness::Switches; test_harness(0, 'blib/lib', 'blib/arch')" t/*.t
# Testing Firefox::Marionette 1.55
t/00.load.t ......... ok
# Version is Mozilla Firefox 115.9.1esr
# DISPLAY is :21
Can't exec "dbus-launch": No such file or directory at t/01-marionette.t line 591.
# D-Bus appears to be broken. 'dbus-launch' was unable to successfully complete:-1
# Redhat Version is CentOS Linux release 7.9.2009 (Core)
# Xvfb rpm version is xorg-x11-server-Xvfb-1.20.4-27.el7_9.x86_64
# grep -r Mem /proc/meminfo
# MemTotal: 1832484 kB
# MemFree: 519940 kB
# MemAvailable: 959296 kB
# ulimit -a | grep -i mem
# max locked memory (kbytes, -l) 64
# max memory size (kbytes, -m) unlimited
# virtual memory (kbytes, -v) unlimited
# This firefox installation has 2 existing profiles
'/opt/perl-5.30.3/bin/perl --version' did not produce output that could be parsed. Assuming modern Marionette is available at t/01-marionette.t line 695.
'/opt/perl-5.30.3/bin/perl --version' did not produce output that could be parsed. Assuming modern Marionette is available at t/01-marionette.t line 695.
'/opt/perl-5.30.3/bin/perl --version' did not produce output that could be parsed. Assuming modern Marionette is available at t/01-marionette.t line 695.
'/opt/perl-5.30.3/bin/perl --version' did not produce output that could be parsed. Assuming modern Marionette is available at t/01-marionette.t line 695.
# Initial tests
# Testing has been running for 1 seconds at t/01-marionette.t line 807
** firefox --version
** firefox -marionette -safe-mode -headless -profile /var/tmp/cpansmoker-1023/2024040601/firefox_marionette_local_5U0QnJm4lMU/profile --no-remote --new-instance
*** You are running in headless mode.
[Parent 15155, Main Thread] WARNING: No marshaller for signature of signal 'PropertiesChanged': 'glib warning', file /builddir/build/BUILD/firefox-115.9.1/toolkit/xre/nsSigHandlers.cpp:167
** (firefox:15155): WARNING **: 02:00:59.287: No marshaller for signature of signal 'PropertiesChanged'
<< 50:{"applicationType":"gecko","marionetteProtocol":3}
>> 73:[0,1,"WebDriver:NewSession",{"capabilities":{"requiredCapabilities":{}}}]
<< 759:[1,1,null,{"sessionId":"a0494197-7698-406c-822d-96314d5bb881","capabilities":{"browserName":"firefox","browserVersion":"115.9.1","platformName":"linux","acceptInsecureCerts":false,"pageLoadStrategy":"normal","setWindowRect":true,"timeouts":{"implicit":0,"pageLoad":300000,"script":30000},"strictFileInteractability":false,"unhandledPromptBehavior":"dismiss and notify","moz:accessibilityChecks":false,"moz:buildID":"20240328152406","moz:headless":true,"moz:platformVersion":"3.10.0-1160.114.2.el7.x86_64","moz:processID":15155,"moz:profile":"/var/tmp/cpansmoker-1023/2024040601/firefox_marionette_local_5U0QnJm4lMU/profile","moz:shutdownTimeout":60000,"moz:useNonSpecCompliantPointerOrigin":false,"moz:webdriverClick":true,"moz:windowless":false,"proxy":{}}}]
>> 33:[0,2,"WebDriver:GetCapabilities"]
<< 718:[1,2,null,{"value":{"capabilities":{"browserName":"firefox","browserVersion":"115.9.1","platformName":"linux","acceptInsecureCerts":false,"pageLoadStrategy":"normal","setWindowRect":true,"timeouts":{"implicit":0,"pageLoad":300000,"script":30000},"strictFileInteractability":false,"unhandledPromptBehavior":"dismiss and notify","moz:accessibilityChecks":false,"moz:buildID":"20240328152406","moz:headless":true,"moz:platformVersion":"3.10.0-1160.114.2.el7.x86_64","moz:processID":15155,"moz:profile":"/var/tmp/cpansmoker-1023/2024040601/firefox_marionette_local_5U0QnJm4lMU/profile","moz:shutdownTimeout":60000,"moz:useNonSpecCompliantPointerOrigin":false,"moz:webdriverClick":true,"moz:windowless":false,"proxy":{}}}}]
>> 71:[0,3,"WebDriver:ExecuteScript",{"script":"return navigator.userAgent"}]
<< 93:[1,3,null,{"value":"Mozilla/5.0 (X11; Linux x86_64; rv:109.0) Gecko/20100101 Firefox/115.0"}]
>> 29:[0,4,"Marionette:GetContext"]
<< 30:[1,4,null,{"value":"content"}]
>> 48:[0,5,"Marionette:SetContext",{"value":"chrome"}]
<< 25:[1,5,null,{"value":null}]
>> 80:[0,6,"WebDriver:ExecuteScript",{"script":"return Services.appinfo.XPCOMABI;\n"}]
<< 34:[1,6,null,{"value":"x86_64-gcc3"}]
>> 29:[0,7,"Marionette:GetContext"]
<< 29:[1,7,null,{"value":"chrome"}]
>> 49:[0,8,"Marionette:SetContext",{"value":"content"}]
<< 25:[1,8,null,{"value":null}]
# Browser version is 115.9.1
# Operating System is linux 3.10.0-1160.114.2.el7.x86_64
# Profile Directory is /var/tmp/cpansmoker-1023/2024040601/firefox_marionette_local_5U0QnJm4lMU/profile
# Mozilla PID is 15155
# Firefox BuildID is 20240328152406
# Addons are disabled
# User Agent is Mozilla/5.0 (X11; Linux x86_64; rv:109.0) Gecko/20100101 Firefox/115.0
# uname is linux
# Arch is x86_64
>> 32:[0,9,"Marionette:GetWindowType"]
<< 40:[1,9,null,{"value":"navigator:browser"}]
>> 32:[0,10,"WebDriver:GetWindowRect"]
<< 51:[1,10,null,{"x":0,"y":0,"width":1366,"height":768}]
>> 72:[0,11,"WebDriver:SetWindowRect",{"height":452,"width":326,"x":3,"y":23}]
<< 51:[1,11,null,{"x":3,"y":23,"width":450,"height":452}]
>> 32:[0,12,"WebDriver:GetWindowRect"]
<< 51:[1,12,null,{"x":3,"y":23,"width":450,"height":452}]
>> 32:[0,13,"WebDriver:GetWindowRect"]
<< 51:[1,13,null,{"x":3,"y":23,"width":450,"height":452}]
>> 30:[0,14,"WebDriver:GetTimeouts"]
<< 59:[1,14,null,{"implicit":0,"pageLoad":300000,"script":30000}]
>> 81:[0,15,"WebDriver:SetTimeouts",{"implicit":41001,"pageLoad":45043,"script":48021}]
<< 26:[1,15,null,{"value":null}]
>> 30:[0,16,"WebDriver:GetTimeouts"]
<< 62:[1,16,null,{"implicit":41001,"pageLoad":45043,"script":48021}]
>> 30:[0,17,"WebDriver:GetTimeouts"]
<< 62:[1,17,null,{"implicit":41001,"pageLoad":45043,"script":48021}]
>> 81:[0,18,"WebDriver:SetTimeouts",{"implicit":41001,"pageLoad":45043,"script":48021}]
<< 26:[1,18,null,{"value":null}]
>> 72:[0,19,"WebDriver:ExecuteScript",{"script":"return navigator.webdriver"}]
<< 26:[1,19,null,{"value":true}]
>> 87:[0,20,"WebDriver:ExecuteScript",{"script":"window.open(\"about:blank\", \"_blank\");"}]
<< 26:[1,20,null,{"value":null}]
>> 30:[0,21,"WebDriver:CloseWindow"]
<< 52:[1,21,null,["133191bd-3a63-4fae-a5da-0eb46de72fb7"]]
>> 32:[0,22,"WebDriver:DeleteSession"]
<< 26:[1,22,null,{"value":null}]
>> 74:[0,23,"WebDriver:NewSession",{"capabilities":{"requiredCapabilities":{}}}]
<< 760:[1,23,null,{"sessionId":"2cb8d16e-00b1-441c-8c0a-50121cdde28f","capabilities":{"browserName":"firefox","browserVersion":"115.9.1","platformName":"linux","acceptInsecureCerts":false,"pageLoadStrategy":"normal","setWindowRect":true,"timeouts":{"implicit":0,"pageLoad":300000,"script":30000},"strictFileInteractability":false,"unhandledPromptBehavior":"dismiss and notify","moz:accessibilityChecks":false,"moz:buildID":"20240328152406","moz:headless":true,"moz:platformVersion":"3.10.0-1160.114.2.el7.x86_64","moz:processID":15155,"moz:profile":"/var/tmp/cpansmoker-1023/2024040601/firefox_marionette_local_5U0QnJm4lMU/profile","moz:shutdownTimeout":60000,"moz:useNonSpecCompliantPointerOrigin":false,"moz:webdriverClick":true,"moz:windowless":false,"proxy":{}}}]
>> 51:[0,24,"Marionette:Quit",{"flags":["eAttemptQuit"]}]
<< 61:[1,24,null,{"cause":"shutdown","forced":false,"in_app":true}]
# Starting new firefox for testing capabilities and accessing proxies
# Using proxy port TCP/47277
# Using SOCKS port TCP/48103
# Testing has been running for 5 seconds at t/01-marionette.t line 1214
# Testing has been running for 8 seconds at t/01-marionette.t line 1321
# Testing has been running for 8 seconds at t/01-marionette.t line 1351
# Starting new firefox for testing proxies with proxy port TCP/54177
# Testing has been running for 9 seconds at t/01-marionette.t line 1469
# Starting new firefox for testing proxies again using default proxy port TCP/3128
# Testing has been running for 14 seconds at t/01-marionette.t line 1516
# Starting new firefox for testing PDFs and script elements
# Testing has been running for 19 seconds at t/01-marionette.t line 1580
# WebGL is enabled by default when visible and addons are turned off
# Starting new firefox for testing logins
# Testing has been running for 24 seconds at t/01-marionette.t line 2313
# WebGL appears to be enabled in headless mode (with addons => 1)
# Testing has been running for 29 seconds at t/01-marionette.t line 2685
# Starting new firefox for testing custom headers
# Testing has been running for 29 seconds at t/01-marionette.t line 3023
# Starting new firefox for testing metacpan and iframe, with find, downloads, extensions and actions
# Testing has been running for 34 seconds at t/01-marionette.t line 3190
**** DEPRECATED METHOD - using chrome_window_handle() HAS BEEN REPLACED BY window_handle() wrapped with appropriate context() calls **** at t/01-marionette.t line 3206.
# Testing has been running for 38 seconds at t/01-marionette.t line 3222
**** DEPRECATED METHOD - using chrome_window_handle() HAS BEEN REPLACED BY window_handle() wrapped with appropriate context() calls **** at t/01-marionette.t line 3260.
**** DEPRECATED METHOD - using current_chrome_window_handle() HAS BEEN REPLACED BY window_handle() wrapped with appropriate context() calls **** at t/01-marionette.t line 3260.
**** DEPRECATED METHOD - using chrome_window_handles() HAS BEEN REPLACED BY window_handles() wrapped with appropriate context() calls **** at t/01-marionette.t line 3262.
**** DEPRECATED METHOD - using chrome_window_handles() HAS BEEN REPLACED BY window_handles() wrapped with appropriate context() calls **** at t/01-marionette.t line 3271.
**** DEPRECATED METHOD - using chrome_window_handles() HAS BEEN REPLACED BY window_handles() wrapped with appropriate context() calls **** at t/01-marionette.t line 3272.
**** DEPRECATED METHOD - using chrome_window_handles() HAS BEEN REPLACED BY window_handles() wrapped with appropriate context() calls **** at t/01-marionette.t line 3296.
**** DEPRECATED METHOD - using chrome_window_handles() HAS BEEN REPLACED BY window_handles() wrapped with appropriate context() calls **** at t/01-marionette.t line 3297.
# Switch to shadow root is broken:unknown command: WebDriver:SwitchToShadowRoot at t/01-marionette.t line 3345
**** DEPRECATED METHOD - list HAS BEEN REPLACED BY find **** at t/01-marionette.t line 3356.
# $firefox->active_frame is not supported for 115.9.1:unknown command: WebDriver:GetActiveFrame at t/01-marionette.t line 3373
# Starting new firefox for testing JSON from localhost and alerts and extensions
# Testing has been running for 38 seconds at t/01-marionette.t line 4492
# Original install path is /home/cpansand/.cpan/build/2024040602/Firefox-Marionette-1.55-0/t/addons/borderify/manifest.json
# Installing extension from /home/cpansand/.cpan/build/2024040602/Firefox-Marionette-1.55-0/t/addons/borderify/manifest.json
# Accepting connections for [Test HTTP Content Server for 15096]
# Accepted connection
# Accepted connection
# Got request for /?format=JSON
# { "id": "5", "value": "soÃÂmething"}
# Accepted connection
# Got request for /?format=txt
# This is ordinary text
# Accepted connection
# Got request for /?format=txt
# Accepted connection
# Got request for /?format=txt
# Caught exception in content server:Caught a TERM signal at t/01-marionette.t line 115.
**** DEPRECATED METHOD - using accept_dialog() HAS BEEN REPLACED BY accept_alert **** at t/01-marionette.t line 4695.
# Starting new firefox for testing proxy by argument, capabilities, window switching and certificates using proxy port TCP/51118
# Testing has been running for 45 seconds at t/01-marionette.t line 4867
# Starting new firefox for testing %ENV proxy, min/maxing and killing firefox
# Testing has been running for 52 seconds at t/01-marionette.t line 5152
# Final Browser version is 115.9.1
# WebGL (experimental) is working correctly for 115.9.1 on linux
# Killing PID 19393 with a signal 15
# Error Message was Firefox killed by a TERM signal (15)
# Starting new firefox for testing visibility and TLS proxy servers
# Testing has been running for 71 seconds at t/01-marionette.t line 5327
# Starting new firefox for shortcut TLS proxy servers
# Testing has been running for 80 seconds at t/01-marionette.t line 5423
Unable to launch firefox with -headless option at t/01-marionette.t line 437.
# Starting new firefox for shortcut normal proxy servers
# Testing has been running for 85 seconds at t/01-marionette.t line 5458
# Testing has been running for 90 seconds at t/01-marionette.t line 5484
# Total runtime is 99 seconds
t/01-marionette.t ... ok
# Running taint checks with PATH set to /usr/bin:/bin:/usr/local/bin
t/02-taint.t ........ ok
t/03-close.t ........ skipped: Author tests not required for installation
t/03-closedir.t ..... skipped: Author tests not required for installation
t/03-fork.t ......... skipped: Author tests not required for installation
t/03-mkdir.t ........ skipped: Author tests not required for installation
t/03-opendir.t ...... skipped: Author tests not required for installation
t/03-read.t ......... skipped: Author tests not required for installation
t/03-seek.t ......... skipped: Author tests not required for installation
t/03-stat.t ......... skipped: Author tests not required for installation
t/03-sysopen.t ...... skipped: Author tests not required for installation
t/04-botd.t ......... skipped: Author tests not required for installation
t/04-fingerprint.t .. skipped: Author tests not required for installation
t/04-proxy.t ........ skipped: Author tests not required for installation
t/04-webauthn.t ..... skipped: Author tests not required for installation
t/manifest.t ........ skipped: Author tests not required for installation
t/pod-coverage.t .... ok
t/pod.t ............. ok
All tests successful.
Test Summary Report
-------------------
t/01-marionette.t (Wstat: 0 Tests: 2356 Failed: 0)
TODO passed: 54, 1632, 1650-1652
Files=19, Tests=2437, 106 wallclock secs ( 0.21 usr 0.03 sys + 71.20 cusr 14.05 csys = 85.49 CPU)
Result: PASS
------------------------------
PREREQUISITES
------------------------------
Prerequisite modules loaded:
requires:
Module Need Have
------------------- ----- --------
Archive::Zip 0 1.68
Config 0 5.030003
Config::INI::Reader 0 0.027
Crypt::URandom 0 0.39
DirHandle 0 1.05
Encode 0 3.19
English 0 1.10
Exporter 0 5.78
Fcntl 0 1.13
File::Find 0 1.36
File::Spec 0 3.78
File::Temp 0 0.2311
FileHandle 0 2.03
IO::Handle 0 1.51
IPC::Open3 1.03 1.20
JSON 0 4.10
MIME::Base64 3.11 3.16
overload 0 1.30
parent 0 0.240
perl 5.006 5.030003
Pod::Simple::Text 0 3.43
POSIX 0 1.88
Scalar::Util 0 1.63
Socket 0 2.037
Term::ReadKey 0 2.38
Text::CSV_XS 1.35 1.53
Time::HiRes 0 1.9764
Time::Local 0 1.35
URI 1.61 5.26
URI::data 0 5.26
URI::Escape 0 5.26
URI::URL 0 5.26
XML::Parser 0 2.46
build_requires:
Module Need Have
------------------- ----- --------
Compress::Zlib 0 2.204
Crypt::PasswdMD5 0 1.42
Cwd 0 3.78
Digest::SHA 0 6.04
File::HomeDir 0 1.006
HTTP::Daemon 0 6.14
HTTP::Response 0 6.44
HTTP::Status 0 6.44
IO::Socket::IP 0 0.41
IO::Socket::SSL 0 2.083
PDF::API2 2.036 2.044
Test::CheckManifest 0.9 1.43
Test::More 0 1.302196
Test::Pod 1.41 1.52
Test::Pod::Coverage 1.04 1.10
configure_requires:
Module Need Have
------------------- ----- --------
ExtUtils::MakeMaker 0 7.70
------------------------------
ENVIRONMENT AND OTHER CONTEXT
------------------------------
Environment variables:
LANG = en_US.UTF-8
PATH = /usr/local/bin:/usr/bin:/bin:/usr/local/sbin:/usr/sbin:/sbin:/home/cpansand/bin/linux-gnu:/home/cpansand/bin/sh:/home/cpansand/bin:/usr/games:/home/cpansand/devel:/home/eserte/src/srezic-misc/scripts
PERL5LIB =
PERL5OPT =
PERL5_CPANPLUS_IS_RUNNING = 14934
PERL5_CPAN_IS_RUNNING = 14934
PERL5_CPAN_IS_RUNNING_IN_RECURSION = 7124,14934
PERLDOC = -MPod::Perldoc::ToTextOverstrike
PERL_BATCH = yes
PERL_CANARY_STABILITY_NOPROMPT = 1
PERL_CPAN_REPORTER_CONFIG = /var/tmp/cpansmoker-1023/2024040601/cpanreporter_000_config.ini
PERL_EXTUTILS_AUTOINSTALL = --defaultdeps
PERL_USE_UNSAFE_INC = 1
SHELL = /usr/bin/zsh
TERM = screen
TMPDIR = /var/tmp/cpansmoker-1023/2024040601
Perl special variables (and OS-specific diagnostics, for MSWin32):
$^X = /opt/perl-5.30.3/bin/perl
$UID/$EUID = 1023 / 1023
$GID = 1023 1023
$EGID = 1023 1023
Perl module toolchain versions installed:
Module Have
------------------- --------
CPAN 2.36
CPAN::Meta 2.150010
Cwd 3.78
ExtUtils::CBuilder 0.280236
ExtUtils::Command 7.70
ExtUtils::Install 2.22
ExtUtils::MakeMaker 7.70
ExtUtils::Manifest 1.75
ExtUtils::ParseXS 3.51
File::Spec 3.78
JSON 4.10
JSON::PP 4.12
Module::Build 0.4234
Module::Signature 0.88
Parse::CPAN::Meta 2.150010
Test::Harness 3.47
Test::More 1.302196
YAML 1.31
YAML::Syck 1.34
version 0.9930
--
Summary of my perl5 (revision 5 version 30 subversion 3) configuration:
Platform:
osname=linux
osvers=3.10.0-1160.76.1.el7.x86_64
archname=x86_64-linux
uname='linux cloud3.bbbike.org 3.10.0-1160.76.1.el7.x86_64 #1 smp wed aug 10 16:21:17 utc 2022 x86_64 x86_64 x86_64 gnulinux '
config_args='-ds -e -Dprefix=/opt/perl-5.30.3 -Dcf_email=srezic@cpan.org'
hint=recommended
useposix=true
d_sigaction=define
useithreads=undef
usemultiplicity=undef
use64bitint=define
use64bitall=define
uselongdouble=undef
usemymalloc=n
default_inc_excludes_dot=define
bincompat5005=undef
Compiler:
cc='cc'
ccflags ='-fwrapv -fno-strict-aliasing -pipe -fstack-protector-strong -I/usr/local/include -D_LARGEFILE_SOURCE -D_FILE_OFFSET_BITS=64 -D_FORTIFY_SOURCE=2'
optimize='-O2'
cppflags='-fwrapv -fno-strict-aliasing -pipe -fstack-protector-strong -I/usr/local/include'
ccversion=''
gccversion='4.8.5 20150623 (Red Hat 4.8.5-44)'
gccosandvers=''
intsize=4
longsize=8
ptrsize=8
doublesize=8
byteorder=12345678
doublekind=3
d_longlong=define
longlongsize=8
d_longdbl=define
longdblsize=16
longdblkind=3
ivtype='long'
ivsize=8
nvtype='double'
nvsize=8
Off_t='off_t'
lseeksize=8
alignbytes=8
prototype=define
Linker and Libraries:
ld='cc'
ldflags =' -fstack-protector-strong -L/usr/local/lib'
libpth=/usr/local/lib /usr/lib /lib/../lib64 /usr/lib/../lib64 /lib /lib64 /usr/lib64 /usr/local/lib64
libs=-lpthread -lnsl -lgdbm -ldb -ldl -lm -lcrypt -lutil -lc -lgdbm_compat
perllibs=-lpthread -lnsl -ldl -lm -lcrypt -lutil -lc
libc=libc-2.17.so
so=so
useshrplib=false
libperl=libperl.a
gnulibc_version='2.17'
Dynamic Linking:
dlsrc=dl_dlopen.xs
dlext=so
d_dlsymun=undef
ccdlflags='-Wl,-E'
cccdlflags='-fPIC'
lddlflags='-shared -O2 -L/usr/local/lib -fstack-protector-strong'
Characteristics of this binary (from libperl):
Compile-time options:
HAS_TIMES
PERLIO_LAYERS
PERL_COPY_ON_WRITE
PERL_DONT_CREATE_GVSV
PERL_MALLOC_WRAP
PERL_OP_PARENT
PERL_PRESERVE_IVUV
USE_64_BIT_ALL
USE_64_BIT_INT
USE_LARGE_FILES
USE_LOCALE
USE_LOCALE_COLLATE
USE_LOCALE_CTYPE
USE_LOCALE_NUMERIC
USE_LOCALE_TIME
USE_PERLIO
USE_PERL_ATOF
Locally applied patches:
Devel::PatchPerl 2.08
Built under linux
Compiled at Sep 23 2022 05:47:21
%ENV:
PERL5LIB=""
PERL5OPT=""
PERL5_CPANPLUS_IS_RUNNING="14934"
PERL5_CPAN_IS_RUNNING="14934"
PERL5_CPAN_IS_RUNNING_IN_RECURSION="7124,14934"
PERLDOC="-MPod::Perldoc::ToTextOverstrike"
PERL_BATCH="yes"
PERL_CANARY_STABILITY_NOPROMPT="1"
PERL_CPAN_REPORTER_CONFIG="/var/tmp/cpansmoker-1023/2024040601/cpanreporter_000_config.ini"
PERL_EXTUTILS_AUTOINSTALL="--defaultdeps"
PERL_USE_UNSAFE_INC="1"
@INC:
/opt/perl-5.30.3/lib/site_perl/5.30.3/x86_64-linux
/opt/perl-5.30.3/lib/site_perl/5.30.3
/opt/perl-5.30.3/lib/5.30.3/x86_64-linux
/opt/perl-5.30.3/lib/5.30.3
.