App-perlimports v0.000052 Perl 5 v5.22.4 OpenBSD.amd64-openbsd

Status
Pass
From
Chris Williams (BINGOS)
Dist
App-perlimports v0.000052
Platform
Perl 5 v5.22.4 OpenBSD.amd64-openbsd
Date
2023-08-21 03:28:55
ID
db7ba4de-3fd2-11ee-98b0-b3c3213a625c
This distribution has been tested as part of the CPAN Testers
project, supporting the Perl programming language.  See
http://wiki.cpantesters.org/ for more information or email
questions to cpan-testers-discuss@perl.org


--

Dear OALDERS,

This is a computer-generated error report created automatically by
CPANPLUS, version 0.9914. Testers personal comments may appear
at the end of this report.


Thank you for uploading your work to CPAN.  Congratulations!
All tests were successful.

TEST RESULTS:

Below is the error stack from stage 'make test':

PERL_DL_NONLAZY=1 "/home/cpan/pit/bare/perl-5.22.4/bin/perl" "-MExtUtils::Command::MM" "-MTest::Harness" "-e" "undef *Test::Harness::Switches; test_harness(0, 'blib/lib', 'blib/arch')" t/*.t t/ExportInspector/*.t t/cpan-modules/*.t
# 
# Versions for all modules listed in MYMETA.json (including optional ones):
# 
# === Configure Requires ===
# 
#     Module                 Want     Have
#     ------------------- ------- --------
#     ExtUtils::MakeMaker     any     7.70
#     perl                v5.10.0 5.022004
# 
# === Build Requires ===
# 
#     Module              Want Have
#     ------------------- ---- ----
#     ExtUtils::MakeMaker  any 7.70
# 
# === Test Requires ===
# 
#     Module                    Want     Have
#     ---------------------- ------- --------
#     ExtUtils::MakeMaker        any     7.70
#     File::Spec                 any     3.75
#     File::pushd                any    1.016
#     Log::Dispatch::Array       any    1.005
#     PPI::Dumper                any    1.276
#     Sub::Exporter              any    0.990
#     Test::Differences          any     0.70
#     Test::Fatal                any    0.017
#     Test::More                 any 1.302195
#     Test::Needs                any 0.002010
#     Test::RequiresInternet     any     0.05
#     Test::Script              1.29     1.29
#     Test::Warnings             any    0.031
#     lib                        any     0.63
#     perl                   v5.18.0 5.022004
# 
# === Test Recommends ===
# 
#     Module         Want     Have
#     ---------- -------- --------
#     CPAN::Meta 2.120900 2.150010
# 
# === Runtime Requires ===
# 
#     Module                           Want     Have
#     ---------------------------- -------- --------
#     Capture::Tiny                     any     0.48
#     Class::Inspector                 1.36     1.36
#     Cpanel::JSON::XS                  any     4.37
#     Data::Dumper                      any    2.158
#     Data::UUID                        any    1.226
#     File::Basename                    any     2.85
#     File::XDG                        1.01     1.02
#     Getopt::Long::Descriptive         any    0.111
#     List::Util                        any     1.63
#     Log::Dispatch                    2.70     2.71
#     Memoize                           any  1.03_01
#     Module::Runtime                   any    0.016
#     Moo                               any 2.005005
#     Moo::Role                         any 2.005005
#     MooX::StrictConstructor           any    0.011
#     PPI                             1.276    1.276
#     PPI::Document                     any    1.276
#     PPIx::Utils::Classification       any    0.003
#     Path::Iterator::Rule              any    1.015
#     Path::Tiny                        any    0.144
#     Perl::Tidy                   20220613 20230701
#     Pod::Usage                        any     1.64
#     Ref::Util                         any    0.204
#     Scalar::Util                      any     1.63
#     Sereal::Decoder                   any    5.004
#     Sereal::Encoder                   any    5.004
#     Sub::HandlesVia                   any 0.050000
#     Symbol::Get                      0.10     0.10
#     TOML::Tiny                       0.16     0.16
#     Text::Diff                        any     1.45
#     Text::SimpleTable::AutoWidth      any     0.09
#     Try::Tiny                         any     0.31
#     Types::Standard                   any 2.004000
#     feature                           any     1.40
#     perl                         5.018000 5.022004
#     strict                            any     1.09
#     utf8                              any     1.17
#     warnings                          any     1.34
# 
t/00-report-prereqs.t ............ ok
t/after.t ........................ skipped: Need List::AllUtils
t/annotations.t .................. ok
t/args-in-import.t ............... ok
t/builtin.t ...................... ok
t/carp.t ......................... ok
t/cast-in-regex.t ................ skipped: Need Lingua::EN::Inflect
t/cast.t ......................... skipped: Need Mojo::Util
t/cli-args.t ..................... skipped: Need Perl::Critic::Utils
t/cli.t .......................... skipped: Need Perl::Critic::Utils
t/config-in-import.t ............. ok
t/Config.t ....................... ok
t/cpan-modules/pithub.t .......... skipped: Need Pithub
t/cpan-modules/test2-v0.t ........ ok
t/datetime.t ..................... ok
t/do-block.t ..................... ok
t/Document.t ..................... ok
t/dump-perl-exports.t ............ skipped: Need Moose
t/dupes.t ........................ ok
t/english.t ...................... ok
t/explodes.t ..................... ok
t/export-tags.t .................. skipped: Need HTTP::Status 6.28
t/exported-variables.t ........... ok
t/ExportInspector/load.t ......... skipped: Need Import::Into, Moose, Test::Most
t/ExportInspector/SubExporter.t .. skipped: Need Import::Into, MetaCPAN::Moose, Moose, MooseX::Types::Moose, MooseX::Types::Path::Class
t/find-bin.t ..................... ok
t/fully-qualified.t .............. ok
t/func-in-use.t .................. ok
t/func-in-var.t .................. skipped: Need Mojo::Util
t/geo-ip.t ....................... skipped: Need Geo::IP
t/hash-in-regex.t ................ ok
t/hash-key-expression.t .......... skipped: Need HTTP::Status
t/hash-key.t ..................... skipped: Need HTTP::Status
t/hash-unquoted-key.t ............ skipped: Need HTTP::Status
t/heredoc.t ...................... skipped: Need Perl::Critic::Utils
t/ignored-modules.t .............. skipped: Need Geo::IP
t/import-error.t ................. ok
t/interpolation.t ................ ok
t/is-ignored.t ................... ok
t/lookalike-words.t .............. ok
t/memoize.t ...................... skipped: Need MooseX::Types::UUID, UUID
t/meta.t ......................... ok
t/method.t ....................... skipped: Need LWP::UserAgent
t/missing-semicolon-in-import.t .. ok
t/module-with-inner-packages.t ... ok
t/moo.t .......................... skipped: Need Import::Into
t/moose-types.t .................. skipped: Need MooseX::Types::Path::Class
t/moose.t ........................ skipped: Need Import::Into, Moose
t/moosex-types-moose.t ........... skipped: Need MooseX::Types, MooseX::Types::Moose
t/nested-quotes.t ................ ok
t/never-exports.t ................ skipped: Need LWP::UserAgent 5
t/original-imports.t ............. ok
t/padding.t ...................... ok
t/perl-imports.t ................. ok
t/perl.t ......................... ok
t/perlimports.t .................. skipped: Need Moose
t/pragma.t ....................... ok
t/preserve-some-padding.t ........ ok
t/preserve-spaces.t .............. skipped: Need HTTP::Status
t/qualified-bareword.t ........... ok
t/quoted-var.t ................... ok
t/re-export-via-sub-exporter.t ... ok
t/regex-replacement.t ............ skipped: Need IP::Random 1.200230
t/require.t ...................... skipped: Need LWP::UserAgent
t/respace-include.t .............. ok
t/Sandbox.t ...................... ok
t/script-with-inner-packages.t ... skipped: Need HTTP::Status
t/signatures.t ................... skipped: Need HTTP::Status 6.28
t/skip-all.t ..................... skipped: Test is broken
t/socket.t ....................... ok
t/sort-imports.t ................. ok
t/switches-in-import.t ........... ok
t/symbol-as-method-call.t ........ skipped: Need HTML::TableExtract, Object::Tap
t/symbol-in-export.t ............. skipped: Need HTTP::Status
t/test-builder.t ................. skipped: Need Test::HTML::Lint
t/test-most.t .................... skipped: Need Test::Most
t/typeglob.t ..................... skipped: Need File::chdir
t/unnest-quotes.t ................ ok
t/use-and-require.t .............. ok
t/var-in-hash-key.t .............. skipped: Need Perl::Critic::Utils
t/var-in-regex.t ................. skipped: Need Perl::Critic::Utils
t/variable.t ..................... ok
t/warning.t ...................... skipped: Need Mojo::URL
t/with-version.t ................. skipped: Need LWP::UserAgent 5
All tests successful.
Files=84, Tests=90, 56 wallclock secs ( 0.29 usr  0.37 sys + 42.12 cusr  9.31 csys = 52.09 CPU)
Result: PASS


PREREQUISITES:

Here is a list of prerequisites you specified and versions we
managed to load:

	  Module Name                        Have     Want
	  Capture::Tiny                      0.48        0
	  Class::Inspector                   1.36     1.36
	  Cpanel::JSON::XS                   4.37        0
	  Data::Dumper                      2.158        0
	  Data::UUID                        1.226        0
	  ExtUtils::MakeMaker                7.70        0
	  File::Basename                     2.85        0
	  File::Spec                         3.75        0
	  File::XDG                          1.02     1.01
	  File::pushd                       1.016        0
	  Getopt::Long::Descriptive         0.111        0
	  List::Util                         1.63        0
	  Log::Dispatch                      2.71     2.70
	  Log::Dispatch::Array              1.005        0
	  Memoize                         1.03_01        0
	  Module::Runtime                   0.016        0
	  Moo                            2.005005        0
	  Moo::Role                      2.005005        0
	  MooX::StrictConstructor           0.011        0
	  PPI                               1.276    1.276
	  PPI::Document                     1.276        0
	  PPI::Dumper                       1.276        0
	  PPIx::Utils::Classification       0.003        0
	  Path::Iterator::Rule              1.015        0
	  Path::Tiny                        0.144        0
	  Perl::Tidy                     20230701 20220613
	  Pod::Usage                         1.64        0
	  Ref::Util                         0.204        0
	  Scalar::Util                       1.63        0
	  Sereal::Decoder                   5.004        0
	  Sereal::Encoder                   5.004        0
	  Sub::Exporter                     0.990        0
	  Sub::HandlesVia                0.050000        0
	  Symbol::Get                        0.10     0.10
	  TOML::Tiny                         0.16     0.16
	  Test::Differences                  0.70        0
	  Test::Fatal                       0.017        0
	  Test::More                     1.302195        0
	  Test::Needs                    0.002010        0
	  Test::RequiresInternet             0.05        0
	  Test::Script                       1.29     1.29
	  Test::Warnings                    0.031        0
	  Text::Diff                         1.45        0
	  Text::SimpleTable::AutoWidth       0.09        0
	  Try::Tiny                          0.31        0
	  Types::Standard                2.004000        0
	  feature                            1.40        0
	  lib                                0.63        0
	  strict                             1.09        0
	  utf8                               1.17        0
	  warnings                           1.34        0

Perl module toolchain versions installed:
	Module Name                        Have
	CPANPLUS                         0.9914
	CPANPLUS::Dist::Build              0.90
	Cwd                                3.75
	ExtUtils::CBuilder             0.280236
	ExtUtils::Command                  7.70
	ExtUtils::Install                  2.22
	ExtUtils::MakeMaker                7.70
	ExtUtils::Manifest                 1.75
	ExtUtils::ParseXS                  3.44
	File::Spec                         3.75
	Module::Build                    0.4234
	Pod::Parser                        1.63
	Pod::Simple                        3.29
	Test2                          1.302195
	Test::Harness                      3.44
	Test::More                     1.302195
	version                          0.9929

******************************** NOTE ********************************
The comments above are created mechanically, possibly without manual
checking by the sender.  As there are many people performing automatic
tests on each upload to CPAN, it is likely that you will receive
identical messages about the same problem.

If you believe that the message is mistaken, please reply to the first
one with correction and/or additional informations, and do not take
it personally.  We appreciate your patience. :)
**********************************************************************

Additional comments:


This report was machine-generated by CPANPLUS::Dist::YACSmoke 1.08.
Powered by minismokebox version 0.68

CPANPLUS is prefering Build.PL

------------------------------
ENVIRONMENT AND OTHER CONTEXT
------------------------------

Environment variables:

    AUTOMATED_TESTING = 1
    NONINTERACTIVE_TESTING = 1
    PATH = /home/cpan/pit/bare/conf/perl-5.22.4/.cpanplus/5.22.4/build/pnkbT81OvV/App-perlimports-0.000052/blib/script:/home/cpan/bin:/bin:/sbin:/usr/bin:/usr/sbin:/usr/X11R6/bin:/usr/local/bin:/usr/local/sbin
    PERL5LIB = /home/cpan/pit/jail/mM5m7_S2KX/lib/perl5:/home/cpan/pit/bare/conf/perl-5.22.4/.cpanplus/5.22.4/build/pnkbT81OvV/App-perlimports-0.000052/blib/lib:/home/cpan/pit/bare/conf/perl-5.22.4/.cpanplus/5.22.4/build/pnkbT81OvV/App-perlimports-0.000052/blib/arch
    PERL5_CPANPLUS_IS_RUNNING = 99682
    PERL5_CPANPLUS_IS_VERSION = 0.9914
    PERL5_MINISMOKEBOX = 0.68
    PERL5_YACSMOKE_BASE = /home/cpan/pit/bare/conf/perl-5.22.4
    PERL_EXTUTILS_AUTOINSTALL = --defaultdeps
    PERL_LOCAL_LIB_ROOT = /home/cpan/pit/jail/mM5m7_S2KX
    PERL_MB_OPT = --install_base "/home/cpan/pit/jail/mM5m7_S2KX"
    PERL_MM_OPT = INSTALL_BASE=/home/cpan/pit/jail/mM5m7_S2KX
    PERL_MM_USE_DEFAULT = 1
    SHELL = /usr/local/bin/bash
    TERM = screen.xterm-256color

Perl special variables (and OS-specific diagnostics, for MSWin32):

    Perl: $^X = /home/cpan/pit/bare/perl-5.22.4/bin/perl
    UID:  $<  = 1001
    EUID: $>  = 1001
    GID:  $(  = 1001 1001
    EGID: $)  = 1001 1001


-------------------------------


--

Summary of my perl5 (revision 5 version 22 subversion 4) configuration:
   
  Platform:
    osname=openbsd, osvers=7.3, archname=OpenBSD.amd64-openbsd
    uname='openbsd overture.bingosnet.co.uk 7.3 generic#1072 amd64 '
    config_args='-des -Dprefix=/home/cpan/pit/bare/perl-5.22.4'
    hint=recommended, useposix=true, d_sigaction=define
    useithreads=undef, usemultiplicity=undef
    use64bitint=define, use64bitall=define, uselongdouble=undef
    usemymalloc=n, bincompat5005=undef
  Compiler:
    cc='cc', ccflags ='-fno-strict-aliasing -pipe -fstack-protector-strong -I/usr/local/include',
    optimize='-O2',
    cppflags='-fno-strict-aliasing -pipe -fstack-protector-strong -I/usr/local/include'
    ccversion='', gccversion='OpenBSD Clang 13.0.0', gccosandvers=''
    intsize=4, longsize=8, ptrsize=8, doublesize=8, byteorder=12345678, doublekind=3
    d_longlong=define, longlongsize=8, d_longdbl=define, longdblsize=16, longdblkind=3
    ivtype='long', ivsize=8, nvtype='double', nvsize=8, Off_t='off_t', lseeksize=8
    alignbytes=8, prototype=define
  Linker and Libraries:
    ld='cc', ldflags ='-Wl,-E  -fstack-protector-strong -L/usr/local/lib'
    libpth=/usr/lib/clang/13.0.0/lib /usr/lib /usr/local/lib
    libs=-lpthread -lgdbm -lm -lutil -lc
    perllibs=-lpthread -lm -lutil -lc
    libc=/usr/lib/libc.so.97.0, so=so, useshrplib=false, libperl=libperl.a
    gnulibc_version=''
  Dynamic Linking:
    dlsrc=dl_dlopen.xs, dlext=so, d_dlsymun=undef, ccdlflags=' '
    cccdlflags='-DPIC -fPIC ', lddlflags='-shared -fPIC  -L/usr/local/lib -fstack-protector-strong'


Characteristics of this binary (from libperl): 
  Compile-time options: HAS_TIMES PERLIO_LAYERS PERL_DONT_CREATE_GVSV
                        PERL_HASH_FUNC_ONE_AT_A_TIME_HARD PERL_MALLOC_WRAP
                        PERL_NEW_COPY_ON_WRITE PERL_PRESERVE_IVUV
                        USE_64_BIT_ALL USE_64_BIT_INT USE_LARGE_FILES
                        USE_LOCALE USE_LOCALE_COLLATE USE_LOCALE_CTYPE
                        USE_LOCALE_NUMERIC USE_LOCALE_TIME USE_PERLIO
                        USE_PERL_ATOF
  Locally applied patches:
	Devel::PatchPerl 2.08
  Built under openbsd
  Compiled at May 29 2023 20:56:57
  %ENV:
    PERL5LIB="/home/cpan/pit/jail/mM5m7_S2KX/lib/perl5:/home/cpan/pit/bare/conf/perl-5.22.4/.cpanplus/5.22.4/build/pnkbT81OvV/App-perlimports-0.000052/blib/lib:/home/cpan/pit/bare/conf/perl-5.22.4/.cpanplus/5.22.4/build/pnkbT81OvV/App-perlimports-0.000052/blib/arch"
    PERL5_CPANPLUS_IS_RUNNING="99682"
    PERL5_CPANPLUS_IS_VERSION="0.9914"
    PERL5_MINISMOKEBOX="0.68"
    PERL5_YACSMOKE_BASE="/home/cpan/pit/bare/conf/perl-5.22.4"
    PERL_EXTUTILS_AUTOINSTALL="--defaultdeps"
    PERL_LOCAL_LIB_ROOT="/home/cpan/pit/jail/mM5m7_S2KX"
    PERL_MB_OPT="--install_base "/home/cpan/pit/jail/mM5m7_S2KX""
    PERL_MM_OPT="INSTALL_BASE=/home/cpan/pit/jail/mM5m7_S2KX"
    PERL_MM_USE_DEFAULT="1"
  @INC:
    /home/cpan/pit/jail/mM5m7_S2KX/lib/perl5/5.22.4/OpenBSD.amd64-openbsd
    /home/cpan/pit/jail/mM5m7_S2KX/lib/perl5/5.22.4
    /home/cpan/pit/jail/mM5m7_S2KX/lib/perl5/OpenBSD.amd64-openbsd
    /home/cpan/pit/jail/mM5m7_S2KX/lib/perl5
    /home/cpan/pit/bare/conf/perl-5.22.4/.cpanplus/5.22.4/build/pnkbT81OvV/App-perlimports-0.000052/blib/lib
    /home/cpan/pit/bare/conf/perl-5.22.4/.cpanplus/5.22.4/build/pnkbT81OvV/App-perlimports-0.000052/blib/arch
    /home/cpan/pit/bare/perl-5.22.4/lib/site_perl/5.22.4/OpenBSD.amd64-openbsd
    /home/cpan/pit/bare/perl-5.22.4/lib/site_perl/5.22.4
    /home/cpan/pit/bare/perl-5.22.4/lib/5.22.4/OpenBSD.amd64-openbsd
    /home/cpan/pit/bare/perl-5.22.4/lib/5.22.4
    .