Yancy v1.088 Perl 5 v5.32.1 x86_64-linux-thread-multi

Status
Pass
From
Slaven Rezić
Dist
Yancy v1.088
Platform
Perl 5 v5.32.1 x86_64-linux-thread-multi
Date
2022-03-26 09:19:35
ID
da6d9268-ace5-11ec-8a73-365c1f24ea8f
This distribution has been tested as part of the CPAN Testers
project, supporting the Perl programming language.  See
http://wiki.cpantesters.org/ for more information or email
questions to cpan-testers-discuss@perl.org


--
Dear Doug Bell,

This is a computer-generated report for Yancy-1.088
on perl 5.32.1, created by CPAN-Reporter-1.2018.

Thank you for uploading your work to CPAN.  Congratulations!
All tests were successful.

Sections of this report:

    * Tester comments
    * Program output
    * Prerequisites
    * Environment and other context

------------------------------
TESTER COMMENTS
------------------------------

Additional comments from tester:

none provided

------------------------------
PROGRAM OUTPUT
------------------------------

Output from '/usr/bin/make test':

Skip blib/lib/auto/share/dist/Yancy/update_resources.sh (unchanged)
PERL_DL_NONLAZY=1 "/usr/bin/perl5.32.1" "-MExtUtils::Command::MM" "-MTest::Harness" "-e" "undef *Test::Harness::Switches; test_harness(0, 'blib/lib', 'blib/arch')" t/*.t t/backend/*.t t/command/backend/*.t t/controller/*.t t/examples/*.t t/plugin/*.t t/plugin/auth/*.t t/plugin/form/*.t
t/00-compile.t ............... ok
# 
# Versions for all modules listed in MYMETA.json (including optional ones):
# 
# === Configure Requires ===
# 
#     Module                  Want Have
#     ----------------------- ---- ----
#     ExtUtils::MakeMaker      any 7.64
#     File::ShareDir::Install 0.06 0.13
# 
# === Configure Suggests ===
# 
#     Module      Want Have
#     -------- ------- ----
#     JSON::PP 2.27300 4.06
# 
# === Build Requires ===
# 
#     Module              Want Have
#     ------------------- ---- ----
#     ExtUtils::MakeMaker  any 7.64
# 
# === Test Requires ===
# 
#     Module                  Want     Have
#     ------------------- -------- --------
#     ExtUtils::MakeMaker      any     7.64
#     File::Spec               any     3.78
#     File::Temp            0.2307   0.2311
#     IO::Handle               any     1.42
#     IPC::Open3               any     1.21
#     Test::More          1.001005 1.302183
# 
# === Test Recommends ===
# 
#     Module         Want     Have
#     ---------- -------- --------
#     CPAN::Meta 2.120900 2.150010
# 
# === Runtime Requires ===
# 
#     Module                           Want     Have
#     ---------------------------- -------- --------
#     Class::Method::Modifiers          any     2.13
#     Digest                            any     1.20
#     Exporter                          any     5.74
#     File::Spec::Functions             any     3.78
#     FindBin                           any     1.51
#     JSON::Validator                  5.00     5.08
#     Mojolicious                         9     9.23
#     Mojolicious::Plugin::I18N         1.6      1.6
#     Mojolicious::Plugin::OpenAPI     5.00     5.05
#     Role::Tiny                   2.000001 2.002004
#     Scalar::Util                      any     1.56
#     Sys::Hostname                     any     1.23
#     Text::Balanced                    any     2.04
# 
t/00-report-prereqs.t ........ ok
x-view is deprecated and will be removed in v2. Use Yancy::Model or your database's CREATE VIEW instead. at /home/cpansand/.cpan/build/2022032607/Yancy-1.088-0/blib/lib/Yancy/Model/Schema.pm line 283.
t/api.t ...................... ok
t/app.t ...................... ok
t/backend/dbic.t ............. skipped: DBIx::Class >= 0.082842 required for this test
t/backend/memory.t ........... ok
t/backend/mysql.t ............ skipped: Mojo::mysql >= 1.0 required for this test
t/backend/pg.t ............... skipped: Mojo::Pg >= 3.0 required for this test
t/backend/sqlite.t ........... skipped: DBD::SQLite >= 1.56 required for this test
x-view is deprecated and will be removed in v2. Use Yancy::Model or your database's CREATE VIEW instead. at /home/cpansand/.cpan/build/2022032607/Yancy-1.088-0/blib/lib/Yancy/Model/Schema.pm line 283.
t/command/backend/copy.t ..... ok
x-view is deprecated and will be removed in v2. Use Yancy::Model or your database's CREATE VIEW instead. at /home/cpansand/.cpan/build/2022032607/Yancy-1.088-0/blib/lib/Yancy/Model/Schema.pm line 283.
t/config.t ................... ok
x-view is deprecated and will be removed in v2. Use Yancy::Model or your database's CREATE VIEW instead. at /home/cpansand/.cpan/build/2022032607/Yancy-1.088-0/blib/lib/Yancy/Model/Schema.pm line 283.
t/controller/multi_tenant.t .. ok
x-view is deprecated and will be removed in v2. Use Yancy::Model or your database's CREATE VIEW instead. at /home/cpansand/.cpan/build/2022032607/Yancy-1.088-0/blib/lib/Yancy/Model/Schema.pm line 283.
t/controller/yancy.t ......... ok
t/examples/doc-site.t ........ skipped: Set TEST_YANCY_EXAMPLES to run these tests
t/examples/limited-editor.t .. skipped: Set TEST_YANCY_EXAMPLES to run these tests
t/examples/test-app.t ........ skipped: Set TEST_YANCY_EXAMPLES to run these tests
t/examples/todo-app.t ........ skipped: Set TEST_YANCY_EXAMPLES to run these tests
x-view is deprecated and will be removed in v2. Use Yancy::Model or your database's CREATE VIEW instead. at /home/cpansand/.cpan/build/2022032607/Yancy-1.088-0/blib/lib/Yancy/Model/Schema.pm line 283.
[2022-03-26 08:03:48.67575] [1036754] [fatal] [L6dUpVHEeJRx] Unknown filter: DOES.NOT.EXIST (schema: user, field: email) at /home/cpansand/.cpan/build/2022032607/Yancy-1.088-0/blib/lib/Mojolicious/Plugin/Yancy.pm line 889.

t/filter.t ................... ok
x-view is deprecated and will be removed in v2. Use Yancy::Model or your database's CREATE VIEW instead. at /home/cpansand/.cpan/build/2022032607/Yancy-1.088-0/blib/lib/Yancy/Model/Schema.pm line 283.
t/helpers.t .................. ok
x-view is deprecated and will be removed in v2. Use Yancy::Model or your database's CREATE VIEW instead. at /home/cpansand/.cpan/build/2022032607/Yancy-1.088-0/blib/lib/Yancy/Model/Schema.pm line 283.
t/i18n.t ..................... ok
t/model.t .................... ok
x-view is deprecated and will be removed in v2. Use Yancy::Model or your database's CREATE VIEW instead. at /home/cpansand/.cpan/build/2022032607/Yancy-1.088-0/blib/lib/Yancy/Model/Schema.pm line 283.
t/plugin/auth.t .............. ok
x-view is deprecated and will be removed in v2. Use Yancy::Model or your database's CREATE VIEW instead. at /home/cpansand/.cpan/build/2022032607/Yancy-1.088-0/blib/lib/Yancy/Model/Schema.pm line 283.
The Auth::Basic plugin is deprecated and will be removed in Yancy v2.000. Please migrate to the Auth::Password module.
 at /home/cpansand/.cpan/build/2022032607/Yancy-1.088-0/blib/lib/Yancy/Plugin/Auth/Basic.pm line 256.
t/plugin/auth/basic.t ........ ok
x-view is deprecated and will be removed in v2. Use Yancy::Model or your database's CREATE VIEW instead. at /home/cpansand/.cpan/build/2022032607/Yancy-1.088-0/blib/lib/Yancy/Model/Schema.pm line 283.
t/plugin/auth/github.t ....... ok
x-view is deprecated and will be removed in v2. Use Yancy::Model or your database's CREATE VIEW instead. at /home/cpansand/.cpan/build/2022032607/Yancy-1.088-0/blib/lib/Yancy/Model/Schema.pm line 283.
t/plugin/auth/oauth2.t ....... ok
x-view is deprecated and will be removed in v2. Use Yancy::Model or your database's CREATE VIEW instead. at /home/cpansand/.cpan/build/2022032607/Yancy-1.088-0/blib/lib/Yancy/Model/Schema.pm line 283.
t/plugin/auth/password.t ..... ok
x-view is deprecated and will be removed in v2. Use Yancy::Model or your database's CREATE VIEW instead. at /home/cpansand/.cpan/build/2022032607/Yancy-1.088-0/blib/lib/Yancy/Model/Schema.pm line 283.
t/plugin/auth/token.t ........ ok
t/plugin/editor.t ............ ok
x-view is deprecated and will be removed in v2. Use Yancy::Model or your database's CREATE VIEW instead. at /home/cpansand/.cpan/build/2022032607/Yancy-1.088-0/blib/lib/Yancy/Model/Schema.pm line 283.
[2022-03-26 08:04:01.58953] [1036766] [warn] *** Cannot verify that admin editor is behind authentication.
Add a Yancy Auth plugin, add a `route` to the Yancy plugin config,
or set `editor.require_user => undef` to silence this warning

t/plugin/file.t .............. ok
x-view is deprecated and will be removed in v2. Use Yancy::Model or your database's CREATE VIEW instead. at /home/cpansand/.cpan/build/2022032607/Yancy-1.088-0/blib/lib/Yancy/Model/Schema.pm line 283.
[2022-03-26 08:04:02.83347] [1036767] [warn] [FZWtU8Z7gsfd] form_for() called with incomplete request. CSRF token may not validate!
t/plugin/form/bootstrap4.t ... ok
x-view is deprecated and will be removed in v2. Use Yancy::Model or your database's CREATE VIEW instead. at /home/cpansand/.cpan/build/2022032607/Yancy-1.088-0/blib/lib/Yancy/Model/Schema.pm line 283.
t/plugin/roles.t ............. ok
    # Could not load SQLite backend: DBD::SQLite version 1.56 or higher required
    # BEGIN failed--compilation aborted at /home/cpansand/.cpan/build/2022032607/Yancy-1.088-0/blib/lib/Yancy/Backend/Sqlite.pm line 116.
    # Compilation failed in require at t/register.t line 21.
    # Could not load Pg backend: Mojo::Pg version 4.03 or higher required
    # BEGIN failed--compilation aborted at /home/cpansand/.cpan/build/2022032607/Yancy-1.088-0/blib/lib/Yancy/Backend/Pg.pm line 128.
    # Compilation failed in require at t/register.t line 37.
    # Could not load Mysql backend: Mojo::mysql version 1.05 or higher required
    # BEGIN failed--compilation aborted at /home/cpansand/.cpan/build/2022032607/Yancy-1.088-0/blib/lib/Yancy/Backend/Mysql.pm line 119.
    # Compilation failed in require at t/register.t line 53.
t/register.t ................. ok
t/util.t ..................... ok
All tests successful.
Files=33, Tests=203, 45 wallclock secs ( 0.67 usr  0.14 sys + 36.41 cusr  4.78 csys = 42.00 CPU)
Result: PASS

------------------------------
PREREQUISITES
------------------------------

Prerequisite modules loaded:

requires:

    Module                       Need     Have    
    ---------------------------- -------- --------
    Class::Method::Modifiers     0        2.13    
    Digest                       0        1.20    
    Exporter                     0        5.74    
    File::Spec::Functions        0        3.78    
    FindBin                      0        1.51    
    JSON::Validator              5.00     5.08    
    Mojolicious                  9        9.23    
    Mojolicious::Plugin::I18N    1.6      1.6     
    Mojolicious::Plugin::OpenAPI 5.00     5.05    
    perl                         5.016    5.032001
    Role::Tiny                   2.000001 2.002004
    Scalar::Util                 0        1.56    
    Sys::Hostname                0        1.23    
    Text::Balanced               0        2.04    

build_requires:

    Module                       Need     Have    
    ---------------------------- -------- --------
    ExtUtils::MakeMaker          0        7.64    
    File::Spec                   0        3.78    
    File::Temp                   0.2307   0.2311  
    IO::Handle                   0        1.42    
    IPC::Open3                   0        1.21    
    Test::More                   1.001005 1.302183

configure_requires:

    Module                       Need     Have    
    ---------------------------- -------- --------
    ExtUtils::MakeMaker          0        7.64    
    File::ShareDir::Install      0.06     0.13    


------------------------------
ENVIRONMENT AND OTHER CONTEXT
------------------------------

Environment variables:

    LANG = en_US.UTF-8
    PATH = /usr/local/bin:/usr/bin:/bin:/usr/local/sbin:/usr/sbin:/sbin:/home/cpansand/bin/linux-gnu:/home/cpansand/bin/sh:/home/cpansand/bin:/usr/games:/home/cpansand/devel:/home/eserte/src/srezic-misc/scripts
    PERL5LIB = /home/cpansand/.cpan/build/2022032607/Mojolicious-Plugin-I18N-1.6-0/blib/arch:/home/cpansand/.cpan/build/2022032607/Mojolicious-Plugin-I18N-1.6-0/blib/lib:/home/cpansand/.cpan/build/2022032607/File-ShareDir-Install-0.13-1/blib/arch:/home/cpansand/.cpan/build/2022032607/File-ShareDir-Install-0.13-1/blib/lib:/home/cpansand/.cpan/build/2022032607/Mojolicious-Plugin-OpenAPI-5.05-0/blib/arch:/home/cpansand/.cpan/build/2022032607/Mojolicious-Plugin-OpenAPI-5.05-0/blib/lib:/home/cpansand/.cpan/build/2022032607/JSON-Validator-5.08-0/blib/arch:/home/cpansand/.cpan/build/2022032607/JSON-Validator-5.08-0/blib/lib:/home/cpansand/.cpan/build/2022032607/YAML-LibYAML-0.83-0/blib/arch:/home/cpansand/.cpan/build/2022032607/YAML-LibYAML-0.83-0/blib/lib:/home/cpansand/.cpan/build/2022032607/Test-Deep-1.130-1/blib/arch:/home/cpansand/.cpan/build/2022032607/Test-Deep-1.130-1/blib/lib:/home/cpansand/.cpan/build/2022032607/Mojolicious-9.23-0/blib/arch:/home/cpansand/.cpan/build/2022032607/Mojolicious-9.23-0/blib/lib
    PERL5OPT = 
    PERL5_CPANPLUS_IS_RUNNING = 1035364
    PERL5_CPAN_IS_RUNNING = 1035364
    PERL5_CPAN_IS_RUNNING_IN_RECURSION = 1035145,1035364
    PERLDOC = -MPod::Perldoc::ToTextOverstrike
    PERL_BATCH = yes
    PERL_CANARY_STABILITY_NOPROMPT = 1
    PERL_CPAN_REPORTER_CONFIG = /var/tmp/cpansmoker-1023/2022032607/cpanreporter_001_config.ini
    PERL_EXTUTILS_AUTOINSTALL = --defaultdeps
    PERL_USE_UNSAFE_INC = 1
    SHELL = /usr/bin/zsh
    TERM = screen
    TMPDIR = /var/tmp/cpansmoker-1023/2022032607

Perl special variables (and OS-specific diagnostics, for MSWin32):

    $^X = /usr/bin/perl5.32.1
    $UID/$EUID = 1023 / 1023
    $GID = 1023 1023
    $EGID = 1023 1023

Perl module toolchain versions installed:

    Module              Have    
    ------------------- --------
    CPAN                2.29    
    CPAN::Meta          2.150010
    Cwd                 3.78    
    ExtUtils::CBuilder  0.280236
    ExtUtils::Command   7.64    
    ExtUtils::Install   2.20    
    ExtUtils::MakeMaker 7.64    
    ExtUtils::Manifest  1.73    
    ExtUtils::ParseXS   3.40    
    File::Spec          3.78    
    JSON                4.03    
    JSON::PP            4.06    
    Module::Build       0.4231  
    Module::Signature   n/a     
    Parse::CPAN::Meta   2.150010
    Test::Harness       3.42    
    Test::More          1.302183
    YAML                n/a     
    YAML::Syck          1.34    
    version             0.9929  


--

Summary of my perl5 (revision 5 version 32 subversion 1) configuration:
   
  Platform:
    osname=linux
    osvers=5.12.8-300.fc34.x86_64
    archname=x86_64-linux-thread-multi
    uname='linux buildvm-x86-18.iad2.fedoraproject.org 5.12.8-300.fc34.x86_64 #1 smp fri may 28 15:20:54 utc 2021 x86_64 x86_64 x86_64 gnulinux '
    config_args='-des -Doptimize=none -Dccflags=-O2 -flto=auto -ffat-lto-objects -fexceptions -g -grecord-gcc-switches -pipe -Wall -Werror=format-security -Wp,-D_FORTIFY_SOURCE=2 -Wp,-D_GLIBCXX_ASSERTIONS -specs=/usr/lib/rpm/redhat/redhat-hardened-cc1 -fstack-protector-strong -specs=/usr/lib/rpm/redhat/redhat-annobin-cc1  -m64  -mtune=generic -fasynchronous-unwind-tables -fstack-clash-protection -fcf-protection -Dldflags=-Wl,-z,relro -Wl,--as-needed  -Wl,-z,now -specs=/usr/lib/rpm/redhat/redhat-hardened-ld  -Dccdlflags=-Wl,--enable-new-dtags -Wl,-z,relro -Wl,--as-needed  -Wl,-z,now -specs=/usr/lib/rpm/redhat/redhat-hardened-ld  -Dlddlflags=-shared -Wl,-z,relro -Wl,--as-needed  -Wl,-z,now -specs=/usr/lib/rpm/redhat/redhat-hardened-ld  -Dshrpdir=/usr/lib64 -DDEBUGGING=-g -Dversion=5.32.1 -Dmyhostname=localhost -Dperladmin=root@localhost -Dcc=gcc -Dcf_by=Red Hat, Inc. -Dprefix=/usr -Dvendorprefix=/usr -Dsiteprefix=/usr/local -Dsitelib=/usr/local/share/perl5/5.32 -Dsitearch=/usr/local/lib64/perl5/5.32 -Dprivlib=/usr/share/perl5 -Dvendorlib=/usr/share/perl5/vendor_perl -Darchlib=/usr/lib64/perl5 -Dvendorarch=/usr/lib64/perl5/vendor_perl -Darchname=x86_64-linux-thread-multi -Dlibpth=/usr/local/lib64 /lib64 /usr/lib64 -Duseshrplib -Dusethreads -Duseithreads -Dusedtrace=/usr/bin/dtrace -Duselargefiles -Dd_semctl_semun -Di_db -Ui_ndbm -Di_gdbm -Di_shadow -Di_syslog -Dman3ext=3pm -Duseperlio -Dinstallusrbinperl=n -Ubincompat5005 -Uversiononly -Dpager=/usr/bin/less -isr -Dd_gethostent_r_proto -Ud_endhostent_r_proto -Ud_sethostent_r_proto -Ud_endprotoent_r_proto -Ud_setprotoent_r_proto -Ud_endservent_r_proto -Ud_setservent_r_proto -Dscriptdir=/usr/bin -Dusesitecustomize -Duse64bitint'
    hint=recommended
    useposix=true
    d_sigaction=define
    useithreads=define
    usemultiplicity=define
    use64bitint=define
    use64bitall=define
    uselongdouble=undef
    usemymalloc=n
    default_inc_excludes_dot=define
    bincompat5005=undef
  Compiler:
    cc='gcc'
    ccflags ='-D_REENTRANT -D_GNU_SOURCE -O2 -flto=auto -ffat-lto-objects -fexceptions -g -grecord-gcc-switches -pipe -Wall -Werror=format-security -Wp,-D_FORTIFY_SOURCE=2 -Wp,-D_GLIBCXX_ASSERTIONS -specs=/usr/lib/rpm/redhat/redhat-hardened-cc1 -fstack-protector-strong -specs=/usr/lib/rpm/redhat/redhat-annobin-cc1 -m64 -mtune=generic -fasynchronous-unwind-tables -fstack-clash-protection -fcf-protection -fwrapv -fno-strict-aliasing -I/usr/local/include -D_LARGEFILE_SOURCE -D_FILE_OFFSET_BITS=64'
    optimize='  -g'
    cppflags='-D_REENTRANT -D_GNU_SOURCE -O2 -flto=auto -ffat-lto-objects -fexceptions -g -grecord-gcc-switches -pipe -Wall -Werror=format-security -Wp,-D_FORTIFY_SOURCE=2 -Wp,-D_GLIBCXX_ASSERTIONS -specs=/usr/lib/rpm/redhat/redhat-hardened-cc1 -fstack-protector-strong -specs=/usr/lib/rpm/redhat/redhat-annobin-cc1 -m64 -mtune=generic -fasynchronous-unwind-tables -fstack-clash-protection -fcf-protection -fwrapv -fno-strict-aliasing -I/usr/local/include'
    ccversion=''
    gccversion='11.1.1 20210531 (Red Hat 11.1.1-3)'
    gccosandvers=''
    intsize=4
    longsize=8
    ptrsize=8
    doublesize=8
    byteorder=12345678
    doublekind=3
    d_longlong=define
    longlongsize=8
    d_longdbl=define
    longdblsize=16
    longdblkind=3
    ivtype='long'
    ivsize=8
    nvtype='double'
    nvsize=8
    Off_t='off_t'
    lseeksize=8
    alignbytes=8
    prototype=define
  Linker and Libraries:
    ld='gcc'
    ldflags ='-Wl,-z,relro -Wl,--as-needed -Wl,-z,now -specs=/usr/lib/rpm/redhat/redhat-hardened-ld  -fstack-protector-strong -L/usr/local/lib'
    libpth=/usr/local/lib64 /lib64 /usr/lib64 /usr/local/lib /usr/lib /lib/../lib64 /usr/lib/../lib64 /lib
    libs=-lpthread -lresolv -lgdbm -ldb -ldl -lm -lcrypt -lutil -lc -lgdbm_compat
    perllibs=-lpthread -lresolv -ldl -lm -lcrypt -lutil -lc
    libc=libc-2.33.so
    so=so
    useshrplib=true
    libperl=libperl.so
    gnulibc_version='2.33'
  Dynamic Linking:
    dlsrc=dl_dlopen.xs
    dlext=so
    d_dlsymun=undef
    ccdlflags='-Wl,--enable-new-dtags -Wl,-z,relro -Wl,--as-needed -Wl,-z,now -specs=/usr/lib/rpm/redhat/redhat-hardened-ld '
    cccdlflags='-fPIC'
    lddlflags='-lpthread -shared -Wl,-z,relro -Wl,--as-needed -Wl,-z,now -specs=/usr/lib/rpm/redhat/redhat-hardened-ld  -L/usr/local/lib -fstack-protector-strong'


Characteristics of this binary (from libperl): 
  Compile-time options:
    HAS_TIMES
    MULTIPLICITY
    PERLIO_LAYERS
    PERL_COPY_ON_WRITE
    PERL_DONT_CREATE_GVSV
    PERL_IMPLICIT_CONTEXT
    PERL_MALLOC_WRAP
    PERL_OP_PARENT
    PERL_PRESERVE_IVUV
    USE_64_BIT_ALL
    USE_64_BIT_INT
    USE_ITHREADS
    USE_LARGE_FILES
    USE_LOCALE
    USE_LOCALE_COLLATE
    USE_LOCALE_CTYPE
    USE_LOCALE_NUMERIC
    USE_LOCALE_TIME
    USE_PERLIO
    USE_PERL_ATOF
    USE_REENTRANT_API
    USE_SITECUSTOMIZE
    USE_THREAD_SAFE_LOCALE
  Locally applied patches:
    Fedora Patch1: Removes date check, Fedora/RHEL specific
    Fedora Patch2: support for libdir64
    Fedora Patch3: use libresolv instead of libbind
    Fedora Patch4: USE_MM_LD_RUN_PATH
    Fedora Patch5: Provide MM::maybe_command independently (bug #1129443)
    Fedora Patch6: Dont run one io test due to random builder failures
    Fedora Patch8: Define SONAME for libperl.so
    Fedora Patch9: Install libperl.so to -Dshrpdir value
    Fedora Patch10: Make *DBM_File desctructors thread-safe (RT#61912)
    Fedora Patch11: Replace EU::MakeMaker dependency with EU::MM::Utils in IPC::Cmd (bug #1129443)
    Fedora Patch12: Link XS modules to pthread library to fix linking with -z defs
    Fedora Patch13: Pass the correct CFLAGS to dtrace
    Fedora Patch14: Do not use C compiler reserved identifiers
    Fedora Patch15: Fix SvUV_nomg() macro definition
    Fedora Patch16: Fix SvTRUE() documentation
    Fedora Patch17: Fix ext/XS-APItest/t/utf8_warn_base.pl tests
    Fedora Patch18: Fix IO::Handle::error() to report write errors (GH#6799)
    Fedora Patch19: Fix IO::Handle::error() to report write errors (GH#6799)
    Fedora Patch21: Fix setting a non-blocking mode in IO::Socket::UNIX (GH#17787)
    Fedora Patch22: Fix running actions after stepping in a debugger (GH#17901)
    Fedora Patch23: Fix running actions after stepping in a debugger (GH#17901)
    Fedora Patch24: Fix running actions after stepping in a debugger (GH#17901)
    Fedora Patch25: Fix a buffer size for asctime_r() and ctime_r() functions
    Fedora Patch26: Prevent from an integer overflow in RenewDouble() macro
    Fedora Patch28: Fix a number of arguments passed to a BOOT XS subroutine (GH#17755)
    Fedora Patch29: Fix an IO::Handle spurious error reported for regular file handles (GH#18019)
    Fedora Patch30: Fix inheritance resolution of lexial objects in a debugger (GH#17661)
    Fedora Patch35: Fix sorting with a block that calls return (GH#18081)
    Fedora Patch38: Fix sv_collxfrm macro to respect locale
    Fedora Patch39: Fix an iterator signedness in handling an mro exception (GH#18155)
    Fedora Patch40: Fix a code flow in Perl_sv_inc_nomg()
    Fedora Patch41: Fix an undefined behavior in Perl_custom_op_get_field()
    Fedora Patch42: Fix Config variable names in in t/op tests
    Fedora Patch43: Fix fetching a magic on the stacked file test operators
    Fedora Patch44: Fix a crash in optimizing split() (GH#18232)
    Fedora Patch45: Fix a crash in optimizing split() (GH#18232)
    Fedora Patch46: Fix a crash in optimizing split() (GH#18232)
    Fedora Patch47: Fix a crash in optimizing split() (GH#18232)
    Fedora Patch48: Make accessing environment by DynaLoader thread-safe
    Fedora Patch49: Use duplocale() if available
    Fedora Patch50: Fix fc() in Turkish locale
    Fedora Patch51: Fix croaking on "my $_" when "use utf8" is in effect (GH#18449)
    Fedora Patch52: Fix PERL_UNUSED_ARG() definition in XSUB.h
    Fedora Patch53: Add missing entries to perldiag (GH#18276)
    Fedora Patch54: Protect locale tests from LANGUAGE environment variable
    Fedora Patch55: Prevent the number of buckets in a hash from getting too large
    Fedora Patch56: Fix a memory leak when compiling a regular expression (GH#18604)
    Fedora Patch57: Fix dumping a hash entry of PL_strtab type
    Fedora Patch57: Fix an arithmetic left shift of a minimal integer value (GH#18639)
    Fedora Patch200: Link XS modules to libperl.so with EU::CBuilder on Linux
    Fedora Patch201: Link XS modules to libperl.so with EU::MM on Linux
  Built under linux
  Compiled at Jun 23 2021 00:00:00
  %ENV:
    PERL5LIB="/home/cpansand/.cpan/build/2022032607/Mojolicious-Plugin-I18N-1.6-0/blib/arch:/home/cpansand/.cpan/build/2022032607/Mojolicious-Plugin-I18N-1.6-0/blib/lib:/home/cpansand/.cpan/build/2022032607/File-ShareDir-Install-0.13-1/blib/arch:/home/cpansand/.cpan/build/2022032607/File-ShareDir-Install-0.13-1/blib/lib:/home/cpansand/.cpan/build/2022032607/Mojolicious-Plugin-OpenAPI-5.05-0/blib/arch:/home/cpansand/.cpan/build/2022032607/Mojolicious-Plugin-OpenAPI-5.05-0/blib/lib:/home/cpansand/.cpan/build/2022032607/JSON-Validator-5.08-0/blib/arch:/home/cpansand/.cpan/build/2022032607/JSON-Validator-5.08-0/blib/lib:/home/cpansand/.cpan/build/2022032607/YAML-LibYAML-0.83-0/blib/arch:/home/cpansand/.cpan/build/2022032607/YAML-LibYAML-0.83-0/blib/lib:/home/cpansand/.cpan/build/2022032607/Test-Deep-1.130-1/blib/arch:/home/cpansand/.cpan/build/2022032607/Test-Deep-1.130-1/blib/lib:/home/cpansand/.cpan/build/2022032607/Mojolicious-9.23-0/blib/arch:/home/cpansand/.cpan/build/2022032607/Mojolicious-9.23-0/blib/lib"
    PERL5OPT=""
    PERL5_CPANPLUS_IS_RUNNING="1035364"
    PERL5_CPAN_IS_RUNNING="1035364"
    PERL5_CPAN_IS_RUNNING_IN_RECURSION="1035145,1035364"
    PERLDOC="-MPod::Perldoc::ToTextOverstrike"
    PERL_BATCH="yes"
    PERL_CANARY_STABILITY_NOPROMPT="1"
    PERL_CPAN_REPORTER_CONFIG="/var/tmp/cpansmoker-1023/2022032607/cpanreporter_001_config.ini"
    PERL_EXTUTILS_AUTOINSTALL="--defaultdeps"
    PERL_USE_UNSAFE_INC="1"
  @INC:
    /home/cpansand/.cpan/build/2022032607/Mojolicious-Plugin-I18N-1.6-0/blib/arch
    /home/cpansand/.cpan/build/2022032607/Mojolicious-Plugin-I18N-1.6-0/blib/lib
    /home/cpansand/.cpan/build/2022032607/File-ShareDir-Install-0.13-1/blib/arch
    /home/cpansand/.cpan/build/2022032607/File-ShareDir-Install-0.13-1/blib/lib
    /home/cpansand/.cpan/build/2022032607/Mojolicious-Plugin-OpenAPI-5.05-0/blib/arch
    /home/cpansand/.cpan/build/2022032607/Mojolicious-Plugin-OpenAPI-5.05-0/blib/lib
    /home/cpansand/.cpan/build/2022032607/JSON-Validator-5.08-0/blib/arch
    /home/cpansand/.cpan/build/2022032607/JSON-Validator-5.08-0/blib/lib
    /home/cpansand/.cpan/build/2022032607/YAML-LibYAML-0.83-0/blib/arch
    /home/cpansand/.cpan/build/2022032607/YAML-LibYAML-0.83-0/blib/lib
    /home/cpansand/.cpan/build/2022032607/Test-Deep-1.130-1/blib/arch
    /home/cpansand/.cpan/build/2022032607/Test-Deep-1.130-1/blib/lib
    /home/cpansand/.cpan/build/2022032607/Mojolicious-9.23-0/blib/arch
    /home/cpansand/.cpan/build/2022032607/Mojolicious-9.23-0/blib/lib
    /usr/local/lib64/perl5/5.32
    /usr/local/share/perl5/5.32
    /usr/lib64/perl5/vendor_perl
    /usr/share/perl5/vendor_perl
    /usr/lib64/perl5
    /usr/share/perl5
    .